BEGIN:VCALENDAR
VERSION:2.0
PRODID:-//Club de Tir Saint-Tite - ECPv6.15.20//NONSGML v1.0//EN
CALSCALE:GREGORIAN
METHOD:PUBLISH
X-WR-CALNAME:Club de Tir Saint-Tite
X-ORIGINAL-URL:https://clubdetirsaint-tite.ca
X-WR-CALDESC:Évènements pour Club de Tir Saint-Tite
REFRESH-INTERVAL;VALUE=DURATION:PT1H
X-Robots-Tag:noindex
X-PUBLISHED-TTL:PT1H
BEGIN:VTIMEZONE
TZID:America/Toronto
BEGIN:DAYLIGHT
TZOFFSETFROM:-0500
TZOFFSETTO:-0400
TZNAME:EDT
DTSTART:20250309T070000
END:DAYLIGHT
BEGIN:STANDARD
TZOFFSETFROM:-0400
TZOFFSETTO:-0500
TZNAME:EST
DTSTART:20251102T060000
END:STANDARD
BEGIN:DAYLIGHT
TZOFFSETFROM:-0500
TZOFFSETTO:-0400
TZNAME:EDT
DTSTART:20260308T070000
END:DAYLIGHT
BEGIN:STANDARD
TZOFFSETFROM:-0400
TZOFFSETTO:-0500
TZNAME:EST
DTSTART:20261101T060000
END:STANDARD
BEGIN:DAYLIGHT
TZOFFSETFROM:-0500
TZOFFSETTO:-0400
TZNAME:EDT
DTSTART:20270314T070000
END:DAYLIGHT
BEGIN:STANDARD
TZOFFSETFROM:-0400
TZOFFSETTO:-0500
TZNAME:EST
DTSTART:20271107T060000
END:STANDARD
END:VTIMEZONE
BEGIN:VEVENT
DTSTART;TZID=America/Toronto:20260131T104300
DTEND;TZID=America/Toronto:20260131T120000
DTSTAMP:20260422T183804
CREATED:20260209T151631Z
LAST-MODIFIED:20260209T151631Z
UID:10004442-1769856180-1769860800@clubdetirsaint-tite.ca
SUMMARY:101840 _ TIREUR
DESCRIPTION:
URL:https://clubdetirsaint-tite.ca/event/101840-_-tireur-3/
CATEGORIES:PRÉSENCES
END:VEVENT
BEGIN:VEVENT
DTSTART;TZID=America/Toronto:20260131T104400
DTEND;TZID=America/Toronto:20260131T120700
DTSTAMP:20260422T183804
CREATED:20260209T151647Z
LAST-MODIFIED:20260209T151647Z
UID:10004449-1769856240-1769861220@clubdetirsaint-tite.ca
SUMMARY:102975 _ TIREUR
DESCRIPTION:
URL:https://clubdetirsaint-tite.ca/event/102975-_-tireur/
CATEGORIES:PRÉSENCES
END:VEVENT
BEGIN:VEVENT
DTSTART;TZID=America/Toronto:20260131T104700
DTEND;TZID=America/Toronto:20260131T120700
DTSTAMP:20260422T183804
CREATED:20260209T151647Z
LAST-MODIFIED:20260209T151647Z
UID:10004448-1769856420-1769861220@clubdetirsaint-tite.ca
SUMMARY:102636 _ TIREUR
DESCRIPTION:
URL:https://clubdetirsaint-tite.ca/event/102636-_-tireur/
CATEGORIES:PRÉSENCES
END:VEVENT
BEGIN:VEVENT
DTSTART;TZID=America/Toronto:20260131T104800
DTEND;TZID=America/Toronto:20260131T120700
DTSTAMP:20260422T183804
CREATED:20260209T151646Z
LAST-MODIFIED:20260209T151646Z
UID:10004447-1769856480-1769861220@clubdetirsaint-tite.ca
SUMMARY:103048 _ TIREUR
DESCRIPTION:
URL:https://clubdetirsaint-tite.ca/event/103048-_-tireur/
CATEGORIES:PRÉSENCES
END:VEVENT
BEGIN:VEVENT
DTSTART;TZID=America/Toronto:20260131T104900
DTEND;TZID=America/Toronto:20260131T105000
DTSTAMP:20260422T183804
CREATED:20260209T151629Z
LAST-MODIFIED:20260209T151629Z
UID:10004438-1769856540-1769856600@clubdetirsaint-tite.ca
SUMMARY:100392 _ OFFICIEL
DESCRIPTION:
URL:https://clubdetirsaint-tite.ca/event/100392-_-officiel-2/
CATEGORIES:PRÉSENCES
END:VEVENT
BEGIN:VEVENT
DTSTART;TZID=America/Toronto:20260131T105000
DTEND;TZID=America/Toronto:20260131T105100
DTSTAMP:20260422T183804
CREATED:20260209T151629Z
LAST-MODIFIED:20260209T151629Z
UID:10004439-1769856600-1769856660@clubdetirsaint-tite.ca
SUMMARY:101496 _ OFFICIEL
DESCRIPTION:
URL:https://clubdetirsaint-tite.ca/event/101496-_-officiel-11/
CATEGORIES:PRÉSENCES
END:VEVENT
BEGIN:VEVENT
DTSTART;TZID=America/Toronto:20260131T105100
DTEND;TZID=America/Toronto:20260131T120600
DTSTAMP:20260422T183804
CREATED:20260209T151646Z
LAST-MODIFIED:20260209T151646Z
UID:10004446-1769856660-1769861160@clubdetirsaint-tite.ca
SUMMARY:101496 _ TIREUR
DESCRIPTION:
URL:https://clubdetirsaint-tite.ca/event/101496-_-tireur-6/
CATEGORIES:PRÉSENCES
END:VEVENT
BEGIN:VEVENT
DTSTART;TZID=America/Toronto:20260131T105300
DTEND;TZID=America/Toronto:20260131T120600
DTSTAMP:20260422T183804
CREATED:20260209T151646Z
LAST-MODIFIED:20260209T151646Z
UID:10004445-1769856780-1769861160@clubdetirsaint-tite.ca
SUMMARY:100392 _ TIREUR
DESCRIPTION:
URL:https://clubdetirsaint-tite.ca/event/100392-_-tireur-2/
CATEGORIES:PRÉSENCES
END:VEVENT
BEGIN:VEVENT
DTSTART;TZID=America/Toronto:20260131T111300
DTEND;TZID=America/Toronto:20260131T114800
DTSTAMP:20260422T183804
CREATED:20260209T151630Z
LAST-MODIFIED:20260209T151630Z
UID:10004440-1769857980-1769860080@clubdetirsaint-tite.ca
SUMMARY:101901 _ TIREUR
DESCRIPTION:
URL:https://clubdetirsaint-tite.ca/event/101901-_-tireur-2/
CATEGORIES:PRÉSENCES
END:VEVENT
BEGIN:VEVENT
DTSTART;TZID=America/Toronto:20260131T113600
DTEND;TZID=America/Toronto:20260131T120400
DTSTAMP:20260422T183804
CREATED:20260209T151631Z
LAST-MODIFIED:20260209T151631Z
UID:10004443-1769859360-1769861040@clubdetirsaint-tite.ca
SUMMARY:100306 _ TIREUR
DESCRIPTION:
URL:https://clubdetirsaint-tite.ca/event/100306-_-tireur/
CATEGORIES:PRÉSENCES
END:VEVENT
BEGIN:VEVENT
DTSTART;TZID=America/Toronto:20260131T114000
DTEND;TZID=America/Toronto:20260131T120400
DTSTAMP:20260422T183804
CREATED:20260209T151631Z
LAST-MODIFIED:20260209T151631Z
UID:10004444-1769859600-1769861040@clubdetirsaint-tite.ca
SUMMARY:100305 _ TIREUR
DESCRIPTION:
URL:https://clubdetirsaint-tite.ca/event/100305-_-tireur/
CATEGORIES:PRÉSENCES
END:VEVENT
BEGIN:VEVENT
DTSTART;TZID=America/Toronto:20260201T104100
DTEND;TZID=America/Toronto:20260201T120500
DTSTAMP:20260422T183804
CREATED:20260209T151701Z
LAST-MODIFIED:20260209T151701Z
UID:10004452-1769942460-1769947500@clubdetirsaint-tite.ca
SUMMARY:100849 _ TIREUR
DESCRIPTION:
URL:https://clubdetirsaint-tite.ca/event/100849-_-tireur-3/
CATEGORIES:PRÉSENCES
END:VEVENT
BEGIN:VEVENT
DTSTART;TZID=America/Toronto:20260201T104100
DTEND;TZID=America/Toronto:20260201T120500
DTSTAMP:20260422T183804
CREATED:20260209T151702Z
LAST-MODIFIED:20260209T151702Z
UID:10004453-1769942460-1769947500@clubdetirsaint-tite.ca
SUMMARY:100850 _ OFFICIEL
DESCRIPTION:
URL:https://clubdetirsaint-tite.ca/event/100850-_-officiel-6/
CATEGORIES:PRÉSENCES
END:VEVENT
BEGIN:VEVENT
DTSTART;TZID=America/Toronto:20260201T105400
DTEND;TZID=America/Toronto:20260201T120500
DTSTAMP:20260422T183804
CREATED:20260209T151701Z
LAST-MODIFIED:20260209T151701Z
UID:10004451-1769943240-1769947500@clubdetirsaint-tite.ca
SUMMARY:101154 _ TIREUR
DESCRIPTION:
URL:https://clubdetirsaint-tite.ca/event/101154-_-tireur-10/
CATEGORIES:PRÉSENCES
END:VEVENT
BEGIN:VEVENT
DTSTART;TZID=America/Toronto:20260225T111800
DTEND;TZID=America/Toronto:20260225T133400
DTSTAMP:20260422T183804
CREATED:20260306T133023Z
LAST-MODIFIED:20260306T133023Z
UID:10004511-1772018280-1772026440@clubdetirsaint-tite.ca
SUMMARY:101781 _ OFFICIEL
DESCRIPTION:
URL:https://clubdetirsaint-tite.ca/event/101781-_-officiel-11/
CATEGORIES:PRÉSENCES
END:VEVENT
BEGIN:VEVENT
DTSTART;TZID=America/Toronto:20260225T113600
DTEND;TZID=America/Toronto:20260225T124500
DTSTAMP:20260422T183804
CREATED:20260306T133023Z
LAST-MODIFIED:20260306T133023Z
UID:10004510-1772019360-1772023500@clubdetirsaint-tite.ca
SUMMARY:102284 _ TIREUR
DESCRIPTION:
URL:https://clubdetirsaint-tite.ca/event/102284-_-tireur-3/
CATEGORIES:PRÉSENCES
END:VEVENT
BEGIN:VEVENT
DTSTART;TZID=America/Toronto:20260304T111900
DTEND;TZID=America/Toronto:20260304T140000
DTSTAMP:20260422T183804
CREATED:20260306T133024Z
LAST-MODIFIED:20260306T133024Z
UID:10004514-1772623140-1772632800@clubdetirsaint-tite.ca
SUMMARY:101713 _ OFFICIEL
DESCRIPTION:
URL:https://clubdetirsaint-tite.ca/event/101713-_-officiel-73/
CATEGORIES:PRÉSENCES
END:VEVENT
BEGIN:VEVENT
DTSTART;TZID=America/Toronto:20260304T112300
DTEND;TZID=America/Toronto:20260304T130100
DTSTAMP:20260422T183804
CREATED:20260306T133024Z
LAST-MODIFIED:20260306T133024Z
UID:10004512-1772623380-1772629260@clubdetirsaint-tite.ca
SUMMARY:100072 _ TIREUR
DESCRIPTION:
URL:https://clubdetirsaint-tite.ca/event/100072-_-tireur-69/
CATEGORIES:PRÉSENCES
END:VEVENT
BEGIN:VEVENT
DTSTART;TZID=America/Toronto:20260304T130200
DTEND;TZID=America/Toronto:20260304T140000
DTSTAMP:20260422T183804
CREATED:20260306T133024Z
LAST-MODIFIED:20260306T133024Z
UID:10004513-1772629320-1772632800@clubdetirsaint-tite.ca
SUMMARY:100142 _ TIREUR
DESCRIPTION:
URL:https://clubdetirsaint-tite.ca/event/100142-_-tireur-12/
CATEGORIES:PRÉSENCES
END:VEVENT
BEGIN:VEVENT
DTSTART;TZID=America/Toronto:20260304T130700
DTEND;TZID=America/Toronto:20260304T140100
DTSTAMP:20260422T183804
CREATED:20260306T133025Z
LAST-MODIFIED:20260306T133025Z
UID:10004515-1772629620-1772632860@clubdetirsaint-tite.ca
SUMMARY:100442 _ TIREUR
DESCRIPTION:
URL:https://clubdetirsaint-tite.ca/event/100442-_-tireur-7/
CATEGORIES:PRÉSENCES
END:VEVENT
BEGIN:VEVENT
DTSTART;TZID=America/Toronto:20260304T140000
DTEND;TZID=America/Toronto:20260304T150100
DTSTAMP:20260422T183804
CREATED:20260306T133026Z
LAST-MODIFIED:20260306T133026Z
UID:10004516-1772632800-1772636460@clubdetirsaint-tite.ca
SUMMARY:100142 _ OFFICIEL
DESCRIPTION:
URL:https://clubdetirsaint-tite.ca/event/100142-_-officiel-6/
CATEGORIES:PRÉSENCES
END:VEVENT
BEGIN:VEVENT
DTSTART;TZID=America/Toronto:20260305T125600
DTEND;TZID=America/Toronto:20260305T150000
DTSTAMP:20260422T183804
CREATED:20260314T122301Z
LAST-MODIFIED:20260314T122301Z
UID:10004529-1772715360-1772722800@clubdetirsaint-tite.ca
SUMMARY:101095 _ OFFICIEL
DESCRIPTION:
URL:https://clubdetirsaint-tite.ca/event/101095-_-officiel-3/
CATEGORIES:PRÉSENCES
END:VEVENT
BEGIN:VEVENT
DTSTART;TZID=America/Toronto:20260305T131700
DTEND;TZID=America/Toronto:20260305T134500
DTSTAMP:20260422T183804
CREATED:20260314T122301Z
LAST-MODIFIED:20260314T122301Z
UID:10004527-1772716620-1772718300@clubdetirsaint-tite.ca
SUMMARY:101453 _ TIREUR
DESCRIPTION:
URL:https://clubdetirsaint-tite.ca/event/101453-_-tireur-2/
CATEGORIES:PRÉSENCES
END:VEVENT
BEGIN:VEVENT
DTSTART;TZID=America/Toronto:20260305T134300
DTEND;TZID=America/Toronto:20260305T145500
DTSTAMP:20260422T183804
CREATED:20260314T122301Z
LAST-MODIFIED:20260314T122301Z
UID:10004528-1772718180-1772722500@clubdetirsaint-tite.ca
SUMMARY:100040 _ TIREUR
DESCRIPTION:
URL:https://clubdetirsaint-tite.ca/event/100040-_-tireur-2/
CATEGORIES:PRÉSENCES
END:VEVENT
BEGIN:VEVENT
DTSTART;TZID=America/Toronto:20260307T090200
DTEND;TZID=America/Toronto:20260307T103300
DTSTAMP:20260422T183804
CREATED:20260314T122303Z
LAST-MODIFIED:20260314T122303Z
UID:10004532-1772874120-1772879580@clubdetirsaint-tite.ca
SUMMARY:101031 _ OFFICIEL
DESCRIPTION:
URL:https://clubdetirsaint-tite.ca/event/101031-_-officiel-16/
CATEGORIES:PRÉSENCES
END:VEVENT
BEGIN:VEVENT
DTSTART;TZID=America/Toronto:20260307T094000
DTEND;TZID=America/Toronto:20260307T095900
DTSTAMP:20260422T183804
CREATED:20260314T122301Z
LAST-MODIFIED:20260314T122301Z
UID:10004530-1772876400-1772877540@clubdetirsaint-tite.ca
SUMMARY:101258 _ TIREUR
DESCRIPTION:
URL:https://clubdetirsaint-tite.ca/event/101258-_-tireur-2/
CATEGORIES:PRÉSENCES
END:VEVENT
BEGIN:VEVENT
DTSTART;TZID=America/Toronto:20260307T094100
DTEND;TZID=America/Toronto:20260307T102900
DTSTAMP:20260422T183804
CREATED:20260314T122301Z
LAST-MODIFIED:20260314T122301Z
UID:10004531-1772876460-1772879340@clubdetirsaint-tite.ca
SUMMARY:100706 _ TIREUR
DESCRIPTION:
URL:https://clubdetirsaint-tite.ca/event/100706-_-tireur-24/
CATEGORIES:PRÉSENCES
END:VEVENT
BEGIN:VEVENT
DTSTART;TZID=America/Toronto:20260307T102900
DTEND;TZID=America/Toronto:20260307T115900
DTSTAMP:20260422T183804
CREATED:20260314T122303Z
LAST-MODIFIED:20260314T122303Z
UID:10004534-1772879340-1772884740@clubdetirsaint-tite.ca
SUMMARY:100706 _ OFFICIEL
DESCRIPTION:
URL:https://clubdetirsaint-tite.ca/event/100706-_-officiel-26/
CATEGORIES:PRÉSENCES
END:VEVENT
BEGIN:VEVENT
DTSTART;TZID=America/Toronto:20260307T103300
DTEND;TZID=America/Toronto:20260307T115900
DTSTAMP:20260422T183804
CREATED:20260314T122303Z
LAST-MODIFIED:20260314T122303Z
UID:10004533-1772879580-1772884740@clubdetirsaint-tite.ca
SUMMARY:101031 _ TIREUR
DESCRIPTION:
URL:https://clubdetirsaint-tite.ca/event/101031-_-tireur-25/
CATEGORIES:PRÉSENCES
END:VEVENT
BEGIN:VEVENT
DTSTART;TZID=America/Toronto:20260307T122800
DTEND;TZID=America/Toronto:20260307T143900
DTSTAMP:20260422T183804
CREATED:20260314T122308Z
LAST-MODIFIED:20260314T122308Z
UID:10004540-1772886480-1772894340@clubdetirsaint-tite.ca
SUMMARY:100137 _ OFFICIEL
DESCRIPTION:
URL:https://clubdetirsaint-tite.ca/event/100137-_-officiel-12/
CATEGORIES:PRÉSENCES
END:VEVENT
END:VCALENDAR