BEGIN:VCALENDAR
VERSION:2.0
PRODID:-//Club de Tir Saint-Tite - ECPv6.15.20//NONSGML v1.0//EN
CALSCALE:GREGORIAN
METHOD:PUBLISH
X-ORIGINAL-URL:https://clubdetirsaint-tite.ca
X-WR-CALDESC:Évènements pour Club de Tir Saint-Tite
REFRESH-INTERVAL;VALUE=DURATION:PT1H
X-Robots-Tag:noindex
X-PUBLISHED-TTL:PT1H
BEGIN:VTIMEZONE
TZID:America/Toronto
BEGIN:DAYLIGHT
TZOFFSETFROM:-0500
TZOFFSETTO:-0400
TZNAME:EDT
DTSTART:20250309T070000
END:DAYLIGHT
BEGIN:STANDARD
TZOFFSETFROM:-0400
TZOFFSETTO:-0500
TZNAME:EST
DTSTART:20251102T060000
END:STANDARD
BEGIN:DAYLIGHT
TZOFFSETFROM:-0500
TZOFFSETTO:-0400
TZNAME:EDT
DTSTART:20260308T070000
END:DAYLIGHT
BEGIN:STANDARD
TZOFFSETFROM:-0400
TZOFFSETTO:-0500
TZNAME:EST
DTSTART:20261101T060000
END:STANDARD
BEGIN:DAYLIGHT
TZOFFSETFROM:-0500
TZOFFSETTO:-0400
TZNAME:EDT
DTSTART:20270314T070000
END:DAYLIGHT
BEGIN:STANDARD
TZOFFSETFROM:-0400
TZOFFSETTO:-0500
TZNAME:EST
DTSTART:20271107T060000
END:STANDARD
END:VTIMEZONE
BEGIN:VEVENT
DTSTART;TZID=America/Toronto:20260418T093800
DTEND;TZID=America/Toronto:20260418T113400
DTSTAMP:20260422T184020
CREATED:20260419T223821Z
LAST-MODIFIED:20260419T223821Z
UID:10004829-1776505080-1776512040@clubdetirsaint-tite.ca
SUMMARY:101031 _ TIREUR
DESCRIPTION:
URL:https://clubdetirsaint-tite.ca/event/101031-_-tireur-26/
CATEGORIES:PRÉSENCES
END:VEVENT
BEGIN:VEVENT
DTSTART;TZID=America/Toronto:20260418T132900
DTEND;TZID=America/Toronto:20260418T151300
DTSTAMP:20260422T184020
CREATED:20260419T223821Z
LAST-MODIFIED:20260419T223821Z
UID:10004830-1776518940-1776525180@clubdetirsaint-tite.ca
SUMMARY:100520 _ TIREUR
DESCRIPTION:
URL:https://clubdetirsaint-tite.ca/event/100520-_-tireur-3/
CATEGORIES:PRÉSENCES
END:VEVENT
BEGIN:VEVENT
DTSTART;TZID=America/Toronto:20260419T123900
DTEND;TZID=America/Toronto:20260419T145100
DTSTAMP:20260422T184020
CREATED:20260421T155011Z
LAST-MODIFIED:20260421T155011Z
UID:10004842-1776602340-1776610260@clubdetirsaint-tite.ca
SUMMARY:102608 _ OFFICIEL
DESCRIPTION:
URL:https://clubdetirsaint-tite.ca/event/102608-_-officiel-34/
CATEGORIES:PRÉSENCES
END:VEVENT
BEGIN:VEVENT
DTSTART;TZID=America/Toronto:20260419T124000
DTEND;TZID=America/Toronto:20260419T132200
DTSTAMP:20260422T184020
CREATED:20260421T154953Z
LAST-MODIFIED:20260421T154953Z
UID:10004833-1776602400-1776604920@clubdetirsaint-tite.ca
SUMMARY:101568 _ TIREUR
DESCRIPTION:
URL:https://clubdetirsaint-tite.ca/event/101568-_-tireur-3/
CATEGORIES:PRÉSENCES
END:VEVENT
BEGIN:VEVENT
DTSTART;TZID=America/Toronto:20260419T124200
DTEND;TZID=America/Toronto:20260419T131200
DTSTAMP:20260422T184020
CREATED:20260421T154953Z
LAST-MODIFIED:20260421T154953Z
UID:10004831-1776602520-1776604320@clubdetirsaint-tite.ca
SUMMARY:100952 _ TIREUR
DESCRIPTION:
URL:https://clubdetirsaint-tite.ca/event/100952-_-tireur-3/
CATEGORIES:PRÉSENCES
END:VEVENT
BEGIN:VEVENT
DTSTART;TZID=America/Toronto:20260419T124200
DTEND;TZID=America/Toronto:20260419T145100
DTSTAMP:20260422T184020
CREATED:20260421T155010Z
LAST-MODIFIED:20260421T155010Z
UID:10004841-1776602520-1776610260@clubdetirsaint-tite.ca
SUMMARY:102609 _ TIREUR
DESCRIPTION:
URL:https://clubdetirsaint-tite.ca/event/102609-_-tireur-17/
CATEGORIES:PRÉSENCES
END:VEVENT
BEGIN:VEVENT
DTSTART;TZID=America/Toronto:20260419T124400
DTEND;TZID=America/Toronto:20260419T131300
DTSTAMP:20260422T184020
CREATED:20260421T154953Z
LAST-MODIFIED:20260421T154953Z
UID:10004832-1776602640-1776604380@clubdetirsaint-tite.ca
SUMMARY:101610 _ TIREUR
DESCRIPTION:
URL:https://clubdetirsaint-tite.ca/event/101610-_-tireur-2/
CATEGORIES:PRÉSENCES
END:VEVENT
BEGIN:VEVENT
DTSTART;TZID=America/Toronto:20260419T125000
DTEND;TZID=America/Toronto:20260419T144300
DTSTAMP:20260422T184020
CREATED:20260421T154955Z
LAST-MODIFIED:20260421T154955Z
UID:10004840-1776603000-1776609780@clubdetirsaint-tite.ca
SUMMARY:102693 _ OFFICIEL
DESCRIPTION:
URL:https://clubdetirsaint-tite.ca/event/102693-_-officiel-6/
CATEGORIES:PRÉSENCES
END:VEVENT
BEGIN:VEVENT
DTSTART;TZID=America/Toronto:20260419T125500
DTEND;TZID=America/Toronto:20260419T141600
DTSTAMP:20260422T184020
CREATED:20260421T154955Z
LAST-MODIFIED:20260421T154955Z
UID:10004837-1776603300-1776608160@clubdetirsaint-tite.ca
SUMMARY:101858 _ TIREUR
DESCRIPTION:
URL:https://clubdetirsaint-tite.ca/event/101858-_-tireur/
CATEGORIES:PRÉSENCES
END:VEVENT
BEGIN:VEVENT
DTSTART;TZID=America/Toronto:20260419T130800
DTEND;TZID=America/Toronto:20260419T132500
DTSTAMP:20260422T184020
CREATED:20260421T154953Z
LAST-MODIFIED:20260421T154953Z
UID:10004834-1776604080-1776605100@clubdetirsaint-tite.ca
SUMMARY:102764 _ TIREUR
DESCRIPTION:
URL:https://clubdetirsaint-tite.ca/event/102764-_-tireur-2/
CATEGORIES:PRÉSENCES
END:VEVENT
BEGIN:VEVENT
DTSTART;TZID=America/Toronto:20260419T131700
DTEND;TZID=America/Toronto:20260419T140600
DTSTAMP:20260422T184020
CREATED:20260421T154954Z
LAST-MODIFIED:20260421T154954Z
UID:10004835-1776604620-1776607560@clubdetirsaint-tite.ca
SUMMARY:100418 _ TIREUR
DESCRIPTION:
URL:https://clubdetirsaint-tite.ca/event/100418-_-tireur-2/
CATEGORIES:PRÉSENCES
END:VEVENT
BEGIN:VEVENT
DTSTART;TZID=America/Toronto:20260419T131800
DTEND;TZID=America/Toronto:20260419T141500
DTSTAMP:20260422T184020
CREATED:20260421T154955Z
LAST-MODIFIED:20260421T154955Z
UID:10004836-1776604680-1776608100@clubdetirsaint-tite.ca
SUMMARY:102616 _ TIREUR
DESCRIPTION:
URL:https://clubdetirsaint-tite.ca/event/102616-_-tireur-23/
CATEGORIES:PRÉSENCES
END:VEVENT
BEGIN:VEVENT
DTSTART;TZID=America/Toronto:20260419T133000
DTEND;TZID=America/Toronto:20260419T144300
DTSTAMP:20260422T184020
CREATED:20260421T154955Z
LAST-MODIFIED:20260421T154955Z
UID:10004839-1776605400-1776609780@clubdetirsaint-tite.ca
SUMMARY:100987 _ TIREUR
DESCRIPTION:
URL:https://clubdetirsaint-tite.ca/event/100987-_-tireur-2/
CATEGORIES:PRÉSENCES
END:VEVENT
BEGIN:VEVENT
DTSTART;TZID=America/Toronto:20260419T134400
DTEND;TZID=America/Toronto:20260419T143200
DTSTAMP:20260422T184020
CREATED:20260421T154955Z
LAST-MODIFIED:20260421T154955Z
UID:10004838-1776606240-1776609120@clubdetirsaint-tite.ca
SUMMARY:100203 _ TIREUR
DESCRIPTION:
URL:https://clubdetirsaint-tite.ca/event/100203-_-tireur-2/
CATEGORIES:PRÉSENCES
END:VEVENT
BEGIN:VEVENT
DTSTART;TZID=America/Toronto:20260420T123400
DTEND;TZID=America/Toronto:20260420T154700
DTSTAMP:20260422T184020
CREATED:20260421T155011Z
LAST-MODIFIED:20260421T155011Z
UID:10004844-1776688440-1776700020@clubdetirsaint-tite.ca
SUMMARY:100548 _ OFFICIEL
DESCRIPTION:
URL:https://clubdetirsaint-tite.ca/event/100548-_-officiel-64/
CATEGORIES:PRÉSENCES
END:VEVENT
BEGIN:VEVENT
DTSTART;TZID=America/Toronto:20260420T133400
DTEND;TZID=America/Toronto:20260420T142700
DTSTAMP:20260422T184020
CREATED:20260421T155011Z
LAST-MODIFIED:20260421T155011Z
UID:10004843-1776692040-1776695220@clubdetirsaint-tite.ca
SUMMARY:102351 _ TIREUR
DESCRIPTION:
URL:https://clubdetirsaint-tite.ca/event/102351-_-tireur-10/
CATEGORIES:PRÉSENCES
END:VEVENT
END:VCALENDAR