BEGIN:VCALENDAR
VERSION:2.0
PRODID:-//Club de Tir Saint-Tite - ECPv6.15.20//NONSGML v1.0//EN
CALSCALE:GREGORIAN
METHOD:PUBLISH
X-ORIGINAL-URL:https://clubdetirsaint-tite.ca
X-WR-CALDESC:Évènements pour Club de Tir Saint-Tite
REFRESH-INTERVAL;VALUE=DURATION:PT1H
X-Robots-Tag:noindex
X-PUBLISHED-TTL:PT1H
BEGIN:VTIMEZONE
TZID:America/Toronto
BEGIN:DAYLIGHT
TZOFFSETFROM:-0500
TZOFFSETTO:-0400
TZNAME:EDT
DTSTART:20240310T070000
END:DAYLIGHT
BEGIN:STANDARD
TZOFFSETFROM:-0400
TZOFFSETTO:-0500
TZNAME:EST
DTSTART:20241103T060000
END:STANDARD
BEGIN:DAYLIGHT
TZOFFSETFROM:-0500
TZOFFSETTO:-0400
TZNAME:EDT
DTSTART:20250309T070000
END:DAYLIGHT
BEGIN:STANDARD
TZOFFSETFROM:-0400
TZOFFSETTO:-0500
TZNAME:EST
DTSTART:20251102T060000
END:STANDARD
BEGIN:DAYLIGHT
TZOFFSETFROM:-0500
TZOFFSETTO:-0400
TZNAME:EDT
DTSTART:20260308T070000
END:DAYLIGHT
BEGIN:STANDARD
TZOFFSETFROM:-0400
TZOFFSETTO:-0500
TZNAME:EST
DTSTART:20261101T060000
END:STANDARD
END:VTIMEZONE
BEGIN:VEVENT
DTSTART;TZID=America/Toronto:20251011T125800
DTEND;TZID=America/Toronto:20251011T134900
DTSTAMP:20260422T200049
CREATED:20251114T223211Z
LAST-MODIFIED:20251114T223211Z
UID:10004162-1760187480-1760190540@clubdetirsaint-tite.ca
SUMMARY:101729 _ TIREUR
DESCRIPTION:
URL:https://clubdetirsaint-tite.ca/event/101729-_-tireur-6/
CATEGORIES:PRÉSENCES
END:VEVENT
BEGIN:VEVENT
DTSTART;TZID=America/Toronto:20251011T125700
DTEND;TZID=America/Toronto:20251011T134900
DTSTAMP:20260422T200049
CREATED:20251114T223211Z
LAST-MODIFIED:20251114T223211Z
UID:10004161-1760187420-1760190540@clubdetirsaint-tite.ca
SUMMARY:101728 _ TIREUR
DESCRIPTION:
URL:https://clubdetirsaint-tite.ca/event/101728-_-tireur-8/
CATEGORIES:PRÉSENCES
END:VEVENT
BEGIN:VEVENT
DTSTART;TZID=America/Toronto:20251011T125700
DTEND;TZID=America/Toronto:20251011T125800
DTSTAMP:20260422T200049
CREATED:20251114T223210Z
LAST-MODIFIED:20251114T223210Z
UID:10004158-1760187420-1760187480@clubdetirsaint-tite.ca
SUMMARY:101729 _ OFFICIEL
DESCRIPTION:
URL:https://clubdetirsaint-tite.ca/event/101729-_-officiel/
CATEGORIES:PRÉSENCES
END:VEVENT
BEGIN:VEVENT
DTSTART;TZID=America/Toronto:20251011T124800
DTEND;TZID=America/Toronto:20251011T132000
DTSTAMP:20260422T200049
CREATED:20251114T223211Z
LAST-MODIFIED:20251114T223211Z
UID:10004159-1760186880-1760188800@clubdetirsaint-tite.ca
SUMMARY:102410 _ TIREUR
DESCRIPTION:
URL:https://clubdetirsaint-tite.ca/event/102410-_-tireur-2/
CATEGORIES:PRÉSENCES
END:VEVENT
BEGIN:VEVENT
DTSTART;TZID=America/Toronto:20251011T123200
DTEND;TZID=America/Toronto:20251011T132200
DTSTAMP:20260422T200049
CREATED:20251114T223211Z
LAST-MODIFIED:20251114T223211Z
UID:10004160-1760185920-1760188920@clubdetirsaint-tite.ca
SUMMARY:101656 _ TIREUR
DESCRIPTION:
URL:https://clubdetirsaint-tite.ca/event/101656-_-tireur-2/
CATEGORIES:PRÉSENCES
END:VEVENT
BEGIN:VEVENT
DTSTART;TZID=America/Toronto:20251011T122800
DTEND;TZID=America/Toronto:20251011T140300
DTSTAMP:20260422T200049
CREATED:20251114T223213Z
LAST-MODIFIED:20251114T223213Z
UID:10004164-1760185680-1760191380@clubdetirsaint-tite.ca
SUMMARY:101713 _ OFFICIEL
DESCRIPTION:
URL:https://clubdetirsaint-tite.ca/event/101713-_-officiel-57/
CATEGORIES:PRÉSENCES
END:VEVENT
BEGIN:VEVENT
DTSTART;TZID=America/Toronto:20251010T110200
DTEND;TZID=America/Toronto:20251010T113600
DTSTAMP:20260422T200049
CREATED:20251019T215836Z
LAST-MODIFIED:20251019T215836Z
UID:10004141-1760094120-1760096160@clubdetirsaint-tite.ca
SUMMARY:100259 _ TIREUR
DESCRIPTION:
URL:https://clubdetirsaint-tite.ca/event/100259-_-tireur-2/
CATEGORIES:PRÉSENCES
END:VEVENT
BEGIN:VEVENT
DTSTART;TZID=America/Toronto:20251010T110100
DTEND;TZID=America/Toronto:20251010T113700
DTSTAMP:20260422T200049
CREATED:20251019T215836Z
LAST-MODIFIED:20251019T215836Z
UID:10004142-1760094060-1760096220@clubdetirsaint-tite.ca
SUMMARY:100800 _ TIREUR
DESCRIPTION:
URL:https://clubdetirsaint-tite.ca/event/100800-_-tireur-2/
CATEGORIES:PRÉSENCES
END:VEVENT
BEGIN:VEVENT
DTSTART;TZID=America/Toronto:20251010T105900
DTEND;TZID=America/Toronto:20251010T114100
DTSTAMP:20260422T200049
CREATED:20251019T215836Z
LAST-MODIFIED:20251019T215836Z
UID:10004143-1760093940-1760096460@clubdetirsaint-tite.ca
SUMMARY:101713 _ OFFICIEL
DESCRIPTION:
URL:https://clubdetirsaint-tite.ca/event/101713-_-officiel-56/
CATEGORIES:PRÉSENCES
END:VEVENT
BEGIN:VEVENT
DTSTART;TZID=America/Toronto:20251008T134100
DTEND;TZID=America/Toronto:20251008T150400
DTSTAMP:20260422T200049
CREATED:20251019T215836Z
LAST-MODIFIED:20251019T215836Z
UID:10004140-1759930860-1759935840@clubdetirsaint-tite.ca
SUMMARY:100137 _ OFFICIEL
DESCRIPTION:
URL:https://clubdetirsaint-tite.ca/event/100137-_-officiel-11/
CATEGORIES:PRÉSENCES
END:VEVENT
BEGIN:VEVENT
DTSTART;TZID=America/Toronto:20251006T081600
DTEND;TZID=America/Toronto:20251006T111100
DTSTAMP:20260422T200049
CREATED:20251019T215836Z
LAST-MODIFIED:20251019T215836Z
UID:10004139-1759738560-1759749060@clubdetirsaint-tite.ca
SUMMARY:102948 _ OFFICIEL
DESCRIPTION:
URL:https://clubdetirsaint-tite.ca/event/102948-_-officiel/
CATEGORIES:PRÉSENCES
END:VEVENT
BEGIN:VEVENT
DTSTART;TZID=America/Toronto:20251005T094200
DTEND;TZID=America/Toronto:20251005T095900
DTSTAMP:20260422T200049
CREATED:20251019T215821Z
LAST-MODIFIED:20251019T215821Z
UID:10004136-1759657320-1759658340@clubdetirsaint-tite.ca
SUMMARY:100211 _ TIREUR
DESCRIPTION:
URL:https://clubdetirsaint-tite.ca/event/100211-_-tireur-4/
CATEGORIES:PRÉSENCES
END:VEVENT
BEGIN:VEVENT
DTSTART;TZID=America/Toronto:20251005T093200
DTEND;TZID=America/Toronto:20251005T095900
DTSTAMP:20260422T200049
CREATED:20251019T215821Z
LAST-MODIFIED:20251019T215821Z
UID:10004138-1759656720-1759658340@clubdetirsaint-tite.ca
SUMMARY:100225 _ TIREUR
DESCRIPTION:
URL:https://clubdetirsaint-tite.ca/event/100225-_-tireur-2/
CATEGORIES:PRÉSENCES
END:VEVENT
BEGIN:VEVENT
DTSTART;TZID=America/Toronto:20251005T093000
DTEND;TZID=America/Toronto:20251005T095900
DTSTAMP:20260422T200049
CREATED:20251019T215821Z
LAST-MODIFIED:20251019T215821Z
UID:10004137-1759656600-1759658340@clubdetirsaint-tite.ca
SUMMARY:101759 _ OFFICIEL
DESCRIPTION:
URL:https://clubdetirsaint-tite.ca/event/101759-_-officiel-2/
CATEGORIES:PRÉSENCES
END:VEVENT
BEGIN:VEVENT
DTSTART;TZID=America/Toronto:20251005T084800
DTEND;TZID=America/Toronto:20251005T093000
DTSTAMP:20260422T200049
CREATED:20251019T215821Z
LAST-MODIFIED:20251019T215821Z
UID:10004134-1759654080-1759656600@clubdetirsaint-tite.ca
SUMMARY:101759 _ OFFICIEL
DESCRIPTION:
URL:https://clubdetirsaint-tite.ca/event/101759-_-officiel/
CATEGORIES:PRÉSENCES
END:VEVENT
BEGIN:VEVENT
DTSTART;TZID=America/Toronto:20251005T084800
DTEND;TZID=America/Toronto:20251005T093000
DTSTAMP:20260422T200049
CREATED:20251019T215806Z
LAST-MODIFIED:20251019T215806Z
UID:10004133-1759654080-1759656600@clubdetirsaint-tite.ca
SUMMARY:100211 _ TIREUR
DESCRIPTION:
URL:https://clubdetirsaint-tite.ca/event/100211-_-tireur-3/
CATEGORIES:PRÉSENCES
END:VEVENT
BEGIN:VEVENT
DTSTART;TZID=America/Toronto:20251005T083200
DTEND;TZID=America/Toronto:20251005T093200
DTSTAMP:20260422T200049
CREATED:20251019T215821Z
LAST-MODIFIED:20251019T215821Z
UID:10004135-1759653120-1759656720@clubdetirsaint-tite.ca
SUMMARY:101760 _ TIREUR
DESCRIPTION:
URL:https://clubdetirsaint-tite.ca/event/101760-_-tireur-2/
CATEGORIES:PRÉSENCES
END:VEVENT
BEGIN:VEVENT
DTSTART;TZID=America/Toronto:20251005T083100
DTEND;TZID=America/Toronto:20251005T084800
DTSTAMP:20260422T200049
CREATED:20251019T215806Z
LAST-MODIFIED:20251019T215806Z
UID:10004132-1759653060-1759654080@clubdetirsaint-tite.ca
SUMMARY:101759 _ TIREUR
DESCRIPTION:
URL:https://clubdetirsaint-tite.ca/event/101759-_-tireur-2/
CATEGORIES:PRÉSENCES
END:VEVENT
BEGIN:VEVENT
DTSTART;TZID=America/Toronto:20251005T082500
DTEND;TZID=America/Toronto:20251005T084800
DTSTAMP:20260422T200049
CREATED:20251019T215806Z
LAST-MODIFIED:20251019T215806Z
UID:10004131-1759652700-1759654080@clubdetirsaint-tite.ca
SUMMARY:100211 _ OFFICIEL
DESCRIPTION:
URL:https://clubdetirsaint-tite.ca/event/100211-_-officiel-4/
CATEGORIES:PRÉSENCES
END:VEVENT
BEGIN:VEVENT
DTSTART;TZID=America/Toronto:20251004T125200
DTEND;TZID=America/Toronto:20251004T171000
DTSTAMP:20260422T200049
CREATED:20251019T215751Z
LAST-MODIFIED:20251019T215751Z
UID:10004125-1759582320-1759597800@clubdetirsaint-tite.ca
SUMMARY:101874 _ TIREUR
DESCRIPTION:
URL:https://clubdetirsaint-tite.ca/event/101874-_-tireur-4/
CATEGORIES:PRÉSENCES
END:VEVENT
BEGIN:VEVENT
DTSTART;TZID=America/Toronto:20251004T101400
DTEND;TZID=America/Toronto:20251005T083000
DTSTAMP:20260422T200049
CREATED:20251019T215806Z
LAST-MODIFIED:20251019T215806Z
UID:10004130-1759572840-1759653000@clubdetirsaint-tite.ca
SUMMARY:102609 _ TIREUR
DESCRIPTION:
URL:https://clubdetirsaint-tite.ca/event/102609-_-tireur-14/
CATEGORIES:PRÉSENCES
END:VEVENT
BEGIN:VEVENT
DTSTART;TZID=America/Toronto:20251004T101300
DTEND;TZID=America/Toronto:20251005T083000
DTSTAMP:20260422T200049
CREATED:20251019T215806Z
LAST-MODIFIED:20251019T215806Z
UID:10004129-1759572780-1759653000@clubdetirsaint-tite.ca
SUMMARY:102608 _ TIREUR
DESCRIPTION:
URL:https://clubdetirsaint-tite.ca/event/102608-_-tireur-29/
CATEGORIES:PRÉSENCES
END:VEVENT
BEGIN:VEVENT
DTSTART;TZID=America/Toronto:20251004T100300
DTEND;TZID=America/Toronto:20251005T083000
DTSTAMP:20260422T200049
CREATED:20251019T215751Z
LAST-MODIFIED:20251019T215751Z
UID:10004128-1759572180-1759653000@clubdetirsaint-tite.ca
SUMMARY:102616 _ TIREUR
DESCRIPTION:
URL:https://clubdetirsaint-tite.ca/event/102616-_-tireur-20/
CATEGORIES:PRÉSENCES
END:VEVENT
BEGIN:VEVENT
DTSTART;TZID=America/Toronto:20251004T075100
DTEND;TZID=America/Toronto:20251005T083000
DTSTAMP:20260422T200049
CREATED:20251019T215751Z
LAST-MODIFIED:20251019T215751Z
UID:10004127-1759564260-1759653000@clubdetirsaint-tite.ca
SUMMARY:102872 _ OFFICIEL
DESCRIPTION:
URL:https://clubdetirsaint-tite.ca/event/102872-_-officiel/
CATEGORIES:PRÉSENCES
END:VEVENT
BEGIN:VEVENT
DTSTART;TZID=America/Toronto:20251004T074600
DTEND;TZID=America/Toronto:20251004T144100
DTSTAMP:20260422T200049
CREATED:20251019T215750Z
LAST-MODIFIED:20251019T215750Z
UID:10004124-1759563960-1759588860@clubdetirsaint-tite.ca
SUMMARY:100818 _ TIREUR
DESCRIPTION:
URL:https://clubdetirsaint-tite.ca/event/100818-_-tireur-18/
CATEGORIES:PRÉSENCES
END:VEVENT
BEGIN:VEVENT
DTSTART;TZID=America/Toronto:20251004T073500
DTEND;TZID=America/Toronto:20251004T173100
DTSTAMP:20260422T200049
CREATED:20251019T215751Z
LAST-MODIFIED:20251019T215751Z
UID:10004126-1759563300-1759599060@clubdetirsaint-tite.ca
SUMMARY:101028 _ OFFICIEL
DESCRIPTION:
URL:https://clubdetirsaint-tite.ca/event/101028-_-officiel-7/
CATEGORIES:PRÉSENCES
END:VEVENT
BEGIN:VEVENT
DTSTART;TZID=America/Toronto:20251002T181100
DTEND;TZID=America/Toronto:20251002T200100
DTSTAMP:20260422T200049
CREATED:20251019T215736Z
LAST-MODIFIED:20251019T215736Z
UID:10004122-1759428660-1759435260@clubdetirsaint-tite.ca
SUMMARY:102608 _ TIREUR
DESCRIPTION:
URL:https://clubdetirsaint-tite.ca/event/102608-_-tireur-28/
CATEGORIES:PRÉSENCES
END:VEVENT
BEGIN:VEVENT
DTSTART;TZID=America/Toronto:20251002T181000
DTEND;TZID=America/Toronto:20251002T200100
DTSTAMP:20260422T200049
CREATED:20251019T215736Z
LAST-MODIFIED:20251019T215736Z
UID:10004123-1759428600-1759435260@clubdetirsaint-tite.ca
SUMMARY:102616 _ OFFICIEL
DESCRIPTION:
URL:https://clubdetirsaint-tite.ca/event/102616-_-officiel-16/
CATEGORIES:PRÉSENCES
END:VEVENT
BEGIN:VEVENT
DTSTART;TZID=America/Toronto:20251001T141500
DTEND;TZID=America/Toronto:20251001T150500
DTSTAMP:20260422T200049
CREATED:20251019T215721Z
LAST-MODIFIED:20251019T215721Z
UID:10004118-1759328100-1759331100@clubdetirsaint-tite.ca
SUMMARY:100162 _ TIREUR
DESCRIPTION:
URL:https://clubdetirsaint-tite.ca/event/100162-_-tireur-3/
CATEGORIES:PRÉSENCES
END:VEVENT
BEGIN:VEVENT
DTSTART;TZID=America/Toronto:20251001T140500
DTEND;TZID=America/Toronto:20251001T150600
DTSTAMP:20260422T200049
CREATED:20251019T215736Z
LAST-MODIFIED:20251019T215736Z
UID:10004119-1759327500-1759331160@clubdetirsaint-tite.ca
SUMMARY:100814 _ TIREUR
DESCRIPTION:
URL:https://clubdetirsaint-tite.ca/event/100814-_-tireur-5/
CATEGORIES:PRÉSENCES
END:VEVENT
END:VCALENDAR