BEGIN:VCALENDAR
VERSION:2.0
PRODID:-//Club de Tir Saint-Tite - ECPv6.15.20//NONSGML v1.0//EN
CALSCALE:GREGORIAN
METHOD:PUBLISH
X-WR-CALNAME:Club de Tir Saint-Tite
X-ORIGINAL-URL:https://clubdetirsaint-tite.ca
X-WR-CALDESC:Évènements pour Club de Tir Saint-Tite
REFRESH-INTERVAL;VALUE=DURATION:PT1H
X-Robots-Tag:noindex
X-PUBLISHED-TTL:PT1H
BEGIN:VTIMEZONE
TZID:America/Toronto
BEGIN:DAYLIGHT
TZOFFSETFROM:-0500
TZOFFSETTO:-0400
TZNAME:EDT
DTSTART:20250309T070000
END:DAYLIGHT
BEGIN:STANDARD
TZOFFSETFROM:-0400
TZOFFSETTO:-0500
TZNAME:EST
DTSTART:20251102T060000
END:STANDARD
BEGIN:DAYLIGHT
TZOFFSETFROM:-0500
TZOFFSETTO:-0400
TZNAME:EDT
DTSTART:20260308T070000
END:DAYLIGHT
BEGIN:STANDARD
TZOFFSETFROM:-0400
TZOFFSETTO:-0500
TZNAME:EST
DTSTART:20261101T060000
END:STANDARD
BEGIN:DAYLIGHT
TZOFFSETFROM:-0500
TZOFFSETTO:-0400
TZNAME:EDT
DTSTART:20270314T070000
END:DAYLIGHT
BEGIN:STANDARD
TZOFFSETFROM:-0400
TZOFFSETTO:-0500
TZNAME:EST
DTSTART:20271107T060000
END:STANDARD
END:VTIMEZONE
BEGIN:VEVENT
DTSTART;VALUE=DATE:20260829
DTEND;VALUE=DATE:20260830
DTSTAMP:20260422T180159
CREATED:20260306T222708Z
LAST-MODIFIED:20260308T233528Z
UID:10004519-1787961600-1788047999@clubdetirsaint-tite.ca
SUMMARY:Match ipsc
DESCRIPTION:Match ipsc sur les 2 pas de tir restreint 25v et 50v
URL:https://clubdetirsaint-tite.ca/event/match-ipsc-2/
LOCATION:Club de Tir Saint-Tite\, 35 QC-153\, Saint-Tite\, Quebec\, G0X 3H0\, Canada
END:VEVENT
BEGIN:VEVENT
DTSTART;VALUE=DATE:20260828
DTEND;VALUE=DATE:20260829
DTSTAMP:20260422T180159
CREATED:20260306T222408Z
LAST-MODIFIED:20260308T233504Z
UID:10004517-1787875200-1787961599@clubdetirsaint-tite.ca
SUMMARY:Préparation match ipsc
DESCRIPTION:Préparation pour le match ipsc sur les 2 pas de tir restreint 25v et 50v
URL:https://clubdetirsaint-tite.ca/event/preparation-match-ipsc/
LOCATION:Club de Tir Saint-Tite\, 35 QC-153\, Saint-Tite\, Quebec\, G0X 3H0\, Canada
END:VEVENT
BEGIN:VEVENT
DTSTART;VALUE=DATE:20260822
DTEND;VALUE=DATE:20260823
DTSTAMP:20260422T180159
CREATED:20251013T185505Z
LAST-MODIFIED:20251013T185505Z
UID:10004036-1787356800-1787443199@clubdetirsaint-tite.ca
SUMMARY:50 V fermé pour match PPC
DESCRIPTION:50 V fermé pour match PPC
URL:https://clubdetirsaint-tite.ca/event/50-v-ferme-pour-match-ppc-2/
LOCATION:Club de Tir Saint-Tite\, 35 QC-153\, Saint-Tite\, Quebec\, G0X 3H0\, Canada
END:VEVENT
BEGIN:VEVENT
DTSTART;VALUE=DATE:20260725
DTEND;VALUE=DATE:20260726
DTSTAMP:20260422T180159
CREATED:20260306T222809Z
LAST-MODIFIED:20260308T233351Z
UID:10004520-1784937600-1785023999@clubdetirsaint-tite.ca
SUMMARY:Match ipsc
DESCRIPTION:Match ipsc sur les 2 pas de tir restreint 25v et 50v
URL:https://clubdetirsaint-tite.ca/event/match-ipsc-3/
LOCATION:Club de Tir Saint-Tite\, 35 QC-153\, Saint-Tite\, Quebec\, G0X 3H0\, Canada
END:VEVENT
BEGIN:VEVENT
DTSTART;VALUE=DATE:20260724
DTEND;VALUE=DATE:20260725
DTSTAMP:20260422T180159
CREATED:20260306T222527Z
LAST-MODIFIED:20260308T233420Z
UID:10004518-1784851200-1784937599@clubdetirsaint-tite.ca
SUMMARY:Préparation pour le match ipsc
DESCRIPTION:Préparation pour le match ipsc sur les 2 pas de tir restreint 25v et 50v
URL:https://clubdetirsaint-tite.ca/event/preparation-pour-le-match-ipsc/
LOCATION:Club de Tir Saint-Tite\, 35 QC-153\, Saint-Tite\, Quebec\, G0X 3H0\, Canada
END:VEVENT
BEGIN:VEVENT
DTSTART;VALUE=DATE:20260704
DTEND;VALUE=DATE:20260705
DTSTAMP:20260422T180159
CREATED:20251013T185324Z
LAST-MODIFIED:20251013T185324Z
UID:10004035-1783123200-1783209599@clubdetirsaint-tite.ca
SUMMARY:50 verges fermés pour match ppc
DESCRIPTION:50 V fermé pour match PPC
URL:https://clubdetirsaint-tite.ca/event/50-verges-fermes-pour-match-ppc/
LOCATION:Club de Tir Saint-Tite\, 35 QC-153\, Saint-Tite\, Quebec\, G0X 3H0\, Canada
END:VEVENT
BEGIN:VEVENT
DTSTART;TZID=America/Toronto:20260620T080000
DTEND;TZID=America/Toronto:20260620T170000
DTSTAMP:20260422T180159
CREATED:20251217T145401Z
LAST-MODIFIED:20251217T145401Z
UID:10004377-1781942400-1781974800@clubdetirsaint-tite.ca
SUMMARY:Activité poudre noire
DESCRIPTION:Activité poudre noire \npas de tir partiellement disponible pour tir libre
URL:https://clubdetirsaint-tite.ca/event/activite-poudre-noire-8/
LOCATION:Club de Tir Saint-Tite\, 35 QC-153\, Saint-Tite\, Quebec\, G0X 3H0\, Canada
END:VEVENT
BEGIN:VEVENT
DTSTART;TZID=America/Toronto:20260616T080000
DTEND;TZID=America/Toronto:20260616T200000
DTSTAMP:20260422T180159
CREATED:20260419T194331Z
LAST-MODIFIED:20260419T194331Z
UID:10004797-1781596800-1781640000@clubdetirsaint-tite.ca
SUMMARY:Club fermé
DESCRIPTION:club fermé
URL:https://clubdetirsaint-tite.ca/event/club-ferme-3/
LOCATION:Club de Tir Saint-Tite\, 35 QC-153\, Saint-Tite\, Quebec\, G0X 3H0\, Canada
END:VEVENT
BEGIN:VEVENT
DTSTART;VALUE=DATE:20260516
DTEND;VALUE=DATE:20260517
DTSTAMP:20260422T180159
CREATED:20251013T185148Z
LAST-MODIFIED:20251013T185148Z
UID:10004034-1778889600-1778975999@clubdetirsaint-tite.ca
SUMMARY:50 V fermé pour match ppc
DESCRIPTION:50 verges fermés pour match ppc
URL:https://clubdetirsaint-tite.ca/event/50-v-ferme-pour-match-ppc/
LOCATION:Club de Tir Saint-Tite\, 35 QC-153\, Saint-Tite\, Quebec\, G0X 3H0\, Canada
END:VEVENT
BEGIN:VEVENT
DTSTART;VALUE=DATE:20260509
DTEND;VALUE=DATE:20260510
DTSTAMP:20260422T180159
CREATED:20260325T144501Z
LAST-MODIFIED:20260325T144501Z
UID:10004561-1778284800-1778371199@clubdetirsaint-tite.ca
SUMMARY:Club fermé
DESCRIPTION:Club fermé
URL:https://clubdetirsaint-tite.ca/event/club-ferme-4/
LOCATION:Club de Tir Saint-Tite\, 35 QC-153\, Saint-Tite\, Quebec\, G0X 3H0\, Canada
END:VEVENT
BEGIN:VEVENT
DTSTART;TZID=America/Toronto:20260502T100000
DTEND;TZID=America/Toronto:20260502T110000
DTSTAMP:20260422T180159
CREATED:20260419T195936Z
LAST-MODIFIED:20260419T195936Z
UID:10004798-1777716000-1777719600@clubdetirsaint-tite.ca
SUMMARY:Session accueil
DESCRIPTION:Session accueil
URL:https://clubdetirsaint-tite.ca/event/session-accueil/
LOCATION:Club de Tir Saint-Tite\, 35 QC-153\, Saint-Tite\, Quebec\, G0X 3H0\, Canada
END:VEVENT
BEGIN:VEVENT
DTSTART;TZID=America/Toronto:20260430T103000
DTEND;TZID=America/Toronto:20260430T120000
DTSTAMP:20260422T180159
CREATED:20260329T174008Z
LAST-MODIFIED:20260329T174008Z
UID:10004566-1777545000-1777550400@clubdetirsaint-tite.ca
SUMMARY:OFFICIEL  100230         de 10:30-12:00
DESCRIPTION:officiel de tir
URL:https://clubdetirsaint-tite.ca/event/officiel-100230-de-1030-1200/
LOCATION:Club de Tir Saint-Tite\, 35 QC-153\, Saint-Tite\, Quebec\, G0X 3H0\, Canada
END:VEVENT
BEGIN:VEVENT
DTSTART;TZID=America/Toronto:20260429T130000
DTEND;TZID=America/Toronto:20260429T160000
DTSTAMP:20260422T180159
CREATED:20260319T141305Z
LAST-MODIFIED:20260319T141305Z
UID:10004559-1777467600-1777478400@clubdetirsaint-tite.ca
SUMMARY:OFFICIEL
DESCRIPTION:tir libre \nand-jas
URL:https://clubdetirsaint-tite.ca/event/officiel-22/
LOCATION:Club de Tir Saint-Tite\, 35 QC-153\, Saint-Tite\, Quebec\, G0X 3H0\, Canada
END:VEVENT
BEGIN:VEVENT
DTSTART;TZID=America/Toronto:20260427T130000
DTEND;TZID=America/Toronto:20260427T160000
DTSTAMP:20260422T180159
CREATED:20260319T141233Z
LAST-MODIFIED:20260319T141233Z
UID:10004558-1777294800-1777305600@clubdetirsaint-tite.ca
SUMMARY:OFFICIEL
DESCRIPTION:tir libre \nand-jas
URL:https://clubdetirsaint-tite.ca/event/officiel-21/
LOCATION:Club de Tir Saint-Tite\, 35 QC-153\, Saint-Tite\, Quebec\, G0X 3H0\, Canada
END:VEVENT
BEGIN:VEVENT
DTSTART;TZID=America/Toronto:20260423T093000
DTEND;TZID=America/Toronto:20260423T110000
DTSTAMP:20260422T180159
CREATED:20260421T182106Z
LAST-MODIFIED:20260421T182106Z
UID:10004845-1776936600-1776942000@clubdetirsaint-tite.ca
SUMMARY:OFFICIEL  101008
DESCRIPTION:Officiel
URL:https://clubdetirsaint-tite.ca/event/officiel-101008/
LOCATION:Club de Tir Saint-Tite\, 35 QC-153\, Saint-Tite\, Quebec\, G0X 3H0\, Canada
END:VEVENT
BEGIN:VEVENT
DTSTART;TZID=America/Toronto:20260422T130000
DTEND;TZID=America/Toronto:20260422T160000
DTSTAMP:20260422T180159
CREATED:20260319T141203Z
LAST-MODIFIED:20260319T141203Z
UID:10004557-1776862800-1776873600@clubdetirsaint-tite.ca
SUMMARY:OFFICIEL
DESCRIPTION:tir libre \nand-jas
URL:https://clubdetirsaint-tite.ca/event/officiel-20/
LOCATION:Club de Tir Saint-Tite\, 35 QC-153\, Saint-Tite\, Quebec\, G0X 3H0\, Canada
END:VEVENT
BEGIN:VEVENT
DTSTART;TZID=America/Toronto:20260421T103000
DTEND;TZID=America/Toronto:20260421T120000
DTSTAMP:20260422T180159
CREATED:20260415T134114Z
LAST-MODIFIED:20260415T134114Z
UID:10004793-1776767400-1776772800@clubdetirsaint-tite.ca
SUMMARY:Officiel 100003
DESCRIPTION:Je serai présent comme officiel au pas de tir 50 mètres.
URL:https://clubdetirsaint-tite.ca/event/officiel-100003/
LOCATION:Club de Tir Saint-Tite\, 35 QC-153\, Saint-Tite\, Quebec\, G0X 3H0\, Canada
END:VEVENT
BEGIN:VEVENT
DTSTART;TZID=America/Toronto:20260421T090000
DTEND;TZID=America/Toronto:20260421T103000
DTSTAMP:20260422T180159
CREATED:20260416T154852Z
LAST-MODIFIED:20260416T154852Z
UID:10004796-1776762000-1776767400@clubdetirsaint-tite.ca
SUMMARY:OFFICIEL 100974
DESCRIPTION:OFFICIEL 100974
URL:https://clubdetirsaint-tite.ca/event/officiel-100974/
LOCATION:Club de Tir Saint-Tite\, 35 QC-153\, Saint-Tite\, Quebec\, G0X 3H0\, Canada
END:VEVENT
BEGIN:VEVENT
DTSTART;TZID=America/Toronto:20260420T183000
DTEND;TZID=America/Toronto:20260420T200000
DTSTAMP:20260422T180159
CREATED:20260405T152439Z
LAST-MODIFIED:20260405T152439Z
UID:10004708-1776709800-1776715200@clubdetirsaint-tite.ca
SUMMARY:Session accueil
DESCRIPTION:Session accueil et officiel 101713
URL:https://clubdetirsaint-tite.ca/event/session-accueil-33/
LOCATION:Club de Tir Saint-Tite\, 35 QC-153\, Saint-Tite\, Quebec\, G0X 3H0\, Canada
END:VEVENT
BEGIN:VEVENT
DTSTART;TZID=America/Toronto:20260420T133400
DTEND;TZID=America/Toronto:20260420T142700
DTSTAMP:20260422T180159
CREATED:20260421T155011Z
LAST-MODIFIED:20260421T155011Z
UID:10004843-1776692040-1776695220@clubdetirsaint-tite.ca
SUMMARY:102351 _ TIREUR
DESCRIPTION:
URL:https://clubdetirsaint-tite.ca/event/102351-_-tireur-10/
LOCATION:Quebec
CATEGORIES:PRÉSENCES
END:VEVENT
BEGIN:VEVENT
DTSTART;TZID=America/Toronto:20260420T130000
DTEND;TZID=America/Toronto:20260420T160000
DTSTAMP:20260422T180159
CREATED:20260319T141134Z
LAST-MODIFIED:20260319T141134Z
UID:10004556-1776690000-1776700800@clubdetirsaint-tite.ca
SUMMARY:OFFICIEL
DESCRIPTION:tir libre \nand-jas
URL:https://clubdetirsaint-tite.ca/event/officiel-19/
LOCATION:Club de Tir Saint-Tite\, 35 QC-153\, Saint-Tite\, Quebec\, G0X 3H0\, Canada
END:VEVENT
BEGIN:VEVENT
DTSTART;TZID=America/Toronto:20260420T123400
DTEND;TZID=America/Toronto:20260420T154700
DTSTAMP:20260422T180159
CREATED:20260421T155011Z
LAST-MODIFIED:20260421T155011Z
UID:10004844-1776688440-1776700020@clubdetirsaint-tite.ca
SUMMARY:100548 _ OFFICIEL
DESCRIPTION:
URL:https://clubdetirsaint-tite.ca/event/100548-_-officiel-64/
LOCATION:Quebec
CATEGORIES:PRÉSENCES
END:VEVENT
BEGIN:VEVENT
DTSTART;TZID=America/Toronto:20260419T134400
DTEND;TZID=America/Toronto:20260419T143200
DTSTAMP:20260422T180159
CREATED:20260421T154955Z
LAST-MODIFIED:20260421T154955Z
UID:10004838-1776606240-1776609120@clubdetirsaint-tite.ca
SUMMARY:100203 _ TIREUR
DESCRIPTION:
URL:https://clubdetirsaint-tite.ca/event/100203-_-tireur-2/
LOCATION:Quebec
CATEGORIES:PRÉSENCES
END:VEVENT
BEGIN:VEVENT
DTSTART;TZID=America/Toronto:20260419T133000
DTEND;TZID=America/Toronto:20260419T144300
DTSTAMP:20260422T180159
CREATED:20260421T154955Z
LAST-MODIFIED:20260421T154955Z
UID:10004839-1776605400-1776609780@clubdetirsaint-tite.ca
SUMMARY:100987 _ TIREUR
DESCRIPTION:
URL:https://clubdetirsaint-tite.ca/event/100987-_-tireur-2/
LOCATION:Quebec
CATEGORIES:PRÉSENCES
END:VEVENT
BEGIN:VEVENT
DTSTART;TZID=America/Toronto:20260419T131800
DTEND;TZID=America/Toronto:20260419T141500
DTSTAMP:20260422T180159
CREATED:20260421T154955Z
LAST-MODIFIED:20260421T154955Z
UID:10004836-1776604680-1776608100@clubdetirsaint-tite.ca
SUMMARY:102616 _ TIREUR
DESCRIPTION:
URL:https://clubdetirsaint-tite.ca/event/102616-_-tireur-23/
LOCATION:Quebec
CATEGORIES:PRÉSENCES
END:VEVENT
BEGIN:VEVENT
DTSTART;TZID=America/Toronto:20260419T131700
DTEND;TZID=America/Toronto:20260419T140600
DTSTAMP:20260422T180159
CREATED:20260421T154954Z
LAST-MODIFIED:20260421T154954Z
UID:10004835-1776604620-1776607560@clubdetirsaint-tite.ca
SUMMARY:100418 _ TIREUR
DESCRIPTION:
URL:https://clubdetirsaint-tite.ca/event/100418-_-tireur-2/
LOCATION:Quebec
CATEGORIES:PRÉSENCES
END:VEVENT
BEGIN:VEVENT
DTSTART;TZID=America/Toronto:20260419T130800
DTEND;TZID=America/Toronto:20260419T132500
DTSTAMP:20260422T180159
CREATED:20260421T154953Z
LAST-MODIFIED:20260421T154953Z
UID:10004834-1776604080-1776605100@clubdetirsaint-tite.ca
SUMMARY:102764 _ TIREUR
DESCRIPTION:
URL:https://clubdetirsaint-tite.ca/event/102764-_-tireur-2/
LOCATION:Quebec
CATEGORIES:PRÉSENCES
END:VEVENT
BEGIN:VEVENT
DTSTART;TZID=America/Toronto:20260419T130000
DTEND;TZID=America/Toronto:20260419T143000
DTSTAMP:20260422T180159
CREATED:20260409T202248Z
LAST-MODIFIED:20260409T202404Z
UID:10004713-1776603600-1776609000@clubdetirsaint-tite.ca
SUMMARY:OFFICIEL 102693
DESCRIPTION:Officiel
URL:https://clubdetirsaint-tite.ca/event/officiel-102693-2/
LOCATION:Club de Tir Saint-Tite\, 35 QC-153\, Saint-Tite\, Quebec\, G0X 3H0\, Canada
END:VEVENT
BEGIN:VEVENT
DTSTART;TZID=America/Toronto:20260419T125500
DTEND;TZID=America/Toronto:20260419T141600
DTSTAMP:20260422T180159
CREATED:20260421T154955Z
LAST-MODIFIED:20260421T154955Z
UID:10004837-1776603300-1776608160@clubdetirsaint-tite.ca
SUMMARY:101858 _ TIREUR
DESCRIPTION:
URL:https://clubdetirsaint-tite.ca/event/101858-_-tireur/
LOCATION:Quebec
CATEGORIES:PRÉSENCES
END:VEVENT
BEGIN:VEVENT
DTSTART;TZID=America/Toronto:20260419T125000
DTEND;TZID=America/Toronto:20260419T144300
DTSTAMP:20260422T180159
CREATED:20260421T154955Z
LAST-MODIFIED:20260421T154955Z
UID:10004840-1776603000-1776609780@clubdetirsaint-tite.ca
SUMMARY:102693 _ OFFICIEL
DESCRIPTION:
URL:https://clubdetirsaint-tite.ca/event/102693-_-officiel-6/
LOCATION:Quebec
CATEGORIES:PRÉSENCES
END:VEVENT
END:VCALENDAR