BEGIN:VCALENDAR
VERSION:2.0
PRODID:-//Club de Tir Saint-Tite - ECPv6.15.20//NONSGML v1.0//EN
CALSCALE:GREGORIAN
METHOD:PUBLISH
X-ORIGINAL-URL:https://clubdetirsaint-tite.ca
X-WR-CALDESC:Évènements pour Club de Tir Saint-Tite
REFRESH-INTERVAL;VALUE=DURATION:PT1H
X-Robots-Tag:noindex
X-PUBLISHED-TTL:PT1H
BEGIN:VTIMEZONE
TZID:America/Toronto
BEGIN:DAYLIGHT
TZOFFSETFROM:-0500
TZOFFSETTO:-0400
TZNAME:EDT
DTSTART:20240310T070000
END:DAYLIGHT
BEGIN:STANDARD
TZOFFSETFROM:-0400
TZOFFSETTO:-0500
TZNAME:EST
DTSTART:20241103T060000
END:STANDARD
BEGIN:DAYLIGHT
TZOFFSETFROM:-0500
TZOFFSETTO:-0400
TZNAME:EDT
DTSTART:20250309T070000
END:DAYLIGHT
BEGIN:STANDARD
TZOFFSETFROM:-0400
TZOFFSETTO:-0500
TZNAME:EST
DTSTART:20251102T060000
END:STANDARD
BEGIN:DAYLIGHT
TZOFFSETFROM:-0500
TZOFFSETTO:-0400
TZNAME:EDT
DTSTART:20260308T070000
END:DAYLIGHT
BEGIN:STANDARD
TZOFFSETFROM:-0400
TZOFFSETTO:-0500
TZNAME:EST
DTSTART:20261101T060000
END:STANDARD
END:VTIMEZONE
BEGIN:VEVENT
DTSTART;TZID=America/Toronto:20250507T100000
DTEND;TZID=America/Toronto:20250507T120000
DTSTAMP:20260419T145741
CREATED:20250504T163327Z
LAST-MODIFIED:20250504T163327Z
UID:10003162-1746612000-1746619200@clubdetirsaint-tite.ca
SUMMARY:OFFICIEL 100109
DESCRIPTION:OFFICIEL DE TIR
URL:https://clubdetirsaint-tite.ca/event/officiel-100109/
LOCATION:Club de Tir Saint-Tite\, 35 QC-153\, Saint-Tite\, Quebec\, G0X 3H0\, Canada
END:VEVENT
BEGIN:VEVENT
DTSTART;TZID=America/Toronto:20250507T124200
DTEND;TZID=America/Toronto:20250507T162400
DTSTAMP:20260419T145741
CREATED:20250519T213327Z
LAST-MODIFIED:20250519T213327Z
UID:10003268-1746621720-1746635040@clubdetirsaint-tite.ca
SUMMARY:100548 _ OFFICIEL
DESCRIPTION:
URL:https://clubdetirsaint-tite.ca/event/100548-_-officiel-38/
CATEGORIES:PRÉSENCES
END:VEVENT
BEGIN:VEVENT
DTSTART;TZID=America/Toronto:20250507T130000
DTEND;TZID=America/Toronto:20250507T160000
DTSTAMP:20260419T145741
CREATED:20250401T220131Z
LAST-MODIFIED:20250401T220131Z
UID:10002930-1746622800-1746633600@clubdetirsaint-tite.ca
SUMMARY:OFFICIEL
DESCRIPTION:tir libre \nand-jas
URL:https://clubdetirsaint-tite.ca/event/officiel-67/
LOCATION:Club de Tir Saint-Tite\, 35 QC-153\, Saint-Tite\, Quebec\, G0X 3H0\, Canada
END:VEVENT
BEGIN:VEVENT
DTSTART;TZID=America/Toronto:20250507T131300
DTEND;TZID=America/Toronto:20250507T153600
DTSTAMP:20260419T145741
CREATED:20250519T213312Z
LAST-MODIFIED:20250519T213312Z
UID:10003264-1746623580-1746632160@clubdetirsaint-tite.ca
SUMMARY:102139 _ TIREUR
DESCRIPTION:
URL:https://clubdetirsaint-tite.ca/event/102139-_-tireur-3/
CATEGORIES:PRÉSENCES
END:VEVENT
BEGIN:VEVENT
DTSTART;TZID=America/Toronto:20250507T134000
DTEND;TZID=America/Toronto:20250507T151400
DTSTAMP:20260419T145741
CREATED:20250519T213312Z
LAST-MODIFIED:20250519T213312Z
UID:10003263-1746625200-1746630840@clubdetirsaint-tite.ca
SUMMARY:102012 _ TIREUR
DESCRIPTION:
URL:https://clubdetirsaint-tite.ca/event/102012-_-tireur-2/
CATEGORIES:PRÉSENCES
END:VEVENT
BEGIN:VEVENT
DTSTART;TZID=America/Toronto:20250507T135900
DTEND;TZID=America/Toronto:20250507T142500
DTSTAMP:20260419T145741
CREATED:20250519T213311Z
LAST-MODIFIED:20250519T213311Z
UID:10003260-1746626340-1746627900@clubdetirsaint-tite.ca
SUMMARY:100416 _ TIREUR
DESCRIPTION:
URL:https://clubdetirsaint-tite.ca/event/100416-_-tireur/
CATEGORIES:PRÉSENCES
END:VEVENT
BEGIN:VEVENT
DTSTART;TZID=America/Toronto:20250507T140300
DTEND;TZID=America/Toronto:20250507T143000
DTSTAMP:20260419T145741
CREATED:20250519T213311Z
LAST-MODIFIED:20250519T213311Z
UID:10003261-1746626580-1746628200@clubdetirsaint-tite.ca
SUMMARY:101538 _ TIREUR
DESCRIPTION:
URL:https://clubdetirsaint-tite.ca/event/101538-_-tireur/
CATEGORIES:PRÉSENCES
END:VEVENT
BEGIN:VEVENT
DTSTART;TZID=America/Toronto:20250507T144100
DTEND;TZID=America/Toronto:20250507T150400
DTSTAMP:20260419T145741
CREATED:20250519T213312Z
LAST-MODIFIED:20250519T213312Z
UID:10003262-1746628860-1746630240@clubdetirsaint-tite.ca
SUMMARY:100514 _ TIREUR
DESCRIPTION:
URL:https://clubdetirsaint-tite.ca/event/100514-_-tireur-3/
CATEGORIES:PRÉSENCES
END:VEVENT
BEGIN:VEVENT
DTSTART;TZID=America/Toronto:20250507T153700
DTEND;TZID=America/Toronto:20250507T153700
DTSTAMP:20260419T145741
CREATED:20250519T213326Z
LAST-MODIFIED:20250519T213326Z
UID:10003265-1746632220-1746632220@clubdetirsaint-tite.ca
SUMMARY:102139 _ OFFICIEL
DESCRIPTION:
URL:https://clubdetirsaint-tite.ca/event/102139-_-officiel-4/
CATEGORIES:PRÉSENCES
END:VEVENT
BEGIN:VEVENT
DTSTART;TZID=America/Toronto:20250507T154300
DTEND;TZID=America/Toronto:20250507T160200
DTSTAMP:20260419T145741
CREATED:20250519T213326Z
LAST-MODIFIED:20250519T213326Z
UID:10003266-1746632580-1746633720@clubdetirsaint-tite.ca
SUMMARY:102233 _ TIREUR
DESCRIPTION:
URL:https://clubdetirsaint-tite.ca/event/102233-_-tireur/
CATEGORIES:PRÉSENCES
END:VEVENT
BEGIN:VEVENT
DTSTART;TZID=America/Toronto:20250507T160300
DTEND;TZID=America/Toronto:20250507T162400
DTSTAMP:20260419T145741
CREATED:20250519T213327Z
LAST-MODIFIED:20250519T213327Z
UID:10003267-1746633780-1746635040@clubdetirsaint-tite.ca
SUMMARY:102233 _ TIREUR
DESCRIPTION:
URL:https://clubdetirsaint-tite.ca/event/102233-_-tireur-2/
CATEGORIES:PRÉSENCES
END:VEVENT
BEGIN:VEVENT
DTSTART;TZID=America/Toronto:20250507T180000
DTEND;TZID=America/Toronto:20250507T190000
DTSTAMP:20260419T145741
CREATED:20250503T122327Z
LAST-MODIFIED:20250503T122327Z
UID:10003157-1746640800-1746644400@clubdetirsaint-tite.ca
SUMMARY:Session accueil
DESCRIPTION:Session accueil
URL:https://clubdetirsaint-tite.ca/event/session-accueil-5/
LOCATION:Club de Tir Saint-Tite\, 35 QC-153\, Saint-Tite\, Quebec\, G0X 3H0\, Canada
END:VEVENT
BEGIN:VEVENT
DTSTART;TZID=America/Toronto:20250508T100000
DTEND;TZID=America/Toronto:20250508T170000
DTSTAMP:20260419T145741
CREATED:20250426T195033Z
LAST-MODIFIED:20250426T195033Z
UID:10003074-1746698400-1746723600@clubdetirsaint-tite.ca
SUMMARY:50 verges fermé travaux
DESCRIPTION:50 verges fermé pour travaux
URL:https://clubdetirsaint-tite.ca/event/50-verges-ferme-travaux-3/
LOCATION:Club de Tir Saint-Tite\, 35 QC-153\, Saint-Tite\, Quebec\, G0X 3H0\, Canada
END:VEVENT
BEGIN:VEVENT
DTSTART;TZID=America/Toronto:20250508T175600
DTEND;TZID=America/Toronto:20250508T205500
DTSTAMP:20260419T145741
CREATED:20250519T213327Z
LAST-MODIFIED:20250519T213327Z
UID:10003269-1746726960-1746737700@clubdetirsaint-tite.ca
SUMMARY:102616 _ TIREUR
DESCRIPTION:
URL:https://clubdetirsaint-tite.ca/event/102616-_-tireur-10/
CATEGORIES:PRÉSENCES
END:VEVENT
BEGIN:VEVENT
DTSTART;TZID=America/Toronto:20250508T175600
DTEND;TZID=America/Toronto:20250508T205700
DTSTAMP:20260419T145741
CREATED:20250519T213341Z
LAST-MODIFIED:20250519T213341Z
UID:10003271-1746726960-1746737820@clubdetirsaint-tite.ca
SUMMARY:102608 _ OFFICIEL
DESCRIPTION:
URL:https://clubdetirsaint-tite.ca/event/102608-_-officiel-13/
CATEGORIES:PRÉSENCES
END:VEVENT
BEGIN:VEVENT
DTSTART;TZID=America/Toronto:20250508T175700
DTEND;TZID=America/Toronto:20250508T205600
DTSTAMP:20260419T145741
CREATED:20250519T213341Z
LAST-MODIFIED:20250519T213341Z
UID:10003270-1746727020-1746737760@clubdetirsaint-tite.ca
SUMMARY:100818 _ TIREUR
DESCRIPTION:
URL:https://clubdetirsaint-tite.ca/event/100818-_-tireur-7/
CATEGORIES:PRÉSENCES
END:VEVENT
BEGIN:VEVENT
DTSTART;TZID=America/Toronto:20250509T080000
DTEND;TZID=America/Toronto:20250509T093000
DTSTAMP:20260419T145741
CREATED:20250430T211545Z
LAST-MODIFIED:20250430T211545Z
UID:10003076-1746777600-1746783000@clubdetirsaint-tite.ca
SUMMARY:OFFICIEL 101600
DESCRIPTION:OFFICIEL 101600
URL:https://clubdetirsaint-tite.ca/event/officiel-101600/
LOCATION:Club de Tir Saint-Tite\, 35 QC-153\, Saint-Tite\, Quebec\, G0X 3H0\, Canada
END:VEVENT
BEGIN:VEVENT
DTSTART;TZID=America/Toronto:20250509T080700
DTEND;TZID=America/Toronto:20250509T094400
DTSTAMP:20260419T145741
CREATED:20250519T213357Z
LAST-MODIFIED:20250519T213357Z
UID:10003277-1746778020-1746783840@clubdetirsaint-tite.ca
SUMMARY:101600 _ OFFICIEL
DESCRIPTION:
URL:https://clubdetirsaint-tite.ca/event/101600-_-officiel/
CATEGORIES:PRÉSENCES
END:VEVENT
BEGIN:VEVENT
DTSTART;TZID=America/Toronto:20250509T080900
DTEND;TZID=America/Toronto:20250509T085900
DTSTAMP:20260419T145741
CREATED:20250519T213356Z
LAST-MODIFIED:20250519T213356Z
UID:10003275-1746778140-1746781140@clubdetirsaint-tite.ca
SUMMARY:100054 _ TIREUR
DESCRIPTION:
URL:https://clubdetirsaint-tite.ca/event/100054-_-tireur-4/
CATEGORIES:PRÉSENCES
END:VEVENT
BEGIN:VEVENT
DTSTART;TZID=America/Toronto:20250509T081600
DTEND;TZID=America/Toronto:20250509T085700
DTSTAMP:20260419T145741
CREATED:20250519T213342Z
LAST-MODIFIED:20250519T213342Z
UID:10003273-1746778560-1746781020@clubdetirsaint-tite.ca
SUMMARY:102284 _ OFFICIEL
DESCRIPTION:
URL:https://clubdetirsaint-tite.ca/event/102284-_-officiel/
CATEGORIES:PRÉSENCES
END:VEVENT
BEGIN:VEVENT
DTSTART;TZID=America/Toronto:20250509T081900
DTEND;TZID=America/Toronto:20250509T084800
DTSTAMP:20260419T145741
CREATED:20250519T213342Z
LAST-MODIFIED:20250519T213342Z
UID:10003272-1746778740-1746780480@clubdetirsaint-tite.ca
SUMMARY:100419 _ TIREUR
DESCRIPTION:
URL:https://clubdetirsaint-tite.ca/event/100419-_-tireur/
CATEGORIES:PRÉSENCES
END:VEVENT
BEGIN:VEVENT
DTSTART;TZID=America/Toronto:20250509T083800
DTEND;TZID=America/Toronto:20250509T085800
DTSTAMP:20260419T145741
CREATED:20250519T213342Z
LAST-MODIFIED:20250519T213342Z
UID:10003274-1746779880-1746781080@clubdetirsaint-tite.ca
SUMMARY:101792 _ TIREUR
DESCRIPTION:
URL:https://clubdetirsaint-tite.ca/event/101792-_-tireur/
CATEGORIES:PRÉSENCES
END:VEVENT
BEGIN:VEVENT
DTSTART;TZID=America/Toronto:20250509T085400
DTEND;TZID=America/Toronto:20250509T094200
DTSTAMP:20260419T145741
CREATED:20250519T213356Z
LAST-MODIFIED:20250519T213356Z
UID:10003276-1746780840-1746783720@clubdetirsaint-tite.ca
SUMMARY:100321 _ TIREUR
DESCRIPTION:
URL:https://clubdetirsaint-tite.ca/event/100321-_-tireur/
CATEGORIES:PRÉSENCES
END:VEVENT
BEGIN:VEVENT
DTSTART;TZID=America/Toronto:20250509T120000
DTEND;TZID=America/Toronto:20250509T170000
DTSTAMP:20260419T145741
CREATED:20250426T194911Z
LAST-MODIFIED:20250426T194911Z
UID:10003073-1746792000-1746810000@clubdetirsaint-tite.ca
SUMMARY:50 verges fermé travaux
DESCRIPTION:50 verges fermé pour travaux
URL:https://clubdetirsaint-tite.ca/event/50-verges-ferme-travaux-2/
LOCATION:Club de Tir Saint-Tite\, 35 QC-153\, Saint-Tite\, Quebec\, G0X 3H0\, Canada
END:VEVENT
BEGIN:VEVENT
DTSTART;TZID=America/Toronto:20250510T100000
DTEND;TZID=America/Toronto:20250510T110000
DTSTAMP:20260419T145741
CREATED:20250502T112357Z
LAST-MODIFIED:20250502T112357Z
UID:10003116-1746871200-1746874800@clubdetirsaint-tite.ca
SUMMARY:Session accueil
DESCRIPTION:session accueil
URL:https://clubdetirsaint-tite.ca/event/session-accueil-3/
LOCATION:Club de Tir Saint-Tite\, 35 QC-153\, Saint-Tite\, Quebec\, G0X 3H0\, Canada
END:VEVENT
BEGIN:VEVENT
DTSTART;TZID=America/Toronto:20250510T125300
DTEND;TZID=America/Toronto:20250510T163900
DTSTAMP:20260419T145741
CREATED:20250519T213412Z
LAST-MODIFIED:20250519T213412Z
UID:10003282-1746881580-1746895140@clubdetirsaint-tite.ca
SUMMARY:102049 _ OFFICIEL
DESCRIPTION:
URL:https://clubdetirsaint-tite.ca/event/102049-_-officiel-5/
CATEGORIES:PRÉSENCES
END:VEVENT
BEGIN:VEVENT
DTSTART;TZID=America/Toronto:20250510T125400
DTEND;TZID=America/Toronto:20250510T163800
DTSTAMP:20260419T145741
CREATED:20250519T213411Z
LAST-MODIFIED:20250519T213411Z
UID:10003281-1746881640-1746895080@clubdetirsaint-tite.ca
SUMMARY:102048 _ TIREUR
DESCRIPTION:
URL:https://clubdetirsaint-tite.ca/event/102048-_-tireur-9/
CATEGORIES:PRÉSENCES
END:VEVENT
BEGIN:VEVENT
DTSTART;TZID=America/Toronto:20250510T132000
DTEND;TZID=America/Toronto:20250510T132100
DTSTAMP:20260419T145741
CREATED:20250519T213357Z
LAST-MODIFIED:20250519T213357Z
UID:10003278-1746883200-1746883260@clubdetirsaint-tite.ca
SUMMARY:101199 _ OFFICIEL
DESCRIPTION:
URL:https://clubdetirsaint-tite.ca/event/101199-_-officiel-3/
CATEGORIES:PRÉSENCES
END:VEVENT
BEGIN:VEVENT
DTSTART;TZID=America/Toronto:20250510T132200
DTEND;TZID=America/Toronto:20250510T163800
DTSTAMP:20260419T145741
CREATED:20250519T213411Z
LAST-MODIFIED:20250519T213411Z
UID:10003280-1746883320-1746895080@clubdetirsaint-tite.ca
SUMMARY:101199 _ TIREUR
DESCRIPTION:
URL:https://clubdetirsaint-tite.ca/event/101199-_-tireur-10/
CATEGORIES:PRÉSENCES
END:VEVENT
BEGIN:VEVENT
DTSTART;TZID=America/Toronto:20250510T132600
DTEND;TZID=America/Toronto:20250510T134900
DTSTAMP:20260419T145741
CREATED:20250519T213357Z
LAST-MODIFIED:20250519T213357Z
UID:10003279-1746883560-1746884940@clubdetirsaint-tite.ca
SUMMARY:101427 _ TIREUR
DESCRIPTION:
URL:https://clubdetirsaint-tite.ca/event/101427-_-tireur/
CATEGORIES:PRÉSENCES
END:VEVENT
END:VCALENDAR