BEGIN:VCALENDAR
VERSION:2.0
PRODID:-//Club de Tir Saint-Tite - ECPv6.15.20//NONSGML v1.0//EN
CALSCALE:GREGORIAN
METHOD:PUBLISH
X-ORIGINAL-URL:https://clubdetirsaint-tite.ca
X-WR-CALDESC:Évènements pour Club de Tir Saint-Tite
REFRESH-INTERVAL;VALUE=DURATION:PT1H
X-Robots-Tag:noindex
X-PUBLISHED-TTL:PT1H
BEGIN:VTIMEZONE
TZID:America/Toronto
BEGIN:DAYLIGHT
TZOFFSETFROM:-0500
TZOFFSETTO:-0400
TZNAME:EDT
DTSTART:20240310T070000
END:DAYLIGHT
BEGIN:STANDARD
TZOFFSETFROM:-0400
TZOFFSETTO:-0500
TZNAME:EST
DTSTART:20241103T060000
END:STANDARD
BEGIN:DAYLIGHT
TZOFFSETFROM:-0500
TZOFFSETTO:-0400
TZNAME:EDT
DTSTART:20250309T070000
END:DAYLIGHT
BEGIN:STANDARD
TZOFFSETFROM:-0400
TZOFFSETTO:-0500
TZNAME:EST
DTSTART:20251102T060000
END:STANDARD
BEGIN:DAYLIGHT
TZOFFSETFROM:-0500
TZOFFSETTO:-0400
TZNAME:EDT
DTSTART:20260308T070000
END:DAYLIGHT
BEGIN:STANDARD
TZOFFSETFROM:-0400
TZOFFSETTO:-0500
TZNAME:EST
DTSTART:20261101T060000
END:STANDARD
END:VTIMEZONE
BEGIN:VEVENT
DTSTART;TZID=America/Toronto:20250512T134200
DTEND;TZID=America/Toronto:20250512T160500
DTSTAMP:20260419T203324
CREATED:20250519T213457Z
LAST-MODIFIED:20250519T213457Z
UID:10003297-1747057320-1747065900@clubdetirsaint-tite.ca
SUMMARY:100118 _ TIREUR
DESCRIPTION:
URL:https://clubdetirsaint-tite.ca/event/100118-_-tireur-40/
CATEGORIES:PRÉSENCES
END:VEVENT
BEGIN:VEVENT
DTSTART;TZID=America/Toronto:20250512T142300
DTEND;TZID=America/Toronto:20250512T155100
DTSTAMP:20260419T203324
CREATED:20250519T213456Z
LAST-MODIFIED:20250519T213456Z
UID:10003296-1747059780-1747065060@clubdetirsaint-tite.ca
SUMMARY:102463 _ TIREUR
DESCRIPTION:
URL:https://clubdetirsaint-tite.ca/event/102463-_-tireur/
CATEGORIES:PRÉSENCES
END:VEVENT
BEGIN:VEVENT
DTSTART;TZID=America/Toronto:20250512T150100
DTEND;TZID=America/Toronto:20250512T154700
DTSTAMP:20260419T203324
CREATED:20250519T213456Z
LAST-MODIFIED:20250519T213456Z
UID:10003295-1747062060-1747064820@clubdetirsaint-tite.ca
SUMMARY:102174 _ TIREUR
DESCRIPTION:
URL:https://clubdetirsaint-tite.ca/event/102174-_-tireur/
CATEGORIES:PRÉSENCES
END:VEVENT
BEGIN:VEVENT
DTSTART;TZID=America/Toronto:20250513T180000
DTEND;TZID=America/Toronto:20250513T210000
DTSTAMP:20260419T203324
CREATED:20250513T101722Z
LAST-MODIFIED:20250513T101722Z
UID:10003237-1747159200-1747170000@clubdetirsaint-tite.ca
SUMMARY:Pratique IPSC
DESCRIPTION:Bonjour \nLa pratique hebdomadaire IPSC du jeudi soir \nPrérequis Black Badge et expériences de compétition
URL:https://clubdetirsaint-tite.ca/event/pratique-ipsc/2025-05-13/
LOCATION:Club de Tir Saint-Tite\, 35 QC-153\, Saint-Tite\, Quebec\, G0X 3H0\, Canada
END:VEVENT
BEGIN:VEVENT
DTSTART;TZID=America/Toronto:20250514T080000
DTEND;TZID=America/Toronto:20250514T110000
DTSTAMP:20260419T203324
CREATED:20250512T114021Z
LAST-MODIFIED:20250512T114021Z
UID:10003234-1747209600-1747220400@clubdetirsaint-tite.ca
SUMMARY:officiel 102147
DESCRIPTION:officiel 102147
URL:https://clubdetirsaint-tite.ca/event/officiel-102147/
LOCATION:Club de Tir Saint-Tite\, 35 QC-153\, Saint-Tite\, Quebec\, G0X 3H0\, Canada
END:VEVENT
BEGIN:VEVENT
DTSTART;TZID=America/Toronto:20250514T080200
DTEND;TZID=America/Toronto:20250514T111000
DTSTAMP:20260419T203324
CREATED:20250519T213512Z
LAST-MODIFIED:20250519T213512Z
UID:10003302-1747209720-1747221000@clubdetirsaint-tite.ca
SUMMARY:102147 _ OFFICIEL
DESCRIPTION:
URL:https://clubdetirsaint-tite.ca/event/102147-_-officiel-2/
CATEGORIES:PRÉSENCES
END:VEVENT
BEGIN:VEVENT
DTSTART;TZID=America/Toronto:20250514T100800
DTEND;TZID=America/Toronto:20250514T111000
DTSTAMP:20260419T203324
CREATED:20250519T213511Z
LAST-MODIFIED:20250519T213511Z
UID:10003301-1747217280-1747221000@clubdetirsaint-tite.ca
SUMMARY:100137 _ TIREUR
DESCRIPTION:
URL:https://clubdetirsaint-tite.ca/event/100137-_-tireur-11/
CATEGORIES:PRÉSENCES
END:VEVENT
BEGIN:VEVENT
DTSTART;TZID=America/Toronto:20250514T115500
DTEND;TZID=America/Toronto:20250514T125400
DTSTAMP:20260419T203324
CREATED:20250519T213512Z
LAST-MODIFIED:20250519T213512Z
UID:10003303-1747223700-1747227240@clubdetirsaint-tite.ca
SUMMARY:100137 _ OFFICIEL
DESCRIPTION:
URL:https://clubdetirsaint-tite.ca/event/100137-_-officiel-8/
CATEGORIES:PRÉSENCES
END:VEVENT
BEGIN:VEVENT
DTSTART;TZID=America/Toronto:20250514T115600
DTEND;TZID=America/Toronto:20250514T125500
DTSTAMP:20260419T203324
CREATED:20250519T213512Z
LAST-MODIFIED:20250519T213512Z
UID:10003304-1747223760-1747227300@clubdetirsaint-tite.ca
SUMMARY:100176 _ TIREUR
DESCRIPTION:
URL:https://clubdetirsaint-tite.ca/event/100176-_-tireur/
CATEGORIES:PRÉSENCES
END:VEVENT
BEGIN:VEVENT
DTSTART;TZID=America/Toronto:20250514T125500
DTEND;TZID=America/Toronto:20250514T162000
DTSTAMP:20260419T203324
CREATED:20250519T213527Z
LAST-MODIFIED:20250519T213527Z
UID:10003309-1747227300-1747239600@clubdetirsaint-tite.ca
SUMMARY:100549 _ OFFICIEL
DESCRIPTION:
URL:https://clubdetirsaint-tite.ca/event/100549-_-officiel-41/
CATEGORIES:PRÉSENCES
END:VEVENT
BEGIN:VEVENT
DTSTART;TZID=America/Toronto:20250514T125800
DTEND;TZID=America/Toronto:20250514T162000
DTSTAMP:20260419T203324
CREATED:20250519T213527Z
LAST-MODIFIED:20250519T213527Z
UID:10003308-1747227480-1747239600@clubdetirsaint-tite.ca
SUMMARY:100137 _ TIREUR
DESCRIPTION:
URL:https://clubdetirsaint-tite.ca/event/100137-_-tireur-12/
CATEGORIES:PRÉSENCES
END:VEVENT
BEGIN:VEVENT
DTSTART;TZID=America/Toronto:20250514T130000
DTEND;TZID=America/Toronto:20250514T160000
DTSTAMP:20260419T203324
CREATED:20250401T220232Z
LAST-MODIFIED:20250401T220232Z
UID:10002932-1747227600-1747238400@clubdetirsaint-tite.ca
SUMMARY:OFFICIEL
DESCRIPTION:tir libre \nand-jas
URL:https://clubdetirsaint-tite.ca/event/officiel-69/
LOCATION:Club de Tir Saint-Tite\, 35 QC-153\, Saint-Tite\, Quebec\, G0X 3H0\, Canada
END:VEVENT
BEGIN:VEVENT
DTSTART;TZID=America/Toronto:20250514T132600
DTEND;TZID=America/Toronto:20250514T144000
DTSTAMP:20260419T203324
CREATED:20250519T213526Z
LAST-MODIFIED:20250519T213526Z
UID:10003305-1747229160-1747233600@clubdetirsaint-tite.ca
SUMMARY:100814 _ TIREUR
DESCRIPTION:
URL:https://clubdetirsaint-tite.ca/event/100814-_-tireur/
CATEGORIES:PRÉSENCES
END:VEVENT
BEGIN:VEVENT
DTSTART;TZID=America/Toronto:20250514T133600
DTEND;TZID=America/Toronto:20250514T160000
DTSTAMP:20260419T203324
CREATED:20250519T213527Z
LAST-MODIFIED:20250519T213527Z
UID:10003307-1747229760-1747238400@clubdetirsaint-tite.ca
SUMMARY:100176 _ TIREUR
DESCRIPTION:
URL:https://clubdetirsaint-tite.ca/event/100176-_-tireur-2/
CATEGORIES:PRÉSENCES
END:VEVENT
BEGIN:VEVENT
DTSTART;TZID=America/Toronto:20250514T142700
DTEND;TZID=America/Toronto:20250514T155600
DTSTAMP:20260419T203324
CREATED:20250519T213526Z
LAST-MODIFIED:20250519T213526Z
UID:10003306-1747232820-1747238160@clubdetirsaint-tite.ca
SUMMARY:101709 _ TIREUR
DESCRIPTION:
URL:https://clubdetirsaint-tite.ca/event/101709-_-tireur/
CATEGORIES:PRÉSENCES
END:VEVENT
BEGIN:VEVENT
DTSTART;TZID=America/Toronto:20250514T180000
DTEND;TZID=America/Toronto:20250514T190000
DTSTAMP:20260419T203324
CREATED:20250503T122403Z
LAST-MODIFIED:20250503T122403Z
UID:10003158-1747245600-1747249200@clubdetirsaint-tite.ca
SUMMARY:Session accueil
DESCRIPTION:Session accueil
URL:https://clubdetirsaint-tite.ca/event/session-accueil-6/
LOCATION:Club de Tir Saint-Tite\, 35 QC-153\, Saint-Tite\, Quebec\, G0X 3H0\, Canada
END:VEVENT
BEGIN:VEVENT
DTSTART;TZID=America/Toronto:20250515T080000
DTEND;TZID=America/Toronto:20250515T170000
DTSTAMP:20260419T203324
CREATED:20250512T104453Z
LAST-MODIFIED:20250512T104453Z
UID:10003233-1747296000-1747328400@clubdetirsaint-tite.ca
SUMMARY:50 verges fermé pour travaux
DESCRIPTION:50 verges fermé pour travaux
URL:https://clubdetirsaint-tite.ca/event/50-verges-ferme-pour-travaux/
LOCATION:Club de Tir Saint-Tite\, 35 QC-153\, Saint-Tite\, Quebec\, G0X 3H0\, Canada
END:VEVENT
BEGIN:VEVENT
DTSTART;TZID=America/Toronto:20250515T180000
DTEND;TZID=America/Toronto:20250515T204500
DTSTAMP:20260419T203324
CREATED:20250519T213542Z
LAST-MODIFIED:20250519T213542Z
UID:10003312-1747332000-1747341900@clubdetirsaint-tite.ca
SUMMARY:102608 _ OFFICIEL
DESCRIPTION:
URL:https://clubdetirsaint-tite.ca/event/102608-_-officiel-14/
CATEGORIES:PRÉSENCES
END:VEVENT
BEGIN:VEVENT
DTSTART;TZID=America/Toronto:20250515T180100
DTEND;TZID=America/Toronto:20250515T203500
DTSTAMP:20260419T203324
CREATED:20250519T213541Z
LAST-MODIFIED:20250519T213541Z
UID:10003310-1747332060-1747341300@clubdetirsaint-tite.ca
SUMMARY:102616 _ TIREUR
DESCRIPTION:
URL:https://clubdetirsaint-tite.ca/event/102616-_-tireur-11/
CATEGORIES:PRÉSENCES
END:VEVENT
BEGIN:VEVENT
DTSTART;TZID=America/Toronto:20250515T180100
DTEND;TZID=America/Toronto:20250515T203500
DTSTAMP:20260419T203324
CREATED:20250519T213541Z
LAST-MODIFIED:20250519T213541Z
UID:10003311-1747332060-1747341300@clubdetirsaint-tite.ca
SUMMARY:100818 _ TIREUR
DESCRIPTION:
URL:https://clubdetirsaint-tite.ca/event/100818-_-tireur-8/
CATEGORIES:PRÉSENCES
END:VEVENT
BEGIN:VEVENT
DTSTART;TZID=America/Toronto:20250516T085300
DTEND;TZID=America/Toronto:20250516T093800
DTSTAMP:20260419T203324
CREATED:20250519T213557Z
LAST-MODIFIED:20250519T213557Z
UID:10003319-1747385580-1747388280@clubdetirsaint-tite.ca
SUMMARY:100436 _ OFFICIEL
DESCRIPTION:
URL:https://clubdetirsaint-tite.ca/event/100436-_-officiel-8/
CATEGORIES:PRÉSENCES
END:VEVENT
BEGIN:VEVENT
DTSTART;TZID=America/Toronto:20250516T085400
DTEND;TZID=America/Toronto:20250516T090200
DTSTAMP:20260419T203324
CREATED:20250519T213556Z
LAST-MODIFIED:20250519T213556Z
UID:10003315-1747385640-1747386120@clubdetirsaint-tite.ca
SUMMARY:100118 _ OFFICIEL
DESCRIPTION:
URL:https://clubdetirsaint-tite.ca/event/100118-_-officiel-8/
CATEGORIES:PRÉSENCES
END:VEVENT
BEGIN:VEVENT
DTSTART;TZID=America/Toronto:20250516T085800
DTEND;TZID=America/Toronto:20250516T085800
DTSTAMP:20260419T203324
CREATED:20250519T213542Z
LAST-MODIFIED:20250519T213542Z
UID:10003313-1747385880-1747385880@clubdetirsaint-tite.ca
SUMMARY:101544 _ OFFICIEL
DESCRIPTION:
URL:https://clubdetirsaint-tite.ca/event/101544-_-officiel/
CATEGORIES:PRÉSENCES
END:VEVENT
BEGIN:VEVENT
DTSTART;TZID=America/Toronto:20250516T085800
DTEND;TZID=America/Toronto:20250516T085800
DTSTAMP:20260419T203324
CREATED:20250519T213542Z
LAST-MODIFIED:20250519T213542Z
UID:10003314-1747385880-1747385880@clubdetirsaint-tite.ca
SUMMARY:101544 _ OFFICIEL
DESCRIPTION:
URL:https://clubdetirsaint-tite.ca/event/101544-_-officiel-2/
CATEGORIES:PRÉSENCES
END:VEVENT
BEGIN:VEVENT
DTSTART;TZID=America/Toronto:20250516T085900
DTEND;TZID=America/Toronto:20250516T092500
DTSTAMP:20260419T203324
CREATED:20250519T213557Z
LAST-MODIFIED:20250519T213557Z
UID:10003317-1747385940-1747387500@clubdetirsaint-tite.ca
SUMMARY:101544 _ TIREUR
DESCRIPTION:
URL:https://clubdetirsaint-tite.ca/event/101544-_-tireur/
CATEGORIES:PRÉSENCES
END:VEVENT
BEGIN:VEVENT
DTSTART;TZID=America/Toronto:20250516T090000
DTEND;TZID=America/Toronto:20250516T110000
DTSTAMP:20260419T203324
CREATED:20250515T121712Z
LAST-MODIFIED:20250515T121712Z
UID:10003240-1747386000-1747393200@clubdetirsaint-tite.ca
SUMMARY:OFFICIEL100436
DESCRIPTION:OFFICIEL
URL:https://clubdetirsaint-tite.ca/event/officiel100436-2/
LOCATION:Club de Tir Saint-Tite\, 35 QC-153\, Saint-Tite\, Quebec\, G0X 3H0\, Canada
END:VEVENT
BEGIN:VEVENT
DTSTART;TZID=America/Toronto:20250516T090300
DTEND;TZID=America/Toronto:20250516T090300
DTSTAMP:20260419T203324
CREATED:20250519T213557Z
LAST-MODIFIED:20250519T213557Z
UID:10003316-1747386180-1747386180@clubdetirsaint-tite.ca
SUMMARY:100118 _ OFFICIEL
DESCRIPTION:
URL:https://clubdetirsaint-tite.ca/event/100118-_-officiel-9/
CATEGORIES:PRÉSENCES
END:VEVENT
BEGIN:VEVENT
DTSTART;TZID=America/Toronto:20250516T090300
DTEND;TZID=America/Toronto:20250516T093700
DTSTAMP:20260419T203324
CREATED:20250519T213557Z
LAST-MODIFIED:20250519T213557Z
UID:10003318-1747386180-1747388220@clubdetirsaint-tite.ca
SUMMARY:100118 _ TIREUR
DESCRIPTION:
URL:https://clubdetirsaint-tite.ca/event/100118-_-tireur-41/
CATEGORIES:PRÉSENCES
END:VEVENT
BEGIN:VEVENT
DTSTART;TZID=America/Toronto:20250516T094000
DTEND;TZID=America/Toronto:20250516T103700
DTSTAMP:20260419T203324
CREATED:20250530T200956Z
LAST-MODIFIED:20250530T200956Z
UID:10003336-1747388400-1747391820@clubdetirsaint-tite.ca
SUMMARY:100436 _ OFFICIEL
DESCRIPTION:
URL:https://clubdetirsaint-tite.ca/event/100436-_-officiel-9/
CATEGORIES:PRÉSENCES
END:VEVENT
BEGIN:VEVENT
DTSTART;TZID=America/Toronto:20250516T095100
DTEND;TZID=America/Toronto:20250516T095100
DTSTAMP:20260419T203324
CREATED:20250530T200956Z
LAST-MODIFIED:20250530T200956Z
UID:10003334-1747389060-1747389060@clubdetirsaint-tite.ca
SUMMARY:100118 _ OFFICIEL
DESCRIPTION:
URL:https://clubdetirsaint-tite.ca/event/100118-_-officiel-10/
CATEGORIES:PRÉSENCES
END:VEVENT
END:VCALENDAR