BEGIN:VCALENDAR
VERSION:2.0
PRODID:-//Club de Tir Saint-Tite - ECPv6.15.20//NONSGML v1.0//EN
CALSCALE:GREGORIAN
METHOD:PUBLISH
X-ORIGINAL-URL:https://clubdetirsaint-tite.ca
X-WR-CALDESC:Évènements pour Club de Tir Saint-Tite
REFRESH-INTERVAL;VALUE=DURATION:PT1H
X-Robots-Tag:noindex
X-PUBLISHED-TTL:PT1H
BEGIN:VTIMEZONE
TZID:America/Toronto
BEGIN:DAYLIGHT
TZOFFSETFROM:-0500
TZOFFSETTO:-0400
TZNAME:EDT
DTSTART:20240310T070000
END:DAYLIGHT
BEGIN:STANDARD
TZOFFSETFROM:-0400
TZOFFSETTO:-0500
TZNAME:EST
DTSTART:20241103T060000
END:STANDARD
BEGIN:DAYLIGHT
TZOFFSETFROM:-0500
TZOFFSETTO:-0400
TZNAME:EDT
DTSTART:20250309T070000
END:DAYLIGHT
BEGIN:STANDARD
TZOFFSETFROM:-0400
TZOFFSETTO:-0500
TZNAME:EST
DTSTART:20251102T060000
END:STANDARD
BEGIN:DAYLIGHT
TZOFFSETFROM:-0500
TZOFFSETTO:-0400
TZNAME:EDT
DTSTART:20260308T070000
END:DAYLIGHT
BEGIN:STANDARD
TZOFFSETFROM:-0400
TZOFFSETTO:-0500
TZNAME:EST
DTSTART:20261101T060000
END:STANDARD
END:VTIMEZONE
BEGIN:VEVENT
DTSTART;TZID=America/Toronto:20250517T081800
DTEND;TZID=America/Toronto:20250517T135600
DTSTAMP:20260420T010213
CREATED:20250530T201013Z
LAST-MODIFIED:20250530T201013Z
UID:10003344-1747469880-1747490160@clubdetirsaint-tite.ca
SUMMARY:100072 _ TIREUR
DESCRIPTION:
URL:https://clubdetirsaint-tite.ca/event/100072-_-tireur-49/
CATEGORIES:PRÉSENCES
END:VEVENT
BEGIN:VEVENT
DTSTART;TZID=America/Toronto:20250517T083100
DTEND;TZID=America/Toronto:20250517T131100
DTSTAMP:20260420T010213
CREATED:20250530T200958Z
LAST-MODIFIED:20250530T200958Z
UID:10003339-1747470660-1747487460@clubdetirsaint-tite.ca
SUMMARY:101992 _ TIREUR
DESCRIPTION:
URL:https://clubdetirsaint-tite.ca/event/101992-_-tireur-5/
CATEGORIES:PRÉSENCES
END:VEVENT
BEGIN:VEVENT
DTSTART;TZID=America/Toronto:20250517T092100
DTEND;TZID=America/Toronto:20250517T135600
DTSTAMP:20260420T010213
CREATED:20250530T201013Z
LAST-MODIFIED:20250530T201013Z
UID:10003345-1747473660-1747490160@clubdetirsaint-tite.ca
SUMMARY:102048 _ OFFICIEL
DESCRIPTION:
URL:https://clubdetirsaint-tite.ca/event/102048-_-officiel-6/
CATEGORIES:PRÉSENCES
END:VEVENT
BEGIN:VEVENT
DTSTART;TZID=America/Toronto:20250517T093400
DTEND;TZID=America/Toronto:20250517T112900
DTSTAMP:20260420T010213
CREATED:20250530T200956Z
LAST-MODIFIED:20250530T200956Z
UID:10003337-1747474440-1747481340@clubdetirsaint-tite.ca
SUMMARY:100706 _ TIREUR
DESCRIPTION:
URL:https://clubdetirsaint-tite.ca/event/100706-_-tireur-12/
CATEGORIES:PRÉSENCES
END:VEVENT
BEGIN:VEVENT
DTSTART;TZID=America/Toronto:20250517T093400
DTEND;TZID=America/Toronto:20250517T112900
DTSTAMP:20260420T010213
CREATED:20250530T200957Z
LAST-MODIFIED:20250530T200957Z
UID:10003338-1747474440-1747481340@clubdetirsaint-tite.ca
SUMMARY:101031 _ OFFICIEL
DESCRIPTION:
URL:https://clubdetirsaint-tite.ca/event/101031-_-officiel-6/
CATEGORIES:PRÉSENCES
END:VEVENT
BEGIN:VEVENT
DTSTART;TZID=America/Toronto:20250517T094400
DTEND;TZID=America/Toronto:20250517T131100
DTSTAMP:20260420T010213
CREATED:20250530T200958Z
LAST-MODIFIED:20250530T200958Z
UID:10003340-1747475040-1747487460@clubdetirsaint-tite.ca
SUMMARY:102222 _ TIREUR
DESCRIPTION:
URL:https://clubdetirsaint-tite.ca/event/102222-_-tireur-3/
CATEGORIES:PRÉSENCES
END:VEVENT
BEGIN:VEVENT
DTSTART;TZID=America/Toronto:20250517T100000
DTEND;TZID=America/Toronto:20250517T110000
DTSTAMP:20260420T010213
CREATED:20250502T113520Z
LAST-MODIFIED:20250502T113520Z
UID:10003117-1747476000-1747479600@clubdetirsaint-tite.ca
SUMMARY:Aucune accueil aujourd’hui
DESCRIPTION:Aucun accueil aujourd’hui
URL:https://clubdetirsaint-tite.ca/event/aucune-accueil-aujourdhui/
LOCATION:Club de Tir Saint-Tite\, 35 QC-153\, Saint-Tite\, Quebec\, G0X 3H0\, Canada
END:VEVENT
BEGIN:VEVENT
DTSTART;TZID=America/Toronto:20250517T101100
DTEND;TZID=America/Toronto:20250517T135600
DTSTAMP:20260420T010213
CREATED:20250530T201013Z
LAST-MODIFIED:20250530T201013Z
UID:10003346-1747476660-1747490160@clubdetirsaint-tite.ca
SUMMARY:100008 _ TIREUR
DESCRIPTION:
URL:https://clubdetirsaint-tite.ca/event/100008-_-tireur-4/
CATEGORIES:PRÉSENCES
END:VEVENT
BEGIN:VEVENT
DTSTART;TZID=America/Toronto:20250518T092900
DTEND;TZID=America/Toronto:20250518T095800
DTSTAMP:20260420T010213
CREATED:20250530T201013Z
LAST-MODIFIED:20250530T201013Z
UID:10003347-1747560540-1747562280@clubdetirsaint-tite.ca
SUMMARY:100690 _ TIREUR
DESCRIPTION:
URL:https://clubdetirsaint-tite.ca/event/100690-_-tireur/
CATEGORIES:PRÉSENCES
END:VEVENT
BEGIN:VEVENT
DTSTART;TZID=America/Toronto:20250518T092900
DTEND;TZID=America/Toronto:20250518T095800
DTSTAMP:20260420T010213
CREATED:20250530T201028Z
LAST-MODIFIED:20250530T201028Z
UID:10003349-1747560540-1747562280@clubdetirsaint-tite.ca
SUMMARY:100549 _ OFFICIEL
DESCRIPTION:
URL:https://clubdetirsaint-tite.ca/event/100549-_-officiel-42/
CATEGORIES:PRÉSENCES
END:VEVENT
BEGIN:VEVENT
DTSTART;TZID=America/Toronto:20250518T093100
DTEND;TZID=America/Toronto:20250518T095800
DTSTAMP:20260420T010213
CREATED:20250530T201014Z
LAST-MODIFIED:20250530T201014Z
UID:10003348-1747560660-1747562280@clubdetirsaint-tite.ca
SUMMARY:101637 _ TIREUR
DESCRIPTION:
URL:https://clubdetirsaint-tite.ca/event/101637-_-tireur/
CATEGORIES:PRÉSENCES
END:VEVENT
BEGIN:VEVENT
DTSTART;TZID=America/Toronto:20250518T100000
DTEND;TZID=America/Toronto:20250518T110000
DTSTAMP:20260420T010213
CREATED:20250503T122245Z
LAST-MODIFIED:20250503T122245Z
UID:10003156-1747562400-1747566000@clubdetirsaint-tite.ca
SUMMARY:Session accueil
DESCRIPTION:Session accueil
URL:https://clubdetirsaint-tite.ca/event/session-accueil-4/
LOCATION:Club de Tir Saint-Tite\, 35 QC-153\, Saint-Tite\, Quebec\, G0X 3H0\, Canada
END:VEVENT
BEGIN:VEVENT
DTSTART;TZID=America/Toronto:20250519T092900
DTEND;TZID=America/Toronto:20250519T110800
DTSTAMP:20260420T010213
CREATED:20250530T201043Z
LAST-MODIFIED:20250530T201043Z
UID:10003357-1747646940-1747652880@clubdetirsaint-tite.ca
SUMMARY:100392 _ OFFICIEL
DESCRIPTION:
URL:https://clubdetirsaint-tite.ca/event/100392-_-officiel/
CATEGORIES:PRÉSENCES
END:VEVENT
BEGIN:VEVENT
DTSTART;TZID=America/Toronto:20250519T093000
DTEND;TZID=America/Toronto:20250519T110000
DTSTAMP:20260420T010213
CREATED:20250512T132730Z
LAST-MODIFIED:20250512T132730Z
UID:10003235-1747647000-1747652400@clubdetirsaint-tite.ca
SUMMARY:OFFICIEL 100392
DESCRIPTION:OFFICIEL
URL:https://clubdetirsaint-tite.ca/event/officiel-100392-2/
LOCATION:Club de Tir Saint-Tite\, 35 QC-153\, Saint-Tite\, Quebec\, G0X 3H0\, Canada
END:VEVENT
BEGIN:VEVENT
DTSTART;TZID=America/Toronto:20250519T093800
DTEND;TZID=America/Toronto:20250519T100300
DTSTAMP:20260420T010213
CREATED:20250530T201028Z
LAST-MODIFIED:20250530T201028Z
UID:10003350-1747647480-1747648980@clubdetirsaint-tite.ca
SUMMARY:101610 _ TIREUR
DESCRIPTION:
URL:https://clubdetirsaint-tite.ca/event/101610-_-tireur/
CATEGORIES:PRÉSENCES
END:VEVENT
BEGIN:VEVENT
DTSTART;TZID=America/Toronto:20250519T094800
DTEND;TZID=America/Toronto:20250519T102100
DTSTAMP:20260420T010213
CREATED:20250530T201028Z
LAST-MODIFIED:20250530T201028Z
UID:10003352-1747648080-1747650060@clubdetirsaint-tite.ca
SUMMARY:102493 _ TIREUR
DESCRIPTION:
URL:https://clubdetirsaint-tite.ca/event/102493-_-tireur/
CATEGORIES:PRÉSENCES
END:VEVENT
BEGIN:VEVENT
DTSTART;TZID=America/Toronto:20250519T094900
DTEND;TZID=America/Toronto:20250519T102100
DTSTAMP:20260420T010213
CREATED:20250530T201028Z
LAST-MODIFIED:20250530T201028Z
UID:10003351-1747648140-1747650060@clubdetirsaint-tite.ca
SUMMARY:102492 _ TIREUR
DESCRIPTION:
URL:https://clubdetirsaint-tite.ca/event/102492-_-tireur/
CATEGORIES:PRÉSENCES
END:VEVENT
BEGIN:VEVENT
DTSTART;TZID=America/Toronto:20250519T095300
DTEND;TZID=America/Toronto:20250519T104100
DTSTAMP:20260420T010213
CREATED:20250530T201043Z
LAST-MODIFIED:20250530T201043Z
UID:10003354-1747648380-1747651260@clubdetirsaint-tite.ca
SUMMARY:101585 _ TIREUR
DESCRIPTION:
URL:https://clubdetirsaint-tite.ca/event/101585-_-tireur-2/
CATEGORIES:PRÉSENCES
END:VEVENT
BEGIN:VEVENT
DTSTART;TZID=America/Toronto:20250519T100900
DTEND;TZID=America/Toronto:20250519T104100
DTSTAMP:20260420T010213
CREATED:20250530T201029Z
LAST-MODIFIED:20250530T201029Z
UID:10003353-1747649340-1747651260@clubdetirsaint-tite.ca
SUMMARY:101658 _ TIREUR
DESCRIPTION:
URL:https://clubdetirsaint-tite.ca/event/101658-_-tireur/
CATEGORIES:PRÉSENCES
END:VEVENT
BEGIN:VEVENT
DTSTART;TZID=America/Toronto:20250519T101700
DTEND;TZID=America/Toronto:20250519T110100
DTSTAMP:20260420T010213
CREATED:20250530T201043Z
LAST-MODIFIED:20250530T201043Z
UID:10003356-1747649820-1747652460@clubdetirsaint-tite.ca
SUMMARY:102783 _ TIREUR
DESCRIPTION:
URL:https://clubdetirsaint-tite.ca/event/102783-_-tireur/
CATEGORIES:PRÉSENCES
END:VEVENT
BEGIN:VEVENT
DTSTART;TZID=America/Toronto:20250519T102300
DTEND;TZID=America/Toronto:20250519T105600
DTSTAMP:20260420T010213
CREATED:20250530T201043Z
LAST-MODIFIED:20250530T201043Z
UID:10003355-1747650180-1747652160@clubdetirsaint-tite.ca
SUMMARY:102674 _ TIREUR
DESCRIPTION:
URL:https://clubdetirsaint-tite.ca/event/102674-_-tireur/
CATEGORIES:PRÉSENCES
END:VEVENT
BEGIN:VEVENT
DTSTART;TZID=America/Toronto:20250519T130000
DTEND;TZID=America/Toronto:20250519T143000
DTSTAMP:20260420T010213
CREATED:20250318T205533Z
LAST-MODIFIED:20250318T205533Z
UID:10002762-1747659600-1747665000@clubdetirsaint-tite.ca
SUMMARY:Officiel 102351
DESCRIPTION:Officier 102351
URL:https://clubdetirsaint-tite.ca/event/officiel-102351-2/
LOCATION:Club de Tir Saint-Tite\, 35 QC-153\, Saint-Tite\, Quebec\, G0X 3H0\, Canada
END:VEVENT
BEGIN:VEVENT
DTSTART;TZID=America/Toronto:20250519T135200
DTEND;TZID=America/Toronto:20250519T144300
DTSTAMP:20260420T010213
CREATED:20250530T201058Z
LAST-MODIFIED:20250530T201058Z
UID:10003359-1747662720-1747665780@clubdetirsaint-tite.ca
SUMMARY:102351 _ OFFICIEL
DESCRIPTION:
URL:https://clubdetirsaint-tite.ca/event/102351-_-officiel-5/
CATEGORIES:PRÉSENCES
END:VEVENT
BEGIN:VEVENT
DTSTART;TZID=America/Toronto:20250519T135600
DTEND;TZID=America/Toronto:20250519T144200
DTSTAMP:20260420T010213
CREATED:20250530T201043Z
LAST-MODIFIED:20250530T201043Z
UID:10003358-1747662960-1747665720@clubdetirsaint-tite.ca
SUMMARY:102353 _ TIREUR
DESCRIPTION:
URL:https://clubdetirsaint-tite.ca/event/102353-_-tireur/
CATEGORIES:PRÉSENCES
END:VEVENT
BEGIN:VEVENT
DTSTART;TZID=America/Toronto:20250519T135800
DTEND;TZID=America/Toronto:20250519T144400
DTSTAMP:20260420T010213
CREATED:20250530T201058Z
LAST-MODIFIED:20250530T201058Z
UID:10003360-1747663080-1747665840@clubdetirsaint-tite.ca
SUMMARY:102246 _ TIREUR
DESCRIPTION:
URL:https://clubdetirsaint-tite.ca/event/102246-_-tireur/
CATEGORIES:PRÉSENCES
END:VEVENT
BEGIN:VEVENT
DTSTART;TZID=America/Toronto:20250519T143000
DTEND;TZID=America/Toronto:20250519T160000
DTSTAMP:20260420T010213
CREATED:20250401T220311Z
LAST-MODIFIED:20250413T163853Z
UID:10002933-1747665000-1747670400@clubdetirsaint-tite.ca
SUMMARY:OFFICIEL
DESCRIPTION:tir libre \nand-jas
URL:https://clubdetirsaint-tite.ca/event/officiel-70/
LOCATION:Club de Tir Saint-Tite\, 35 QC-153\, Saint-Tite\, Quebec\, G0X 3H0\, Canada
END:VEVENT
BEGIN:VEVENT
DTSTART;TZID=America/Toronto:20250519T143200
DTEND;TZID=America/Toronto:20250519T151100
DTSTAMP:20260420T010213
CREATED:20250530T201058Z
LAST-MODIFIED:20250530T201058Z
UID:10003361-1747665120-1747667460@clubdetirsaint-tite.ca
SUMMARY:101804 _ TIREUR
DESCRIPTION:
URL:https://clubdetirsaint-tite.ca/event/101804-_-tireur/
CATEGORIES:PRÉSENCES
END:VEVENT
BEGIN:VEVENT
DTSTART;TZID=America/Toronto:20250519T144400
DTEND;TZID=America/Toronto:20250519T160400
DTSTAMP:20260420T010213
CREATED:20250530T201058Z
LAST-MODIFIED:20250530T201058Z
UID:10003363-1747665840-1747670640@clubdetirsaint-tite.ca
SUMMARY:100549 _ OFFICIEL
DESCRIPTION:
URL:https://clubdetirsaint-tite.ca/event/100549-_-officiel-43/
CATEGORIES:PRÉSENCES
END:VEVENT
BEGIN:VEVENT
DTSTART;TZID=America/Toronto:20250519T144500
DTEND;TZID=America/Toronto:20250519T155200
DTSTAMP:20260420T010213
CREATED:20250530T201058Z
LAST-MODIFIED:20250530T201058Z
UID:10003362-1747665900-1747669920@clubdetirsaint-tite.ca
SUMMARY:102235 _ TIREUR
DESCRIPTION:
URL:https://clubdetirsaint-tite.ca/event/102235-_-tireur/
CATEGORIES:PRÉSENCES
END:VEVENT
BEGIN:VEVENT
DTSTART;TZID=America/Toronto:20250520T090000
DTEND;TZID=America/Toronto:20250520T103000
DTSTAMP:20260420T010213
CREATED:20250518T124230Z
LAST-MODIFIED:20250518T124230Z
UID:10003242-1747731600-1747737000@clubdetirsaint-tite.ca
SUMMARY:OFFICIEL 101040
DESCRIPTION:OFFICIEL
URL:https://clubdetirsaint-tite.ca/event/officiel-101040/
LOCATION:Club de Tir Saint-Tite\, 35 QC-153\, Saint-Tite\, Quebec\, G0X 3H0\, Canada
END:VEVENT
END:VCALENDAR