BEGIN:VCALENDAR
VERSION:2.0
PRODID:-//Club de Tir Saint-Tite - ECPv6.15.20//NONSGML v1.0//EN
CALSCALE:GREGORIAN
METHOD:PUBLISH
X-WR-CALNAME:Club de Tir Saint-Tite
X-ORIGINAL-URL:https://clubdetirsaint-tite.ca
X-WR-CALDESC:Évènements pour Club de Tir Saint-Tite
REFRESH-INTERVAL;VALUE=DURATION:PT1H
X-Robots-Tag:noindex
X-PUBLISHED-TTL:PT1H
BEGIN:VTIMEZONE
TZID:America/Toronto
BEGIN:DAYLIGHT
TZOFFSETFROM:-0500
TZOFFSETTO:-0400
TZNAME:EDT
DTSTART:20240310T070000
END:DAYLIGHT
BEGIN:STANDARD
TZOFFSETFROM:-0400
TZOFFSETTO:-0500
TZNAME:EST
DTSTART:20241103T060000
END:STANDARD
BEGIN:DAYLIGHT
TZOFFSETFROM:-0500
TZOFFSETTO:-0400
TZNAME:EDT
DTSTART:20250309T070000
END:DAYLIGHT
BEGIN:STANDARD
TZOFFSETFROM:-0400
TZOFFSETTO:-0500
TZNAME:EST
DTSTART:20251102T060000
END:STANDARD
BEGIN:DAYLIGHT
TZOFFSETFROM:-0500
TZOFFSETTO:-0400
TZNAME:EDT
DTSTART:20260308T070000
END:DAYLIGHT
BEGIN:STANDARD
TZOFFSETFROM:-0400
TZOFFSETTO:-0500
TZNAME:EST
DTSTART:20261101T060000
END:STANDARD
END:VTIMEZONE
BEGIN:VEVENT
DTSTART;TZID=America/Toronto:20251030T135400
DTEND;TZID=America/Toronto:20251030T141400
DTSTAMP:20260422T183441
CREATED:20251114T223415Z
LAST-MODIFIED:20251114T223415Z
UID:10004209-1761832440-1761833640@clubdetirsaint-tite.ca
SUMMARY:100930 _ TIREUR
DESCRIPTION:
URL:https://clubdetirsaint-tite.ca/event/100930-_-tireur-3/
CATEGORIES:PRÉSENCES
END:VEVENT
BEGIN:VEVENT
DTSTART;TZID=America/Toronto:20251030T131600
DTEND;TZID=America/Toronto:20251030T135200
DTSTAMP:20260422T183441
CREATED:20251114T223414Z
LAST-MODIFIED:20251114T223414Z
UID:10004207-1761830160-1761832320@clubdetirsaint-tite.ca
SUMMARY:100930 _ TIREUR
DESCRIPTION:
URL:https://clubdetirsaint-tite.ca/event/100930-_-tireur-2/
CATEGORIES:PRÉSENCES
END:VEVENT
BEGIN:VEVENT
DTSTART;TZID=America/Toronto:20251030T131400
DTEND;TZID=America/Toronto:20251030T135400
DTSTAMP:20260422T183441
CREATED:20251114T223415Z
LAST-MODIFIED:20251114T223415Z
UID:10004208-1761830040-1761832440@clubdetirsaint-tite.ca
SUMMARY:102095 _ TIREUR
DESCRIPTION:
URL:https://clubdetirsaint-tite.ca/event/102095-_-tireur-5/
CATEGORIES:PRÉSENCES
END:VEVENT
BEGIN:VEVENT
DTSTART;TZID=America/Toronto:20251030T131300
DTEND;TZID=America/Toronto:20251030T131300
DTSTAMP:20260422T183441
CREATED:20251114T223414Z
LAST-MODIFIED:20251114T223414Z
UID:10004206-1761829980-1761829980@clubdetirsaint-tite.ca
SUMMARY:102095 _ OFFICIEL
DESCRIPTION:
URL:https://clubdetirsaint-tite.ca/event/102095-_-officiel/
CATEGORIES:PRÉSENCES
END:VEVENT
BEGIN:VEVENT
DTSTART;TZID=America/Toronto:20251030T130000
DTEND;TZID=America/Toronto:20251030T160000
DTSTAMP:20260422T183441
CREATED:20251028T173320Z
LAST-MODIFIED:20251028T173320Z
UID:10004147-1761829200-1761840000@clubdetirsaint-tite.ca
SUMMARY:OFFICIEL 101513 et OFFICIEL 101514
DESCRIPTION:OFFICIEL 101513 de 13h00 à 14h30 et OFFICIEL 101514 de 14h30 à 16h00
URL:https://clubdetirsaint-tite.ca/event/officiel-101513-et-officiel-101514/
LOCATION:Club de Tir Saint-Tite\, 35 QC-153\, Saint-Tite\, Quebec\, G0X 3H0\, Canada
END:VEVENT
BEGIN:VEVENT
DTSTART;TZID=America/Toronto:20251030T124200
DTEND;TZID=America/Toronto:20251030T142800
DTSTAMP:20260422T183441
CREATED:20251114T223416Z
LAST-MODIFIED:20251114T223416Z
UID:10004210-1761828120-1761834480@clubdetirsaint-tite.ca
SUMMARY:101514 _ TIREUR
DESCRIPTION:
URL:https://clubdetirsaint-tite.ca/event/101514-_-tireur-5/
CATEGORIES:PRÉSENCES
END:VEVENT
BEGIN:VEVENT
DTSTART;TZID=America/Toronto:20251030T124000
DTEND;TZID=America/Toronto:20251030T143000
DTSTAMP:20260422T183441
CREATED:20251114T223416Z
LAST-MODIFIED:20251114T223416Z
UID:10004211-1761828000-1761834600@clubdetirsaint-tite.ca
SUMMARY:101513 _ OFFICIEL
DESCRIPTION:
URL:https://clubdetirsaint-tite.ca/event/101513-_-officiel/
CATEGORIES:PRÉSENCES
END:VEVENT
BEGIN:VEVENT
DTSTART;TZID=America/Toronto:20251029T143800
DTEND;TZID=America/Toronto:20251029T150700
DTSTAMP:20260422T183441
CREATED:20251114T223413Z
LAST-MODIFIED:20251114T223413Z
UID:10004204-1761748680-1761750420@clubdetirsaint-tite.ca
SUMMARY:102564 _ TIREUR
DESCRIPTION:
URL:https://clubdetirsaint-tite.ca/event/102564-_-tireur-2/
CATEGORIES:PRÉSENCES
END:VEVENT
BEGIN:VEVENT
DTSTART;TZID=America/Toronto:20251029T133800
DTEND;TZID=America/Toronto:20251029T144300
DTSTAMP:20260422T183441
CREATED:20251114T223413Z
LAST-MODIFIED:20251114T223413Z
UID:10004203-1761745080-1761748980@clubdetirsaint-tite.ca
SUMMARY:102150 _ TIREUR
DESCRIPTION:
URL:https://clubdetirsaint-tite.ca/event/102150-_-tireur-10/
CATEGORIES:PRÉSENCES
END:VEVENT
BEGIN:VEVENT
DTSTART;TZID=America/Toronto:20251029T133000
DTEND;TZID=America/Toronto:20251029T140100
DTSTAMP:20260422T183441
CREATED:20251114T223359Z
LAST-MODIFIED:20251114T223359Z
UID:10004200-1761744600-1761746460@clubdetirsaint-tite.ca
SUMMARY:102129 _ TIREUR
DESCRIPTION:
URL:https://clubdetirsaint-tite.ca/event/102129-_-tireur-4/
CATEGORIES:PRÉSENCES
END:VEVENT
BEGIN:VEVENT
DTSTART;TZID=America/Toronto:20251029T132900
DTEND;TZID=America/Toronto:20251029T133000
DTSTAMP:20260422T183441
CREATED:20251114T223358Z
LAST-MODIFIED:20251114T223358Z
UID:10004199-1761744540-1761744600@clubdetirsaint-tite.ca
SUMMARY:102129 _ OFFICIEL
DESCRIPTION:
URL:https://clubdetirsaint-tite.ca/event/102129-_-officiel-2/
CATEGORIES:PRÉSENCES
END:VEVENT
BEGIN:VEVENT
DTSTART;TZID=America/Toronto:20251029T130800
DTEND;TZID=America/Toronto:20251029T140200
DTSTAMP:20260422T183441
CREATED:20251114T223359Z
LAST-MODIFIED:20251114T223359Z
UID:10004201-1761743280-1761746520@clubdetirsaint-tite.ca
SUMMARY:101315 _ TIREUR
DESCRIPTION:
URL:https://clubdetirsaint-tite.ca/event/101315-_-tireur-2/
CATEGORIES:PRÉSENCES
END:VEVENT
BEGIN:VEVENT
DTSTART;TZID=America/Toronto:20251029T130600
DTEND;TZID=America/Toronto:20251029T143400
DTSTAMP:20260422T183441
CREATED:20251114T223359Z
LAST-MODIFIED:20251114T223359Z
UID:10004202-1761743160-1761748440@clubdetirsaint-tite.ca
SUMMARY:100724 _ TIREUR
DESCRIPTION:
URL:https://clubdetirsaint-tite.ca/event/100724-_-tireur-22/
CATEGORIES:PRÉSENCES
END:VEVENT
BEGIN:VEVENT
DTSTART;TZID=America/Toronto:20251029T130500
DTEND;TZID=America/Toronto:20251029T155400
DTSTAMP:20260422T183441
CREATED:20251114T223414Z
LAST-MODIFIED:20251114T223414Z
UID:10004205-1761743100-1761753240@clubdetirsaint-tite.ca
SUMMARY:100549 _ OFFICIEL
DESCRIPTION:
URL:https://clubdetirsaint-tite.ca/event/100549-_-officiel-72/
CATEGORIES:PRÉSENCES
END:VEVENT
BEGIN:VEVENT
DTSTART;TZID=America/Toronto:20251029T130000
DTEND;TZID=America/Toronto:20251029T160000
DTSTAMP:20260422T183441
CREATED:20251018T194807Z
LAST-MODIFIED:20251018T194807Z
UID:10004043-1761742800-1761753600@clubdetirsaint-tite.ca
SUMMARY:OFFICIEL
DESCRIPTION:tir libre \nand-jas
URL:https://clubdetirsaint-tite.ca/event/officiel-7/
LOCATION:Club de Tir Saint-Tite\, 35 QC-153\, Saint-Tite\, Quebec\, G0X 3H0\, Canada
END:VEVENT
BEGIN:VEVENT
DTSTART;TZID=America/Toronto:20251028T094800
DTEND;TZID=America/Toronto:20251028T105600
DTSTAMP:20260422T183441
CREATED:20251114T223344Z
LAST-MODIFIED:20251114T223344Z
UID:10004197-1761644880-1761648960@clubdetirsaint-tite.ca
SUMMARY:102121 _ TIREUR
DESCRIPTION:
URL:https://clubdetirsaint-tite.ca/event/102121-_-tireur-13/
CATEGORIES:PRÉSENCES
END:VEVENT
BEGIN:VEVENT
DTSTART;TZID=America/Toronto:20251028T094700
DTEND;TZID=America/Toronto:20251028T105600
DTSTAMP:20260422T183441
CREATED:20251114T223358Z
LAST-MODIFIED:20251114T223358Z
UID:10004198-1761644820-1761648960@clubdetirsaint-tite.ca
SUMMARY:102137 _ OFFICIEL
DESCRIPTION:
URL:https://clubdetirsaint-tite.ca/event/102137-_-officiel-5/
CATEGORIES:PRÉSENCES
END:VEVENT
BEGIN:VEVENT
DTSTART;TZID=America/Toronto:20251027T142900
DTEND;TZID=America/Toronto:20251027T145100
DTSTAMP:20260422T183441
CREATED:20251114T223343Z
LAST-MODIFIED:20251114T223343Z
UID:10004195-1761575340-1761576660@clubdetirsaint-tite.ca
SUMMARY:102113 _ TIREUR
DESCRIPTION:
URL:https://clubdetirsaint-tite.ca/event/102113-_-tireur-2/
CATEGORIES:PRÉSENCES
END:VEVENT
BEGIN:VEVENT
DTSTART;TZID=America/Toronto:20251027T131700
DTEND;TZID=America/Toronto:20251027T142100
DTSTAMP:20260422T183441
CREATED:20251114T223343Z
LAST-MODIFIED:20251114T223343Z
UID:10004193-1761571020-1761574860@clubdetirsaint-tite.ca
SUMMARY:101296 _ TIREUR
DESCRIPTION:
URL:https://clubdetirsaint-tite.ca/event/101296-_-tireur-2/
CATEGORIES:PRÉSENCES
END:VEVENT
BEGIN:VEVENT
DTSTART;TZID=America/Toronto:20251027T131600
DTEND;TZID=America/Toronto:20251027T142100
DTSTAMP:20260422T183441
CREATED:20251114T223343Z
LAST-MODIFIED:20251114T223343Z
UID:10004194-1761570960-1761574860@clubdetirsaint-tite.ca
SUMMARY:101297 _ TIREUR
DESCRIPTION:
URL:https://clubdetirsaint-tite.ca/event/101297-_-tireur-2/
CATEGORIES:PRÉSENCES
END:VEVENT
BEGIN:VEVENT
DTSTART;TZID=America/Toronto:20251027T130500
DTEND;TZID=America/Toronto:20251027T132700
DTSTAMP:20260422T183441
CREATED:20251114T223329Z
LAST-MODIFIED:20251114T223329Z
UID:10004192-1761570300-1761571620@clubdetirsaint-tite.ca
SUMMARY:100377 _ TIREUR
DESCRIPTION:
URL:https://clubdetirsaint-tite.ca/event/100377-_-tireur-4/
CATEGORIES:PRÉSENCES
END:VEVENT
BEGIN:VEVENT
DTSTART;TZID=America/Toronto:20251027T130000
DTEND;TZID=America/Toronto:20251027T160000
DTSTAMP:20260422T183441
CREATED:20251018T194714Z
LAST-MODIFIED:20251018T194714Z
UID:10004042-1761570000-1761580800@clubdetirsaint-tite.ca
SUMMARY:OFFICIEL
DESCRIPTION:tir libre \nand-jas
URL:https://clubdetirsaint-tite.ca/event/officiel-6/
LOCATION:Club de Tir Saint-Tite\, 35 QC-153\, Saint-Tite\, Quebec\, G0X 3H0\, Canada
END:VEVENT
BEGIN:VEVENT
DTSTART;TZID=America/Toronto:20251027T125700
DTEND;TZID=America/Toronto:20251027T155100
DTSTAMP:20260422T183441
CREATED:20251114T223344Z
LAST-MODIFIED:20251114T223344Z
UID:10004196-1761569820-1761580260@clubdetirsaint-tite.ca
SUMMARY:100548 _ OFFICIEL
DESCRIPTION:
URL:https://clubdetirsaint-tite.ca/event/100548-_-officiel-56/
CATEGORIES:PRÉSENCES
END:VEVENT
BEGIN:VEVENT
DTSTART;TZID=America/Toronto:20251025T130400
DTEND;TZID=America/Toronto:20251025T162300
DTSTAMP:20260422T183441
CREATED:20251114T223328Z
LAST-MODIFIED:20251114T223328Z
UID:10004188-1761397440-1761409380@clubdetirsaint-tite.ca
SUMMARY:102609 _ TIREUR
DESCRIPTION:
URL:https://clubdetirsaint-tite.ca/event/102609-_-tireur-15/
CATEGORIES:PRÉSENCES
END:VEVENT
BEGIN:VEVENT
DTSTART;TZID=America/Toronto:20251025T100000
DTEND;TZID=America/Toronto:20251025T110000
DTSTAMP:20260422T183441
CREATED:20251002T130751Z
LAST-MODIFIED:20251002T130751Z
UID:10004028-1761386400-1761390000@clubdetirsaint-tite.ca
SUMMARY:Session accueil
DESCRIPTION:Session accueil
URL:https://clubdetirsaint-tite.ca/event/session-accueil-24/
LOCATION:Club de Tir Saint-Tite\, 35 QC-153\, Saint-Tite\, Quebec\, G0X 3H0\, Canada
END:VEVENT
BEGIN:VEVENT
DTSTART;TZID=America/Toronto:20251025T094700
DTEND;TZID=America/Toronto:20251027T132200
DTSTAMP:20260422T183441
CREATED:20251114T223329Z
LAST-MODIFIED:20251114T223329Z
UID:10004191-1761385620-1761571320@clubdetirsaint-tite.ca
SUMMARY:102608 _ TIREUR
DESCRIPTION:
URL:https://clubdetirsaint-tite.ca/event/102608-_-tireur-30/
CATEGORIES:PRÉSENCES
END:VEVENT
BEGIN:VEVENT
DTSTART;TZID=America/Toronto:20251025T094600
DTEND;TZID=America/Toronto:20251025T163800
DTSTAMP:20260422T183441
CREATED:20251114T223328Z
LAST-MODIFIED:20251114T223328Z
UID:10004189-1761385560-1761410280@clubdetirsaint-tite.ca
SUMMARY:102616 _ TIREUR
DESCRIPTION:
URL:https://clubdetirsaint-tite.ca/event/102616-_-tireur-22/
CATEGORIES:PRÉSENCES
END:VEVENT
BEGIN:VEVENT
DTSTART;TZID=America/Toronto:20251025T093800
DTEND;TZID=America/Toronto:20251025T173300
DTSTAMP:20260422T183441
CREATED:20251114T223328Z
LAST-MODIFIED:20251114T223328Z
UID:10004190-1761385080-1761413580@clubdetirsaint-tite.ca
SUMMARY:102693 _ OFFICIEL
DESCRIPTION:
URL:https://clubdetirsaint-tite.ca/event/102693-_-officiel-5/
CATEGORIES:PRÉSENCES
END:VEVENT
BEGIN:VEVENT
DTSTART;TZID=America/Toronto:20251025T090000
DTEND;TZID=America/Toronto:20251025T103000
DTSTAMP:20260422T183441
CREATED:20251023T152359Z
LAST-MODIFIED:20251023T152359Z
UID:10004145-1761382800-1761388200@clubdetirsaint-tite.ca
SUMMARY:Officiel 50 V. 101714
DESCRIPTION:officiel au 50 v \n101713
URL:https://clubdetirsaint-tite.ca/event/officiel-50-v-101714/
LOCATION:Club de Tir Saint-Tite\, 35 QC-153\, Saint-Tite\, Quebec\, G0X 3H0\, Canada
END:VEVENT
BEGIN:VEVENT
DTSTART;VALUE=DATE:20251025
DTEND;VALUE=DATE:20251026
DTSTAMP:20260422T183441
CREATED:20251017T212550Z
LAST-MODIFIED:20251017T212550Z
UID:10004038-1761350400-1761436799@clubdetirsaint-tite.ca
SUMMARY:Match IPSC sur le 25m
DESCRIPTION:Petit match ipsc sur le pas de tir restreint 25m \nLes autres pas de tir serons tous accessible.           Eric Launier V.P
URL:https://clubdetirsaint-tite.ca/event/match-ipsc-sur-le-25m/
LOCATION:Club de Tir Saint-Tite\, 35 QC-153\, Saint-Tite\, Quebec\, G0X 3H0\, Canada
END:VEVENT
END:VCALENDAR