BEGIN:VCALENDAR
VERSION:2.0
PRODID:-//Club de Tir Saint-Tite - ECPv6.15.20//NONSGML v1.0//EN
CALSCALE:GREGORIAN
METHOD:PUBLISH
X-WR-CALNAME:Club de Tir Saint-Tite
X-ORIGINAL-URL:https://clubdetirsaint-tite.ca
X-WR-CALDESC:Évènements pour Club de Tir Saint-Tite
REFRESH-INTERVAL;VALUE=DURATION:PT1H
X-Robots-Tag:noindex
X-PUBLISHED-TTL:PT1H
BEGIN:VTIMEZONE
TZID:America/Toronto
BEGIN:DAYLIGHT
TZOFFSETFROM:-0500
TZOFFSETTO:-0400
TZNAME:EDT
DTSTART:20240310T070000
END:DAYLIGHT
BEGIN:STANDARD
TZOFFSETFROM:-0400
TZOFFSETTO:-0500
TZNAME:EST
DTSTART:20241103T060000
END:STANDARD
BEGIN:DAYLIGHT
TZOFFSETFROM:-0500
TZOFFSETTO:-0400
TZNAME:EDT
DTSTART:20250309T070000
END:DAYLIGHT
BEGIN:STANDARD
TZOFFSETFROM:-0400
TZOFFSETTO:-0500
TZNAME:EST
DTSTART:20251102T060000
END:STANDARD
BEGIN:DAYLIGHT
TZOFFSETFROM:-0500
TZOFFSETTO:-0400
TZNAME:EDT
DTSTART:20260308T070000
END:DAYLIGHT
BEGIN:STANDARD
TZOFFSETFROM:-0400
TZOFFSETTO:-0500
TZNAME:EST
DTSTART:20261101T060000
END:STANDARD
END:VTIMEZONE
BEGIN:VEVENT
DTSTART;TZID=America/Toronto:20251027T130000
DTEND;TZID=America/Toronto:20251027T160000
DTSTAMP:20260422T181707
CREATED:20251018T194714Z
LAST-MODIFIED:20251018T194714Z
UID:10004042-1761570000-1761580800@clubdetirsaint-tite.ca
SUMMARY:OFFICIEL
DESCRIPTION:tir libre \nand-jas
URL:https://clubdetirsaint-tite.ca/event/officiel-6/
LOCATION:Club de Tir Saint-Tite\, 35 QC-153\, Saint-Tite\, Quebec\, G0X 3H0\, Canada
END:VEVENT
BEGIN:VEVENT
DTSTART;TZID=America/Toronto:20251027T125700
DTEND;TZID=America/Toronto:20251027T155100
DTSTAMP:20260422T181707
CREATED:20251114T223344Z
LAST-MODIFIED:20251114T223344Z
UID:10004196-1761569820-1761580260@clubdetirsaint-tite.ca
SUMMARY:100548 _ OFFICIEL
DESCRIPTION:
URL:https://clubdetirsaint-tite.ca/event/100548-_-officiel-56/
CATEGORIES:PRÉSENCES
END:VEVENT
BEGIN:VEVENT
DTSTART;TZID=America/Toronto:20251025T130400
DTEND;TZID=America/Toronto:20251025T162300
DTSTAMP:20260422T181707
CREATED:20251114T223328Z
LAST-MODIFIED:20251114T223328Z
UID:10004188-1761397440-1761409380@clubdetirsaint-tite.ca
SUMMARY:102609 _ TIREUR
DESCRIPTION:
URL:https://clubdetirsaint-tite.ca/event/102609-_-tireur-15/
CATEGORIES:PRÉSENCES
END:VEVENT
BEGIN:VEVENT
DTSTART;TZID=America/Toronto:20251025T100000
DTEND;TZID=America/Toronto:20251025T110000
DTSTAMP:20260422T181707
CREATED:20251002T130751Z
LAST-MODIFIED:20251002T130751Z
UID:10004028-1761386400-1761390000@clubdetirsaint-tite.ca
SUMMARY:Session accueil
DESCRIPTION:Session accueil
URL:https://clubdetirsaint-tite.ca/event/session-accueil-24/
LOCATION:Club de Tir Saint-Tite\, 35 QC-153\, Saint-Tite\, Quebec\, G0X 3H0\, Canada
END:VEVENT
BEGIN:VEVENT
DTSTART;TZID=America/Toronto:20251025T094700
DTEND;TZID=America/Toronto:20251027T132200
DTSTAMP:20260422T181707
CREATED:20251114T223329Z
LAST-MODIFIED:20251114T223329Z
UID:10004191-1761385620-1761571320@clubdetirsaint-tite.ca
SUMMARY:102608 _ TIREUR
DESCRIPTION:
URL:https://clubdetirsaint-tite.ca/event/102608-_-tireur-30/
CATEGORIES:PRÉSENCES
END:VEVENT
BEGIN:VEVENT
DTSTART;TZID=America/Toronto:20251025T094600
DTEND;TZID=America/Toronto:20251025T163800
DTSTAMP:20260422T181707
CREATED:20251114T223328Z
LAST-MODIFIED:20251114T223328Z
UID:10004189-1761385560-1761410280@clubdetirsaint-tite.ca
SUMMARY:102616 _ TIREUR
DESCRIPTION:
URL:https://clubdetirsaint-tite.ca/event/102616-_-tireur-22/
CATEGORIES:PRÉSENCES
END:VEVENT
BEGIN:VEVENT
DTSTART;TZID=America/Toronto:20251025T093800
DTEND;TZID=America/Toronto:20251025T173300
DTSTAMP:20260422T181707
CREATED:20251114T223328Z
LAST-MODIFIED:20251114T223328Z
UID:10004190-1761385080-1761413580@clubdetirsaint-tite.ca
SUMMARY:102693 _ OFFICIEL
DESCRIPTION:
URL:https://clubdetirsaint-tite.ca/event/102693-_-officiel-5/
CATEGORIES:PRÉSENCES
END:VEVENT
BEGIN:VEVENT
DTSTART;TZID=America/Toronto:20251025T090000
DTEND;TZID=America/Toronto:20251025T103000
DTSTAMP:20260422T181707
CREATED:20251023T152359Z
LAST-MODIFIED:20251023T152359Z
UID:10004145-1761382800-1761388200@clubdetirsaint-tite.ca
SUMMARY:Officiel 50 V. 101714
DESCRIPTION:officiel au 50 v \n101713
URL:https://clubdetirsaint-tite.ca/event/officiel-50-v-101714/
LOCATION:Club de Tir Saint-Tite\, 35 QC-153\, Saint-Tite\, Quebec\, G0X 3H0\, Canada
END:VEVENT
BEGIN:VEVENT
DTSTART;VALUE=DATE:20251025
DTEND;VALUE=DATE:20251026
DTSTAMP:20260422T181707
CREATED:20251017T212550Z
LAST-MODIFIED:20251017T212550Z
UID:10004038-1761350400-1761436799@clubdetirsaint-tite.ca
SUMMARY:Match IPSC sur le 25m
DESCRIPTION:Petit match ipsc sur le pas de tir restreint 25m \nLes autres pas de tir serons tous accessible.           Eric Launier V.P
URL:https://clubdetirsaint-tite.ca/event/match-ipsc-sur-le-25m/
LOCATION:Club de Tir Saint-Tite\, 35 QC-153\, Saint-Tite\, Quebec\, G0X 3H0\, Canada
END:VEVENT
BEGIN:VEVENT
DTSTART;TZID=America/Toronto:20251023T183100
DTEND;TZID=America/Toronto:20251023T192300
DTSTAMP:20260422T181707
CREATED:20251114T223314Z
LAST-MODIFIED:20251114T223314Z
UID:10004186-1761244260-1761247380@clubdetirsaint-tite.ca
SUMMARY:102616 _ TIREUR
DESCRIPTION:
URL:https://clubdetirsaint-tite.ca/event/102616-_-tireur-21/
CATEGORIES:PRÉSENCES
END:VEVENT
BEGIN:VEVENT
DTSTART;TZID=America/Toronto:20251023T183000
DTEND;TZID=America/Toronto:20251023T192400
DTSTAMP:20260422T181707
CREATED:20251114T223314Z
LAST-MODIFIED:20251114T223314Z
UID:10004187-1761244200-1761247440@clubdetirsaint-tite.ca
SUMMARY:102608 _ OFFICIEL
DESCRIPTION:
URL:https://clubdetirsaint-tite.ca/event/102608-_-officiel-31/
CATEGORIES:PRÉSENCES
END:VEVENT
BEGIN:VEVENT
DTSTART;TZID=America/Toronto:20251022T144100
DTEND;TZID=America/Toronto:20251022T153700
DTSTAMP:20260422T181707
CREATED:20251114T223314Z
LAST-MODIFIED:20251114T223314Z
UID:10004184-1761144060-1761147420@clubdetirsaint-tite.ca
SUMMARY:100860 _ TIREUR
DESCRIPTION:
URL:https://clubdetirsaint-tite.ca/event/100860-_-tireur-3/
CATEGORIES:PRÉSENCES
END:VEVENT
BEGIN:VEVENT
DTSTART;TZID=America/Toronto:20251022T130000
DTEND;TZID=America/Toronto:20251022T160000
DTSTAMP:20260422T181707
CREATED:20251018T194643Z
LAST-MODIFIED:20251018T194643Z
UID:10004041-1761138000-1761148800@clubdetirsaint-tite.ca
SUMMARY:OFFICIEL
DESCRIPTION:tir libre \nand-jas
URL:https://clubdetirsaint-tite.ca/event/officiel-5/
LOCATION:Club de Tir Saint-Tite\, 35 QC-153\, Saint-Tite\, Quebec\, G0X 3H0\, Canada
END:VEVENT
BEGIN:VEVENT
DTSTART;TZID=America/Toronto:20251022T123400
DTEND;TZID=America/Toronto:20251022T155200
DTSTAMP:20260422T181707
CREATED:20251114T223314Z
LAST-MODIFIED:20251114T223314Z
UID:10004185-1761136440-1761148320@clubdetirsaint-tite.ca
SUMMARY:100549 _ OFFICIEL
DESCRIPTION:
URL:https://clubdetirsaint-tite.ca/event/100549-_-officiel-71/
CATEGORIES:PRÉSENCES
END:VEVENT
BEGIN:VEVENT
DTSTART;TZID=America/Toronto:20251020T095000
DTEND;TZID=America/Toronto:20251020T103900
DTSTAMP:20260422T181707
CREATED:20251114T223259Z
LAST-MODIFIED:20251114T223259Z
UID:10004181-1760953800-1760956740@clubdetirsaint-tite.ca
SUMMARY:100207 _ TIREUR
DESCRIPTION:
URL:https://clubdetirsaint-tite.ca/event/100207-_-tireur-2/
CATEGORIES:PRÉSENCES
END:VEVENT
BEGIN:VEVENT
DTSTART;TZID=America/Toronto:20251020T091800
DTEND;TZID=America/Toronto:20251020T103100
DTSTAMP:20260422T181707
CREATED:20251114T223258Z
LAST-MODIFIED:20251114T223258Z
UID:10004180-1760951880-1760956260@clubdetirsaint-tite.ca
SUMMARY:102351 _ OFFICIEL
DESCRIPTION:
URL:https://clubdetirsaint-tite.ca/event/102351-_-officiel-6/
CATEGORIES:PRÉSENCES
END:VEVENT
BEGIN:VEVENT
DTSTART;TZID=America/Toronto:20251020T090700
DTEND;TZID=America/Toronto:20251020T094800
DTSTAMP:20260422T181707
CREATED:20251114T223258Z
LAST-MODIFIED:20251114T223258Z
UID:10004179-1760951220-1760953680@clubdetirsaint-tite.ca
SUMMARY:100094 _ TIREUR
DESCRIPTION:
URL:https://clubdetirsaint-tite.ca/event/100094-_-tireur/
CATEGORIES:PRÉSENCES
END:VEVENT
BEGIN:VEVENT
DTSTART;TZID=America/Toronto:20251020T090000
DTEND;TZID=America/Toronto:20251020T110000
DTSTAMP:20260422T181707
CREATED:20251018T132135Z
LAST-MODIFIED:20251018T132135Z
UID:10004040-1760950800-1760958000@clubdetirsaint-tite.ca
SUMMARY:Officiel 100071
DESCRIPTION:Tir
URL:https://clubdetirsaint-tite.ca/event/officiel-100071/
LOCATION:Club de Tir Saint-Tite\, 35 QC-153\, Saint-Tite\, Quebec\, G0X 3H0\, Canada
END:VEVENT
BEGIN:VEVENT
DTSTART;TZID=America/Toronto:20251020T090000
DTEND;TZID=America/Toronto:20251020T110000
DTSTAMP:20260422T181707
CREATED:20251018T131848Z
LAST-MODIFIED:20251018T131848Z
UID:10004039-1760950800-1760958000@clubdetirsaint-tite.ca
SUMMARY:OFFICIEL 100072
DESCRIPTION:Tir
URL:https://clubdetirsaint-tite.ca/event/officiel-100072-2/
LOCATION:Club de Tir Saint-Tite\, 35 QC-153\, Saint-Tite\, Quebec\, G0X 3H0\, Canada
END:VEVENT
BEGIN:VEVENT
DTSTART;TZID=America/Toronto:20251020T084500
DTEND;TZID=America/Toronto:20251020T105800
DTSTAMP:20260422T181707
CREATED:20251114T223259Z
LAST-MODIFIED:20251114T223259Z
UID:10004182-1760949900-1760957880@clubdetirsaint-tite.ca
SUMMARY:100072 _ TIREUR
DESCRIPTION:
URL:https://clubdetirsaint-tite.ca/event/100072-_-tireur-59/
CATEGORIES:PRÉSENCES
END:VEVENT
BEGIN:VEVENT
DTSTART;TZID=America/Toronto:20251020T083900
DTEND;TZID=America/Toronto:20251020T110500
DTSTAMP:20260422T181707
CREATED:20251114T223314Z
LAST-MODIFIED:20251114T223314Z
UID:10004183-1760949540-1760958300@clubdetirsaint-tite.ca
SUMMARY:100071 _ OFFICIEL
DESCRIPTION:
URL:https://clubdetirsaint-tite.ca/event/100071-_-officiel-3/
CATEGORIES:PRÉSENCES
END:VEVENT
BEGIN:VEVENT
DTSTART;TZID=America/Toronto:20251019T105100
DTEND;TZID=America/Toronto:20251019T114300
DTSTAMP:20260422T181707
CREATED:20251114T223244Z
LAST-MODIFIED:20251114T223244Z
UID:10004177-1760871060-1760874180@clubdetirsaint-tite.ca
SUMMARY:100562 _ TIREUR
DESCRIPTION:
URL:https://clubdetirsaint-tite.ca/event/100562-_-tireur-3/
CATEGORIES:PRÉSENCES
END:VEVENT
BEGIN:VEVENT
DTSTART;TZID=America/Toronto:20251019T102600
DTEND;TZID=America/Toronto:20251019T105500
DTSTAMP:20260422T181707
CREATED:20251114T223244Z
LAST-MODIFIED:20251114T223244Z
UID:10004176-1760869560-1760871300@clubdetirsaint-tite.ca
SUMMARY:100514 _ TIREUR
DESCRIPTION:
URL:https://clubdetirsaint-tite.ca/event/100514-_-tireur-4/
CATEGORIES:PRÉSENCES
END:VEVENT
BEGIN:VEVENT
DTSTART;TZID=America/Toronto:20251019T095200
DTEND;TZID=America/Toronto:20251019T102900
DTSTAMP:20260422T181707
CREATED:20251114T223243Z
LAST-MODIFIED:20251114T223243Z
UID:10004174-1760867520-1760869740@clubdetirsaint-tite.ca
SUMMARY:102672 _ TIREUR
DESCRIPTION:
URL:https://clubdetirsaint-tite.ca/event/102672-_-tireur-9/
CATEGORIES:PRÉSENCES
END:VEVENT
BEGIN:VEVENT
DTSTART;TZID=America/Toronto:20251019T093900
DTEND;TZID=America/Toronto:20251019T103000
DTSTAMP:20260422T181707
CREATED:20251114T223243Z
LAST-MODIFIED:20251114T223243Z
UID:10004175-1760866740-1760869800@clubdetirsaint-tite.ca
SUMMARY:102811 _ TIREUR
DESCRIPTION:
URL:https://clubdetirsaint-tite.ca/event/102811-_-tireur/
CATEGORIES:PRÉSENCES
END:VEVENT
BEGIN:VEVENT
DTSTART;TZID=America/Toronto:20251019T093000
DTEND;TZID=America/Toronto:20251019T110000
DTSTAMP:20260422T181707
CREATED:20251016T002240Z
LAST-MODIFIED:20251016T002240Z
UID:10004037-1760866200-1760871600@clubdetirsaint-tite.ca
SUMMARY:OFFICIEL 101265
DESCRIPTION:OFFICIEL
URL:https://clubdetirsaint-tite.ca/event/officiel-101265/
LOCATION:Club de Tir Saint-Tite\, 35 QC-153\, Saint-Tite\, Quebec\, G0X 3H0\, Canada
END:VEVENT
BEGIN:VEVENT
DTSTART;TZID=America/Toronto:20251019T091800
DTEND;TZID=America/Toronto:20251019T095600
DTSTAMP:20260422T181707
CREATED:20251114T223243Z
LAST-MODIFIED:20251114T223243Z
UID:10004173-1760865480-1760867760@clubdetirsaint-tite.ca
SUMMARY:101104 _ TIREUR
DESCRIPTION:
URL:https://clubdetirsaint-tite.ca/event/101104-_-tireur-2/
CATEGORIES:PRÉSENCES
END:VEVENT
BEGIN:VEVENT
DTSTART;TZID=America/Toronto:20251019T091600
DTEND;TZID=America/Toronto:20251019T114300
DTSTAMP:20260422T181707
CREATED:20251114T223258Z
LAST-MODIFIED:20251114T223258Z
UID:10004178-1760865360-1760874180@clubdetirsaint-tite.ca
SUMMARY:101265 _ OFFICIEL
DESCRIPTION:
URL:https://clubdetirsaint-tite.ca/event/101265-_-officiel-3/
CATEGORIES:PRÉSENCES
END:VEVENT
BEGIN:VEVENT
DTSTART;TZID=America/Toronto:20251018T094500
DTEND;TZID=America/Toronto:20251018T161800
DTSTAMP:20260422T181707
CREATED:20251114T223229Z
LAST-MODIFIED:20251114T223229Z
UID:10004172-1760780700-1760804280@clubdetirsaint-tite.ca
SUMMARY:102139 _ OFFICIEL
DESCRIPTION:
URL:https://clubdetirsaint-tite.ca/event/102139-_-officiel-6/
CATEGORIES:PRÉSENCES
END:VEVENT
BEGIN:VEVENT
DTSTART;TZID=America/Toronto:20251018T094400
DTEND;TZID=America/Toronto:20251018T161400
DTSTAMP:20260422T181707
CREATED:20251114T223229Z
LAST-MODIFIED:20251114T223229Z
UID:10004171-1760780640-1760804040@clubdetirsaint-tite.ca
SUMMARY:100777 _ OFFICIEL
DESCRIPTION:
URL:https://clubdetirsaint-tite.ca/event/100777-_-officiel-7/
CATEGORIES:PRÉSENCES
END:VEVENT
END:VCALENDAR