BEGIN:VCALENDAR
VERSION:2.0
PRODID:-//Club de Tir Saint-Tite - ECPv6.15.20//NONSGML v1.0//EN
CALSCALE:GREGORIAN
METHOD:PUBLISH
X-ORIGINAL-URL:https://clubdetirsaint-tite.ca
X-WR-CALDESC:Évènements pour Club de Tir Saint-Tite
REFRESH-INTERVAL;VALUE=DURATION:PT1H
X-Robots-Tag:noindex
X-PUBLISHED-TTL:PT1H
BEGIN:VTIMEZONE
TZID:America/Toronto
BEGIN:DAYLIGHT
TZOFFSETFROM:-0500
TZOFFSETTO:-0400
TZNAME:EDT
DTSTART:20240310T070000
END:DAYLIGHT
BEGIN:STANDARD
TZOFFSETFROM:-0400
TZOFFSETTO:-0500
TZNAME:EST
DTSTART:20241103T060000
END:STANDARD
BEGIN:DAYLIGHT
TZOFFSETFROM:-0500
TZOFFSETTO:-0400
TZNAME:EDT
DTSTART:20250309T070000
END:DAYLIGHT
BEGIN:STANDARD
TZOFFSETFROM:-0400
TZOFFSETTO:-0500
TZNAME:EST
DTSTART:20251102T060000
END:STANDARD
BEGIN:DAYLIGHT
TZOFFSETFROM:-0500
TZOFFSETTO:-0400
TZNAME:EDT
DTSTART:20260308T070000
END:DAYLIGHT
BEGIN:STANDARD
TZOFFSETFROM:-0400
TZOFFSETTO:-0500
TZNAME:EST
DTSTART:20261101T060000
END:STANDARD
END:VTIMEZONE
BEGIN:VEVENT
DTSTART;TZID=America/Toronto:20250522T180300
DTEND;TZID=America/Toronto:20250522T210400
DTSTAMP:20260420T084210
CREATED:20250530T201230Z
LAST-MODIFIED:20250530T201230Z
UID:10003391-1747936980-1747947840@clubdetirsaint-tite.ca
SUMMARY:102608 _ OFFICIEL
DESCRIPTION:
URL:https://clubdetirsaint-tite.ca/event/102608-_-officiel-15/
LOCATION:Quebec
CATEGORIES:PRÉSENCES
END:VEVENT
BEGIN:VEVENT
DTSTART;TZID=America/Toronto:20250522T180400
DTEND;TZID=America/Toronto:20250522T204400
DTSTAMP:20260420T084210
CREATED:20250530T201230Z
LAST-MODIFIED:20250530T201230Z
UID:10003389-1747937040-1747946640@clubdetirsaint-tite.ca
SUMMARY:100818 _ TIREUR
DESCRIPTION:
URL:https://clubdetirsaint-tite.ca/event/100818-_-tireur-9/
LOCATION:Quebec
CATEGORIES:PRÉSENCES
END:VEVENT
BEGIN:VEVENT
DTSTART;TZID=America/Toronto:20250522T181300
DTEND;TZID=America/Toronto:20250522T210400
DTSTAMP:20260420T084210
CREATED:20250530T201230Z
LAST-MODIFIED:20250530T201230Z
UID:10003390-1747937580-1747947840@clubdetirsaint-tite.ca
SUMMARY:102471 _ TIREUR
DESCRIPTION:
URL:https://clubdetirsaint-tite.ca/event/102471-_-tireur-2/
LOCATION:Quebec
CATEGORIES:PRÉSENCES
END:VEVENT
BEGIN:VEVENT
DTSTART;TZID=America/Toronto:20250523T103200
DTEND;TZID=America/Toronto:20250523T105400
DTSTAMP:20260420T084210
CREATED:20250530T201230Z
LAST-MODIFIED:20250530T201230Z
UID:10003392-1747996320-1747997640@clubdetirsaint-tite.ca
SUMMARY:100014 _ OFFICIEL
DESCRIPTION:
URL:https://clubdetirsaint-tite.ca/event/100014-_-officiel/
LOCATION:Quebec
CATEGORIES:PRÉSENCES
END:VEVENT
BEGIN:VEVENT
DTSTART;TZID=America/Toronto:20250523T103200
DTEND;TZID=America/Toronto:20250523T105400
DTSTAMP:20260420T084210
CREATED:20250530T201230Z
LAST-MODIFIED:20250530T201230Z
UID:10003393-1747996320-1747997640@clubdetirsaint-tite.ca
SUMMARY:102338 _ TIREUR
DESCRIPTION:
URL:https://clubdetirsaint-tite.ca/event/102338-_-tireur/
LOCATION:Quebec
CATEGORIES:PRÉSENCES
END:VEVENT
BEGIN:VEVENT
DTSTART;TZID=America/Toronto:20250524T094200
DTEND;TZID=America/Toronto:20250524T163100
DTSTAMP:20260420T084210
CREATED:20250530T201331Z
LAST-MODIFIED:20250530T201331Z
UID:10003409-1748079720-1748104260@clubdetirsaint-tite.ca
SUMMARY:101713 _ OFFICIEL
DESCRIPTION:
URL:https://clubdetirsaint-tite.ca/event/101713-_-officiel-46/
LOCATION:Quebec
CATEGORIES:PRÉSENCES
END:VEVENT
BEGIN:VEVENT
DTSTART;TZID=America/Toronto:20250524T094400
DTEND;TZID=America/Toronto:20250524T112700
DTSTAMP:20260420T084210
CREATED:20250530T201246Z
LAST-MODIFIED:20250530T201246Z
UID:10003395-1748079840-1748086020@clubdetirsaint-tite.ca
SUMMARY:102810 _ TIREUR
DESCRIPTION:
URL:https://clubdetirsaint-tite.ca/event/102810-_-tireur/
LOCATION:Quebec
CATEGORIES:PRÉSENCES
END:VEVENT
BEGIN:VEVENT
DTSTART;TZID=America/Toronto:20250524T094400
DTEND;TZID=America/Toronto:20250524T163100
DTSTAMP:20260420T084210
CREATED:20250530T201316Z
LAST-MODIFIED:20250530T201316Z
UID:10003408-1748079840-1748104260@clubdetirsaint-tite.ca
SUMMARY:102121 _ TIREUR
DESCRIPTION:
URL:https://clubdetirsaint-tite.ca/event/102121-_-tireur-10/
LOCATION:Quebec
CATEGORIES:PRÉSENCES
END:VEVENT
BEGIN:VEVENT
DTSTART;TZID=America/Toronto:20250524T094600
DTEND;TZID=America/Toronto:20250524T151100
DTSTAMP:20260420T084210
CREATED:20250530T201302Z
LAST-MODIFIED:20250530T201302Z
UID:10003400-1748079960-1748099460@clubdetirsaint-tite.ca
SUMMARY:102137 _ TIREUR
DESCRIPTION:
URL:https://clubdetirsaint-tite.ca/event/102137-_-tireur-5/
LOCATION:Quebec
CATEGORIES:PRÉSENCES
END:VEVENT
BEGIN:VEVENT
DTSTART;TZID=America/Toronto:20250524T094600
DTEND;TZID=America/Toronto:20250524T163100
DTSTAMP:20260420T084210
CREATED:20250530T201316Z
LAST-MODIFIED:20250530T201316Z
UID:10003407-1748079960-1748104260@clubdetirsaint-tite.ca
SUMMARY:102803 _ TIREUR
DESCRIPTION:
URL:https://clubdetirsaint-tite.ca/event/102803-_-tireur-2/
LOCATION:Quebec
CATEGORIES:PRÉSENCES
END:VEVENT
BEGIN:VEVENT
DTSTART;TZID=America/Toronto:20250524T100000
DTEND;TZID=America/Toronto:20250524T110000
DTSTAMP:20260420T084210
CREATED:20250502T123531Z
LAST-MODIFIED:20250502T123531Z
UID:10003118-1748080800-1748084400@clubdetirsaint-tite.ca
SUMMARY:Aucun accueil aujourd’hui
DESCRIPTION:Aucun accueil aujourd’hui
URL:https://clubdetirsaint-tite.ca/event/aucun-accueil-aujourdhui/
LOCATION:Club de Tir Saint-Tite\, 35 QC-153\, Saint-Tite\, Quebec\, G0X 3H0\, Canada
END:VEVENT
BEGIN:VEVENT
DTSTART;TZID=America/Toronto:20250524T100000
DTEND;TZID=America/Toronto:20250524T153000
DTSTAMP:20260420T084210
CREATED:20250126T125744Z
LAST-MODIFIED:20250126T125744Z
UID:10002697-1748080800-1748100600@clubdetirsaint-tite.ca
SUMMARY:Battle steel 101713
DESCRIPTION:Battle steel 50 v \njourneé amicale \ndiner hotdog \npour tous
URL:https://clubdetirsaint-tite.ca/event/battle-steel-101713-2/
LOCATION:Club de Tir Saint-Tite\, 35 QC-153\, Saint-Tite\, Quebec\, G0X 3H0\, Canada
END:VEVENT
BEGIN:VEVENT
DTSTART;TZID=America/Toronto:20250524T100200
DTEND;TZID=America/Toronto:20250524T163100
DTSTAMP:20260420T084210
CREATED:20250530T201316Z
LAST-MODIFIED:20250530T201316Z
UID:10003406-1748080920-1748104260@clubdetirsaint-tite.ca
SUMMARY:101160 _ TIREUR
DESCRIPTION:
URL:https://clubdetirsaint-tite.ca/event/101160-_-tireur-3/
LOCATION:Quebec
CATEGORIES:PRÉSENCES
END:VEVENT
BEGIN:VEVENT
DTSTART;TZID=America/Toronto:20250524T100400
DTEND;TZID=America/Toronto:20250524T135900
DTSTAMP:20260420T084210
CREATED:20250530T201301Z
LAST-MODIFIED:20250530T201301Z
UID:10003399-1748081040-1748095140@clubdetirsaint-tite.ca
SUMMARY:101365 _ TIREUR
DESCRIPTION:
URL:https://clubdetirsaint-tite.ca/event/101365-_-tireur-7/
LOCATION:Quebec
CATEGORIES:PRÉSENCES
END:VEVENT
BEGIN:VEVENT
DTSTART;TZID=America/Toronto:20250524T102400
DTEND;TZID=America/Toronto:20250524T163100
DTSTAMP:20260420T084210
CREATED:20250530T201316Z
LAST-MODIFIED:20250530T201316Z
UID:10003405-1748082240-1748104260@clubdetirsaint-tite.ca
SUMMARY:100045 _ TIREUR
DESCRIPTION:
URL:https://clubdetirsaint-tite.ca/event/100045-_-tireur-3/
LOCATION:Quebec
CATEGORIES:PRÉSENCES
END:VEVENT
BEGIN:VEVENT
DTSTART;TZID=America/Toronto:20250524T103800
DTEND;TZID=America/Toronto:20250524T103800
DTSTAMP:20260420T084210
CREATED:20250530T201246Z
LAST-MODIFIED:20250530T201246Z
UID:10003394-1748083080-1748083080@clubdetirsaint-tite.ca
SUMMARY:100034 _ OFFICIEL
DESCRIPTION:
URL:https://clubdetirsaint-tite.ca/event/100034-_-officiel/
LOCATION:Quebec
CATEGORIES:PRÉSENCES
END:VEVENT
BEGIN:VEVENT
DTSTART;TZID=America/Toronto:20250524T103900
DTEND;TZID=America/Toronto:20250524T134500
DTSTAMP:20260420T084210
CREATED:20250530T201246Z
LAST-MODIFIED:20250530T201246Z
UID:10003397-1748083140-1748094300@clubdetirsaint-tite.ca
SUMMARY:100034 _ TIREUR
DESCRIPTION:
URL:https://clubdetirsaint-tite.ca/event/100034-_-tireur/
LOCATION:Quebec
CATEGORIES:PRÉSENCES
END:VEVENT
BEGIN:VEVENT
DTSTART;TZID=America/Toronto:20250524T104100
DTEND;TZID=America/Toronto:20250524T155900
DTSTAMP:20260420T084210
CREATED:20250530T201302Z
LAST-MODIFIED:20250530T201302Z
UID:10003401-1748083260-1748102340@clubdetirsaint-tite.ca
SUMMARY:102103 _ TIREUR
DESCRIPTION:
URL:https://clubdetirsaint-tite.ca/event/102103-_-tireur-2/
LOCATION:Quebec
CATEGORIES:PRÉSENCES
END:VEVENT
BEGIN:VEVENT
DTSTART;TZID=America/Toronto:20250524T111900
DTEND;TZID=America/Toronto:20250524T163100
DTSTAMP:20260420T084210
CREATED:20250530T201316Z
LAST-MODIFIED:20250530T201316Z
UID:10003404-1748085540-1748104260@clubdetirsaint-tite.ca
SUMMARY:101885 _ TIREUR
DESCRIPTION:
URL:https://clubdetirsaint-tite.ca/event/101885-_-tireur-3/
LOCATION:Quebec
CATEGORIES:PRÉSENCES
END:VEVENT
BEGIN:VEVENT
DTSTART;TZID=America/Toronto:20250524T114700
DTEND;TZID=America/Toronto:20250524T163100
DTSTAMP:20260420T084210
CREATED:20250530T201302Z
LAST-MODIFIED:20250530T201302Z
UID:10003403-1748087220-1748104260@clubdetirsaint-tite.ca
SUMMARY:100610 _ TIREUR
DESCRIPTION:
URL:https://clubdetirsaint-tite.ca/event/100610-_-tireur/
LOCATION:Quebec
CATEGORIES:PRÉSENCES
END:VEVENT
BEGIN:VEVENT
DTSTART;TZID=America/Toronto:20250524T114900
DTEND;TZID=America/Toronto:20250524T130700
DTSTAMP:20260420T084210
CREATED:20250530T201246Z
LAST-MODIFIED:20250530T201246Z
UID:10003396-1748087340-1748092020@clubdetirsaint-tite.ca
SUMMARY:102353 _ TIREUR
DESCRIPTION:
URL:https://clubdetirsaint-tite.ca/event/102353-_-tireur-2/
LOCATION:Quebec
CATEGORIES:PRÉSENCES
END:VEVENT
BEGIN:VEVENT
DTSTART;TZID=America/Toronto:20250524T123500
DTEND;TZID=America/Toronto:20250524T163100
DTSTAMP:20260420T084210
CREATED:20250530T201302Z
LAST-MODIFIED:20250530T201302Z
UID:10003402-1748090100-1748104260@clubdetirsaint-tite.ca
SUMMARY:102012 _ TIREUR
DESCRIPTION:
URL:https://clubdetirsaint-tite.ca/event/102012-_-tireur-3/
LOCATION:Quebec
CATEGORIES:PRÉSENCES
END:VEVENT
BEGIN:VEVENT
DTSTART;TZID=America/Toronto:20250524T130700
DTEND;TZID=America/Toronto:20250524T134900
DTSTAMP:20260420T084210
CREATED:20250530T201246Z
LAST-MODIFIED:20250530T201246Z
UID:10003398-1748092020-1748094540@clubdetirsaint-tite.ca
SUMMARY:102353 _ TIREUR
DESCRIPTION:
URL:https://clubdetirsaint-tite.ca/event/102353-_-tireur-3/
LOCATION:Quebec
CATEGORIES:PRÉSENCES
END:VEVENT
BEGIN:VEVENT
DTSTART;TZID=America/Toronto:20250525T092500
DTEND;TZID=America/Toronto:20250525T115800
DTSTAMP:20260420T084210
CREATED:20250530T201431Z
LAST-MODIFIED:20250530T201431Z
UID:10003430-1748165100-1748174280@clubdetirsaint-tite.ca
SUMMARY:100008 _ OFFICIEL
DESCRIPTION:
URL:https://clubdetirsaint-tite.ca/event/100008-_-officiel-49/
LOCATION:Quebec
CATEGORIES:PRÉSENCES
END:VEVENT
BEGIN:VEVENT
DTSTART;TZID=America/Toronto:20250525T092600
DTEND;TZID=America/Toronto:20250525T115700
DTSTAMP:20260420T084210
CREATED:20250530T201416Z
LAST-MODIFIED:20250530T201416Z
UID:10003428-1748165160-1748174220@clubdetirsaint-tite.ca
SUMMARY:101688 _ TIREUR
DESCRIPTION:
URL:https://clubdetirsaint-tite.ca/event/101688-_-tireur-5/
LOCATION:Quebec
CATEGORIES:PRÉSENCES
END:VEVENT
BEGIN:VEVENT
DTSTART;TZID=America/Toronto:20250525T092700
DTEND;TZID=America/Toronto:20250525T095900
DTSTAMP:20260420T084210
CREATED:20250530T201331Z
LAST-MODIFIED:20250530T201331Z
UID:10003411-1748165220-1748167140@clubdetirsaint-tite.ca
SUMMARY:101091 _ TIREUR
DESCRIPTION:
URL:https://clubdetirsaint-tite.ca/event/101091-_-tireur/
LOCATION:Quebec
CATEGORIES:PRÉSENCES
END:VEVENT
BEGIN:VEVENT
DTSTART;TZID=America/Toronto:20250525T092800
DTEND;TZID=America/Toronto:20250525T095500
DTSTAMP:20260420T084210
CREATED:20250530T201331Z
LAST-MODIFIED:20250530T201331Z
UID:10003410-1748165280-1748166900@clubdetirsaint-tite.ca
SUMMARY:102040 _ TIREUR
DESCRIPTION:
URL:https://clubdetirsaint-tite.ca/event/102040-_-tireur-2/
LOCATION:Quebec
CATEGORIES:PRÉSENCES
END:VEVENT
BEGIN:VEVENT
DTSTART;TZID=America/Toronto:20250525T093000
DTEND;TZID=America/Toronto:20250525T120000
DTSTAMP:20260420T084210
CREATED:20250520T235735Z
LAST-MODIFIED:20250520T235735Z
UID:10003320-1748165400-1748174400@clubdetirsaint-tite.ca
SUMMARY:OFFICIEL #100008
DESCRIPTION:PRÉSENCE ANNUELLE OFFICIEL
URL:https://clubdetirsaint-tite.ca/event/officiel-100008/
LOCATION:Club de Tir Saint-Tite\, 35 QC-153\, Saint-Tite\, Quebec\, G0X 3H0\, Canada
END:VEVENT
BEGIN:VEVENT
DTSTART;TZID=America/Toronto:20250525T093900
DTEND;TZID=America/Toronto:20250525T113300
DTSTAMP:20260420T084210
CREATED:20250530T201416Z
LAST-MODIFIED:20250530T201416Z
UID:10003424-1748165940-1748172780@clubdetirsaint-tite.ca
SUMMARY:102121 _ TIREUR
DESCRIPTION:
URL:https://clubdetirsaint-tite.ca/event/102121-_-tireur-11/
LOCATION:Quebec
CATEGORIES:PRÉSENCES
END:VEVENT
BEGIN:VEVENT
DTSTART;TZID=America/Toronto:20250525T094100
DTEND;TZID=America/Toronto:20250525T100300
DTSTAMP:20260420T084210
CREATED:20250530T201331Z
LAST-MODIFIED:20250530T201331Z
UID:10003413-1748166060-1748167380@clubdetirsaint-tite.ca
SUMMARY:101849 _ TIREUR
DESCRIPTION:
URL:https://clubdetirsaint-tite.ca/event/101849-_-tireur/
LOCATION:Quebec
CATEGORIES:PRÉSENCES
END:VEVENT
END:VCALENDAR