BEGIN:VCALENDAR
VERSION:2.0
PRODID:-//Club de Tir Saint-Tite - ECPv6.15.20//NONSGML v1.0//EN
CALSCALE:GREGORIAN
METHOD:PUBLISH
X-ORIGINAL-URL:https://clubdetirsaint-tite.ca
X-WR-CALDESC:Évènements pour Club de Tir Saint-Tite
REFRESH-INTERVAL;VALUE=DURATION:PT1H
X-Robots-Tag:noindex
X-PUBLISHED-TTL:PT1H
BEGIN:VTIMEZONE
TZID:America/Toronto
BEGIN:DAYLIGHT
TZOFFSETFROM:-0500
TZOFFSETTO:-0400
TZNAME:EDT
DTSTART:20240310T070000
END:DAYLIGHT
BEGIN:STANDARD
TZOFFSETFROM:-0400
TZOFFSETTO:-0500
TZNAME:EST
DTSTART:20241103T060000
END:STANDARD
BEGIN:DAYLIGHT
TZOFFSETFROM:-0500
TZOFFSETTO:-0400
TZNAME:EDT
DTSTART:20250309T070000
END:DAYLIGHT
BEGIN:STANDARD
TZOFFSETFROM:-0400
TZOFFSETTO:-0500
TZNAME:EST
DTSTART:20251102T060000
END:STANDARD
BEGIN:DAYLIGHT
TZOFFSETFROM:-0500
TZOFFSETTO:-0400
TZNAME:EDT
DTSTART:20260308T070000
END:DAYLIGHT
BEGIN:STANDARD
TZOFFSETFROM:-0400
TZOFFSETTO:-0500
TZNAME:EST
DTSTART:20261101T060000
END:STANDARD
END:VTIMEZONE
BEGIN:VEVENT
DTSTART;TZID=America/Toronto:20250526T145400
DTEND;TZID=America/Toronto:20250526T153000
DTSTAMP:20260420T163034
CREATED:20250601T235347Z
LAST-MODIFIED:20250601T235347Z
UID:10003446-1748271240-1748273400@clubdetirsaint-tite.ca
SUMMARY:102284 _ TIREUR
DESCRIPTION:
URL:https://clubdetirsaint-tite.ca/event/102284-_-tireur/
CATEGORIES:PRÉSENCES
END:VEVENT
BEGIN:VEVENT
DTSTART;TZID=America/Toronto:20250526T150000
DTEND;TZID=America/Toronto:20250526T152700
DTSTAMP:20260420T163034
CREATED:20250601T235346Z
LAST-MODIFIED:20250601T235346Z
UID:10003445-1748271600-1748273220@clubdetirsaint-tite.ca
SUMMARY:100281 _ TIREUR
DESCRIPTION:
URL:https://clubdetirsaint-tite.ca/event/100281-_-tireur/
CATEGORIES:PRÉSENCES
END:VEVENT
BEGIN:VEVENT
DTSTART;TZID=America/Toronto:20250527T101400
DTEND;TZID=America/Toronto:20250527T121400
DTSTAMP:20260420T163034
CREATED:20250601T235402Z
LAST-MODIFIED:20250601T235402Z
UID:10003450-1748340840-1748348040@clubdetirsaint-tite.ca
SUMMARY:102616 _ OFFICIEL
DESCRIPTION:
URL:https://clubdetirsaint-tite.ca/event/102616-_-officiel-13/
CATEGORIES:PRÉSENCES
END:VEVENT
BEGIN:VEVENT
DTSTART;TZID=America/Toronto:20250527T103000
DTEND;TZID=America/Toronto:20250527T120000
DTSTAMP:20260420T163034
CREATED:20250526T142934Z
LAST-MODIFIED:20250526T142934Z
UID:10003326-1748341800-1748347200@clubdetirsaint-tite.ca
SUMMARY:Officiel 102616
DESCRIPTION:OFFICIEL
URL:https://clubdetirsaint-tite.ca/event/officiel-102616/
LOCATION:Club de Tir Saint-Tite\, 35 QC-153\, Saint-Tite\, Quebec\, G0X 3H0\, Canada
END:VEVENT
BEGIN:VEVENT
DTSTART;TZID=America/Toronto:20250527T103500
DTEND;TZID=America/Toronto:20250527T110500
DTSTAMP:20260420T163034
CREATED:20250601T235402Z
LAST-MODIFIED:20250601T235402Z
UID:10003448-1748342100-1748343900@clubdetirsaint-tite.ca
SUMMARY:100109 _ TIREUR
DESCRIPTION:
URL:https://clubdetirsaint-tite.ca/event/100109-_-tireur-2/
CATEGORIES:PRÉSENCES
END:VEVENT
BEGIN:VEVENT
DTSTART;TZID=America/Toronto:20250527T105100
DTEND;TZID=America/Toronto:20250527T112400
DTSTAMP:20260420T163034
CREATED:20250601T235402Z
LAST-MODIFIED:20250601T235402Z
UID:10003449-1748343060-1748345040@clubdetirsaint-tite.ca
SUMMARY:100833 _ TIREUR
DESCRIPTION:
URL:https://clubdetirsaint-tite.ca/event/100833-_-tireur/
CATEGORIES:PRÉSENCES
END:VEVENT
BEGIN:VEVENT
DTSTART;TZID=America/Toronto:20250527T163700
DTEND;TZID=America/Toronto:20250527T193100
DTSTAMP:20260420T163034
CREATED:20250601T235417Z
LAST-MODIFIED:20250601T235417Z
UID:10003456-1748363820-1748374260@clubdetirsaint-tite.ca
SUMMARY:100008 _ OFFICIEL
DESCRIPTION:
URL:https://clubdetirsaint-tite.ca/event/100008-_-officiel-51/
CATEGORIES:PRÉSENCES
END:VEVENT
BEGIN:VEVENT
DTSTART;TZID=America/Toronto:20250527T170000
DTEND;TZID=America/Toronto:20250527T193000
DTSTAMP:20260420T163034
CREATED:20250526T004414Z
LAST-MODIFIED:20250526T004414Z
UID:10003325-1748365200-1748374200@clubdetirsaint-tite.ca
SUMMARY:OFFICIEL #100008
DESCRIPTION:DERNIÈRE CHANCE LOI-9
URL:https://clubdetirsaint-tite.ca/event/officiel-100008-2/
LOCATION:Club de Tir Saint-Tite\, 35 QC-153\, Saint-Tite\, Quebec\, G0X 3H0\, Canada
END:VEVENT
BEGIN:VEVENT
DTSTART;TZID=America/Toronto:20250527T173700
DTEND;TZID=America/Toronto:20250527T180200
DTSTAMP:20260420T163034
CREATED:20250601T235402Z
LAST-MODIFIED:20250601T235402Z
UID:10003451-1748367420-1748368920@clubdetirsaint-tite.ca
SUMMARY:101091 _ TIREUR
DESCRIPTION:
URL:https://clubdetirsaint-tite.ca/event/101091-_-tireur-2/
CATEGORIES:PRÉSENCES
END:VEVENT
BEGIN:VEVENT
DTSTART;TZID=America/Toronto:20250527T180100
DTEND;TZID=America/Toronto:20250527T184000
DTSTAMP:20260420T163034
CREATED:20250601T235416Z
LAST-MODIFIED:20250601T235416Z
UID:10003452-1748368860-1748371200@clubdetirsaint-tite.ca
SUMMARY:101701 _ TIREUR
DESCRIPTION:
URL:https://clubdetirsaint-tite.ca/event/101701-_-tireur/
CATEGORIES:PRÉSENCES
END:VEVENT
BEGIN:VEVENT
DTSTART;TZID=America/Toronto:20250527T190100
DTEND;TZID=America/Toronto:20250527T192400
DTSTAMP:20260420T163034
CREATED:20250601T235416Z
LAST-MODIFIED:20250601T235416Z
UID:10003454-1748372460-1748373840@clubdetirsaint-tite.ca
SUMMARY:100876 _ TIREUR
DESCRIPTION:
URL:https://clubdetirsaint-tite.ca/event/100876-_-tireur/
CATEGORIES:PRÉSENCES
END:VEVENT
BEGIN:VEVENT
DTSTART;TZID=America/Toronto:20250527T190600
DTEND;TZID=America/Toronto:20250527T190600
DTSTAMP:20260420T163034
CREATED:20250601T235416Z
LAST-MODIFIED:20250601T235416Z
UID:10003453-1748372760-1748372760@clubdetirsaint-tite.ca
SUMMARY:100847 _ OFFICIEL
DESCRIPTION:
URL:https://clubdetirsaint-tite.ca/event/100847-_-officiel/
CATEGORIES:PRÉSENCES
END:VEVENT
BEGIN:VEVENT
DTSTART;TZID=America/Toronto:20250527T190700
DTEND;TZID=America/Toronto:20250527T193100
DTSTAMP:20260420T163034
CREATED:20250601T235416Z
LAST-MODIFIED:20250601T235416Z
UID:10003455-1748372820-1748374260@clubdetirsaint-tite.ca
SUMMARY:100847 _ TIREUR
DESCRIPTION:
URL:https://clubdetirsaint-tite.ca/event/100847-_-tireur/
CATEGORIES:PRÉSENCES
END:VEVENT
BEGIN:VEVENT
DTSTART;TZID=America/Toronto:20250528T075700
DTEND;TZID=America/Toronto:20250528T083100
DTSTAMP:20260420T163034
CREATED:20250601T235431Z
LAST-MODIFIED:20250601T235431Z
UID:10003458-1748419020-1748421060@clubdetirsaint-tite.ca
SUMMARY:100054 _ OFFICIEL
DESCRIPTION:
URL:https://clubdetirsaint-tite.ca/event/100054-_-officiel-3/
CATEGORIES:PRÉSENCES
END:VEVENT
BEGIN:VEVENT
DTSTART;TZID=America/Toronto:20250528T075800
DTEND;TZID=America/Toronto:20250528T083100
DTSTAMP:20260420T163034
CREATED:20250601T235431Z
LAST-MODIFIED:20250601T235431Z
UID:10003457-1748419080-1748421060@clubdetirsaint-tite.ca
SUMMARY:101600 _ TIREUR
DESCRIPTION:
URL:https://clubdetirsaint-tite.ca/event/101600-_-tireur/
CATEGORIES:PRÉSENCES
END:VEVENT
BEGIN:VEVENT
DTSTART;TZID=America/Toronto:20250528T122400
DTEND;TZID=America/Toronto:20250528T134200
DTSTAMP:20260420T163034
CREATED:20250601T235432Z
LAST-MODIFIED:20250601T235432Z
UID:10003461-1748435040-1748439720@clubdetirsaint-tite.ca
SUMMARY:100448 _ OFFICIEL
DESCRIPTION:
URL:https://clubdetirsaint-tite.ca/event/100448-_-officiel-6/
CATEGORIES:PRÉSENCES
END:VEVENT
BEGIN:VEVENT
DTSTART;TZID=America/Toronto:20250528T122700
DTEND;TZID=America/Toronto:20250528T125600
DTSTAMP:20260420T163034
CREATED:20250601T235431Z
LAST-MODIFIED:20250601T235431Z
UID:10003459-1748435220-1748436960@clubdetirsaint-tite.ca
SUMMARY:100137 _ TIREUR
DESCRIPTION:
URL:https://clubdetirsaint-tite.ca/event/100137-_-tireur-13/
CATEGORIES:PRÉSENCES
END:VEVENT
BEGIN:VEVENT
DTSTART;TZID=America/Toronto:20250528T125700
DTEND;TZID=America/Toronto:20250528T162800
DTSTAMP:20260420T163034
CREATED:20250601T235502Z
LAST-MODIFIED:20250601T235502Z
UID:10003471-1748437020-1748449680@clubdetirsaint-tite.ca
SUMMARY:100137 _ TIREUR
DESCRIPTION:
URL:https://clubdetirsaint-tite.ca/event/100137-_-tireur-14/
CATEGORIES:PRÉSENCES
END:VEVENT
BEGIN:VEVENT
DTSTART;TZID=America/Toronto:20250528T130000
DTEND;TZID=America/Toronto:20250528T160000
DTSTAMP:20260420T163034
CREATED:20250401T220613Z
LAST-MODIFIED:20250401T220613Z
UID:10002936-1748437200-1748448000@clubdetirsaint-tite.ca
SUMMARY:OFFICIEL
DESCRIPTION:tir libre \nand-jas
URL:https://clubdetirsaint-tite.ca/event/officiel-73/
LOCATION:Club de Tir Saint-Tite\, 35 QC-153\, Saint-Tite\, Quebec\, G0X 3H0\, Canada
END:VEVENT
BEGIN:VEVENT
DTSTART;TZID=America/Toronto:20250528T130900
DTEND;TZID=America/Toronto:20250528T130900
DTSTAMP:20260420T163034
CREATED:20250601T235432Z
LAST-MODIFIED:20250601T235432Z
UID:10003460-1748437740-1748437740@clubdetirsaint-tite.ca
SUMMARY:100548 _ OFFICIEL
DESCRIPTION:
URL:https://clubdetirsaint-tite.ca/event/100548-_-officiel-39/
CATEGORIES:PRÉSENCES
END:VEVENT
BEGIN:VEVENT
DTSTART;TZID=America/Toronto:20250528T132200
DTEND;TZID=America/Toronto:20250528T135700
DTSTAMP:20260420T163034
CREATED:20250601T235446Z
LAST-MODIFIED:20250601T235446Z
UID:10003462-1748438520-1748440620@clubdetirsaint-tite.ca
SUMMARY:102672 _ TIREUR
DESCRIPTION:
URL:https://clubdetirsaint-tite.ca/event/102672-_-tireur-6/
CATEGORIES:PRÉSENCES
END:VEVENT
BEGIN:VEVENT
DTSTART;TZID=America/Toronto:20250528T133700
DTEND;TZID=America/Toronto:20250528T144100
DTSTAMP:20260420T163034
CREATED:20250601T235446Z
LAST-MODIFIED:20250601T235446Z
UID:10003464-1748439420-1748443260@clubdetirsaint-tite.ca
SUMMARY:100114 _ TIREUR
DESCRIPTION:
URL:https://clubdetirsaint-tite.ca/event/100114-_-tireur/
CATEGORIES:PRÉSENCES
END:VEVENT
BEGIN:VEVENT
DTSTART;TZID=America/Toronto:20250528T133900
DTEND;TZID=America/Toronto:20250528T160500
DTSTAMP:20260420T163034
CREATED:20250601T235502Z
LAST-MODIFIED:20250601T235502Z
UID:10003469-1748439540-1748448300@clubdetirsaint-tite.ca
SUMMARY:100548 _ TIREUR
DESCRIPTION:
URL:https://clubdetirsaint-tite.ca/event/100548-_-tireur-14/
CATEGORIES:PRÉSENCES
END:VEVENT
BEGIN:VEVENT
DTSTART;TZID=America/Toronto:20250528T134300
DTEND;TZID=America/Toronto:20250528T160500
DTSTAMP:20260420T163034
CREATED:20250601T235502Z
LAST-MODIFIED:20250601T235502Z
UID:10003470-1748439780-1748448300@clubdetirsaint-tite.ca
SUMMARY:100549 _ OFFICIEL
DESCRIPTION:
URL:https://clubdetirsaint-tite.ca/event/100549-_-officiel-46/
CATEGORIES:PRÉSENCES
END:VEVENT
BEGIN:VEVENT
DTSTART;TZID=America/Toronto:20250528T135500
DTEND;TZID=America/Toronto:20250528T141600
DTSTAMP:20260420T163034
CREATED:20250601T235446Z
LAST-MODIFIED:20250601T235446Z
UID:10003463-1748440500-1748441760@clubdetirsaint-tite.ca
SUMMARY:100448 _ TIREUR
DESCRIPTION:
URL:https://clubdetirsaint-tite.ca/event/100448-_-tireur-2/
CATEGORIES:PRÉSENCES
END:VEVENT
BEGIN:VEVENT
DTSTART;TZID=America/Toronto:20250528T141700
DTEND;TZID=America/Toronto:20250528T145300
DTSTAMP:20260420T163034
CREATED:20250601T235447Z
LAST-MODIFIED:20250601T235447Z
UID:10003465-1748441820-1748443980@clubdetirsaint-tite.ca
SUMMARY:100448 _ TIREUR
DESCRIPTION:
URL:https://clubdetirsaint-tite.ca/event/100448-_-tireur-3/
CATEGORIES:PRÉSENCES
END:VEVENT
BEGIN:VEVENT
DTSTART;TZID=America/Toronto:20250528T143500
DTEND;TZID=America/Toronto:20250528T150200
DTSTAMP:20260420T163034
CREATED:20250601T235447Z
LAST-MODIFIED:20250601T235447Z
UID:10003466-1748442900-1748444520@clubdetirsaint-tite.ca
SUMMARY:102387 _ TIREUR
DESCRIPTION:
URL:https://clubdetirsaint-tite.ca/event/102387-_-tireur/
CATEGORIES:PRÉSENCES
END:VEVENT
BEGIN:VEVENT
DTSTART;TZID=America/Toronto:20250528T144300
DTEND;TZID=America/Toronto:20250528T155600
DTSTAMP:20260420T163034
CREATED:20250601T235502Z
LAST-MODIFIED:20250601T235502Z
UID:10003468-1748443380-1748447760@clubdetirsaint-tite.ca
SUMMARY:101154 _ OFFICIEL
DESCRIPTION:
URL:https://clubdetirsaint-tite.ca/event/101154-_-officiel-4/
CATEGORIES:PRÉSENCES
END:VEVENT
BEGIN:VEVENT
DTSTART;TZID=America/Toronto:20250528T145200
DTEND;TZID=America/Toronto:20250528T154200
DTSTAMP:20260420T163034
CREATED:20250601T235502Z
LAST-MODIFIED:20250601T235502Z
UID:10003467-1748443920-1748446920@clubdetirsaint-tite.ca
SUMMARY:100814 _ TIREUR
DESCRIPTION:
URL:https://clubdetirsaint-tite.ca/event/100814-_-tireur-2/
CATEGORIES:PRÉSENCES
END:VEVENT
BEGIN:VEVENT
DTSTART;TZID=America/Toronto:20250528T160400
DTEND;TZID=America/Toronto:20250528T162800
DTSTAMP:20260420T163034
CREATED:20250601T235516Z
LAST-MODIFIED:20250601T235516Z
UID:10003472-1748448240-1748449680@clubdetirsaint-tite.ca
SUMMARY:101040 _ OFFICIEL
DESCRIPTION:
URL:https://clubdetirsaint-tite.ca/event/101040-_-officiel-3/
CATEGORIES:PRÉSENCES
END:VEVENT
END:VCALENDAR