BEGIN:VCALENDAR
VERSION:2.0
PRODID:-//Club de Tir Saint-Tite - ECPv6.15.20//NONSGML v1.0//EN
CALSCALE:GREGORIAN
METHOD:PUBLISH
X-WR-CALNAME:Club de Tir Saint-Tite
X-ORIGINAL-URL:https://clubdetirsaint-tite.ca
X-WR-CALDESC:Évènements pour Club de Tir Saint-Tite
REFRESH-INTERVAL;VALUE=DURATION:PT1H
X-Robots-Tag:noindex
X-PUBLISHED-TTL:PT1H
BEGIN:VTIMEZONE
TZID:America/Toronto
BEGIN:DAYLIGHT
TZOFFSETFROM:-0500
TZOFFSETTO:-0400
TZNAME:EDT
DTSTART:20240310T070000
END:DAYLIGHT
BEGIN:STANDARD
TZOFFSETFROM:-0400
TZOFFSETTO:-0500
TZNAME:EST
DTSTART:20241103T060000
END:STANDARD
BEGIN:DAYLIGHT
TZOFFSETFROM:-0500
TZOFFSETTO:-0400
TZNAME:EDT
DTSTART:20250309T070000
END:DAYLIGHT
BEGIN:STANDARD
TZOFFSETFROM:-0400
TZOFFSETTO:-0500
TZNAME:EST
DTSTART:20251102T060000
END:STANDARD
BEGIN:DAYLIGHT
TZOFFSETFROM:-0500
TZOFFSETTO:-0400
TZNAME:EDT
DTSTART:20260308T070000
END:DAYLIGHT
BEGIN:STANDARD
TZOFFSETFROM:-0400
TZOFFSETTO:-0500
TZNAME:EST
DTSTART:20261101T060000
END:STANDARD
END:VTIMEZONE
BEGIN:VEVENT
DTSTART;TZID=America/Toronto:20250917T142800
DTEND;TZID=America/Toronto:20250917T153400
DTSTAMP:20260423T125043
CREATED:20251019T215405Z
LAST-MODIFIED:20251019T215405Z
UID:10004052-1758119280-1758123240@clubdetirsaint-tite.ca
SUMMARY:101467 _ TIREUR
DESCRIPTION:
URL:https://clubdetirsaint-tite.ca/event/101467-_-tireur-7/
LOCATION:Quebec
CATEGORIES:PRÉSENCES
END:VEVENT
BEGIN:VEVENT
DTSTART;TZID=America/Toronto:20250917T131500
DTEND;TZID=America/Toronto:20250917T142000
DTSTAMP:20260423T125043
CREATED:20251019T215405Z
LAST-MODIFIED:20251019T215405Z
UID:10004051-1758114900-1758118800@clubdetirsaint-tite.ca
SUMMARY:102077 _ TIREUR
DESCRIPTION:
URL:https://clubdetirsaint-tite.ca/event/102077-_-tireur-4/
LOCATION:Quebec
CATEGORIES:PRÉSENCES
END:VEVENT
BEGIN:VEVENT
DTSTART;TZID=America/Toronto:20250917T130000
DTEND;TZID=America/Toronto:20250917T160000
DTSTAMP:20260423T125043
CREATED:20250810T012428Z
LAST-MODIFIED:20250810T012428Z
UID:10003752-1758114000-1758124800@clubdetirsaint-tite.ca
SUMMARY:OFFICIEL
DESCRIPTION:tir libre \nand-jas
URL:https://clubdetirsaint-tite.ca/event/officiel-14/
LOCATION:Club de Tir Saint-Tite\, 35 QC-153\, Saint-Tite\, Quebec\, G0X 3H0\, Canada
END:VEVENT
BEGIN:VEVENT
DTSTART;TZID=America/Toronto:20250917T122800
DTEND;TZID=America/Toronto:20250917T160400
DTSTAMP:20260423T125043
CREATED:20251019T215420Z
LAST-MODIFIED:20251019T215420Z
UID:10004054-1758112080-1758125040@clubdetirsaint-tite.ca
SUMMARY:100549 _ OFFICIEL
DESCRIPTION:
URL:https://clubdetirsaint-tite.ca/event/100549-_-officiel-67/
LOCATION:Quebec
CATEGORIES:PRÉSENCES
END:VEVENT
BEGIN:VEVENT
DTSTART;TZID=America/Toronto:20250915T172800
DTEND;TZID=America/Toronto:20250915T175300
DTSTAMP:20260423T125043
CREATED:20251019T215405Z
LAST-MODIFIED:20251019T215405Z
UID:10004050-1757957280-1757958780@clubdetirsaint-tite.ca
SUMMARY:101392 _ OFFICIEL
DESCRIPTION:
URL:https://clubdetirsaint-tite.ca/event/101392-_-officiel-3/
LOCATION:Quebec
CATEGORIES:PRÉSENCES
END:VEVENT
BEGIN:VEVENT
DTSTART;TZID=America/Toronto:20250915T142000
DTEND;TZID=America/Toronto:20250915T145000
DTSTAMP:20260423T125043
CREATED:20251019T215404Z
LAST-MODIFIED:20251019T215404Z
UID:10004047-1757946000-1757947800@clubdetirsaint-tite.ca
SUMMARY:100084 _ TIREUR
DESCRIPTION:
URL:https://clubdetirsaint-tite.ca/event/100084-_-tireur-2/
LOCATION:Quebec
CATEGORIES:PRÉSENCES
END:VEVENT
BEGIN:VEVENT
DTSTART;TZID=America/Toronto:20250915T141200
DTEND;TZID=America/Toronto:20250915T162400
DTSTAMP:20260423T125043
CREATED:20251019T215404Z
LAST-MODIFIED:20251019T215404Z
UID:10004048-1757945520-1757953440@clubdetirsaint-tite.ca
SUMMARY:101467 _ TIREUR
DESCRIPTION:
URL:https://clubdetirsaint-tite.ca/event/101467-_-tireur-6/
LOCATION:Quebec
CATEGORIES:PRÉSENCES
END:VEVENT
BEGIN:VEVENT
DTSTART;TZID=America/Toronto:20250915T141000
DTEND;TZID=America/Toronto:20250915T143400
DTSTAMP:20260423T125043
CREATED:20251019T215404Z
LAST-MODIFIED:20251019T215404Z
UID:10004046-1757945400-1757946840@clubdetirsaint-tite.ca
SUMMARY:100229 _ TIREUR
DESCRIPTION:
URL:https://clubdetirsaint-tite.ca/event/100229-_-tireur-2/
LOCATION:Quebec
CATEGORIES:PRÉSENCES
END:VEVENT
BEGIN:VEVENT
DTSTART;TZID=America/Toronto:20250915T130800
DTEND;TZID=America/Toronto:20250915T140100
DTSTAMP:20260423T125043
CREATED:20251019T215403Z
LAST-MODIFIED:20251019T215403Z
UID:10004044-1757941680-1757944860@clubdetirsaint-tite.ca
SUMMARY:101118 _ TIREUR
DESCRIPTION:
URL:https://clubdetirsaint-tite.ca/event/101118-_-tireur-2/
LOCATION:Quebec
CATEGORIES:PRÉSENCES
END:VEVENT
BEGIN:VEVENT
DTSTART;TZID=America/Toronto:20250915T130700
DTEND;TZID=America/Toronto:20250915T143000
DTSTAMP:20260423T125043
CREATED:20251019T215403Z
LAST-MODIFIED:20251019T215403Z
UID:10004045-1757941620-1757946600@clubdetirsaint-tite.ca
SUMMARY:100961 _ TIREUR
DESCRIPTION:
URL:https://clubdetirsaint-tite.ca/event/100961-_-tireur-3/
LOCATION:Quebec
CATEGORIES:PRÉSENCES
END:VEVENT
BEGIN:VEVENT
DTSTART;TZID=America/Toronto:20250915T130000
DTEND;TZID=America/Toronto:20250915T160000
DTSTAMP:20260423T125043
CREATED:20250810T012358Z
LAST-MODIFIED:20250810T012358Z
UID:10003751-1757941200-1757952000@clubdetirsaint-tite.ca
SUMMARY:OFFICIEL
DESCRIPTION:tir libre \nand-jas
URL:https://clubdetirsaint-tite.ca/event/officiel-13/
LOCATION:Club de Tir Saint-Tite\, 35 QC-153\, Saint-Tite\, Quebec\, G0X 3H0\, Canada
END:VEVENT
BEGIN:VEVENT
DTSTART;TZID=America/Toronto:20250915T123700
DTEND;TZID=America/Toronto:20250915T162400
DTSTAMP:20260423T125043
CREATED:20251019T215405Z
LAST-MODIFIED:20251019T215405Z
UID:10004049-1757939820-1757953440@clubdetirsaint-tite.ca
SUMMARY:100548 _ OFFICIEL
DESCRIPTION:
URL:https://clubdetirsaint-tite.ca/event/100548-_-officiel-54/
LOCATION:Quebec
CATEGORIES:PRÉSENCES
END:VEVENT
BEGIN:VEVENT
DTSTART;TZID=America/Toronto:20250913T100000
DTEND;TZID=America/Toronto:20250913T110000
DTSTAMP:20260423T125043
CREATED:20250825T165205Z
LAST-MODIFIED:20250825T165205Z
UID:10003771-1757757600-1757761200@clubdetirsaint-tite.ca
SUMMARY:Session accueil
DESCRIPTION:Session accueil
URL:https://clubdetirsaint-tite.ca/event/session-accueil-19/
LOCATION:Club de Tir Saint-Tite\, 35 QC-153\, Saint-Tite\, Quebec\, G0X 3H0\, Canada
END:VEVENT
BEGIN:VEVENT
DTSTART;TZID=America/Toronto:20250912T121200
DTEND;TZID=America/Toronto:20250912T132900
DTSTAMP:20260423T125043
CREATED:20250922T005515Z
LAST-MODIFIED:20250922T005515Z
UID:10004017-1757679120-1757683740@clubdetirsaint-tite.ca
SUMMARY:102049 _ TIREUR
DESCRIPTION:
URL:https://clubdetirsaint-tite.ca/event/102049-_-tireur-4/
LOCATION:Quebec
CATEGORIES:PRÉSENCES
END:VEVENT
BEGIN:VEVENT
DTSTART;TZID=America/Toronto:20250912T121100
DTEND;TZID=America/Toronto:20250912T133000
DTSTAMP:20260423T125043
CREATED:20250922T005516Z
LAST-MODIFIED:20250922T005516Z
UID:10004018-1757679060-1757683800@clubdetirsaint-tite.ca
SUMMARY:102048 _ OFFICIEL
DESCRIPTION:
URL:https://clubdetirsaint-tite.ca/event/102048-_-officiel-13/
LOCATION:Quebec
CATEGORIES:PRÉSENCES
END:VEVENT
BEGIN:VEVENT
DTSTART;TZID=America/Toronto:20250912T095200
DTEND;TZID=America/Toronto:20250912T125800
DTSTAMP:20260423T125043
CREATED:20250922T005515Z
LAST-MODIFIED:20250922T005515Z
UID:10004016-1757670720-1757681880@clubdetirsaint-tite.ca
SUMMARY:101199 _ TIREUR
DESCRIPTION:
URL:https://clubdetirsaint-tite.ca/event/101199-_-tireur-17/
LOCATION:Quebec
CATEGORIES:PRÉSENCES
END:VEVENT
BEGIN:VEVENT
DTSTART;TZID=America/Toronto:20250912T095000
DTEND;TZID=America/Toronto:20250912T095000
DTSTAMP:20260423T125043
CREATED:20250922T005417Z
LAST-MODIFIED:20250922T005417Z
UID:10004013-1757670600-1757670600@clubdetirsaint-tite.ca
SUMMARY:101199 _ OFFICIEL
DESCRIPTION:
URL:https://clubdetirsaint-tite.ca/event/101199-_-officiel-6/
LOCATION:Quebec
CATEGORIES:PRÉSENCES
END:VEVENT
BEGIN:VEVENT
DTSTART;TZID=America/Toronto:20250912T093400
DTEND;TZID=America/Toronto:20250912T121100
DTSTAMP:20260423T125043
CREATED:20250922T005418Z
LAST-MODIFIED:20250922T005418Z
UID:10004015-1757669640-1757679060@clubdetirsaint-tite.ca
SUMMARY:102048 _ TIREUR
DESCRIPTION:
URL:https://clubdetirsaint-tite.ca/event/102048-_-tireur-14/
LOCATION:Quebec
CATEGORIES:PRÉSENCES
END:VEVENT
BEGIN:VEVENT
DTSTART;TZID=America/Toronto:20250912T093400
DTEND;TZID=America/Toronto:20250912T120700
DTSTAMP:20260423T125043
CREATED:20250922T005418Z
LAST-MODIFIED:20250922T005418Z
UID:10004014-1757669640-1757678820@clubdetirsaint-tite.ca
SUMMARY:102049 _ OFFICIEL
DESCRIPTION:
URL:https://clubdetirsaint-tite.ca/event/102049-_-officiel-9/
LOCATION:Quebec
CATEGORIES:PRÉSENCES
END:VEVENT
BEGIN:VEVENT
DTSTART;TZID=America/Toronto:20250911T192900
DTEND;TZID=America/Toronto:20250911T210200
DTSTAMP:20260423T125043
CREATED:20250922T005417Z
LAST-MODIFIED:20250922T005417Z
UID:10004011-1757618940-1757624520@clubdetirsaint-tite.ca
SUMMARY:102609 _ TIREUR
DESCRIPTION:
URL:https://clubdetirsaint-tite.ca/event/102609-_-tireur-12/
LOCATION:Quebec
CATEGORIES:PRÉSENCES
END:VEVENT
BEGIN:VEVENT
DTSTART;TZID=America/Toronto:20250911T192800
DTEND;TZID=America/Toronto:20250911T210200
DTSTAMP:20260423T125043
CREATED:20250922T005417Z
LAST-MODIFIED:20250922T005417Z
UID:10004012-1757618880-1757624520@clubdetirsaint-tite.ca
SUMMARY:102616 _ OFFICIEL
DESCRIPTION:
URL:https://clubdetirsaint-tite.ca/event/102616-_-officiel-14/
LOCATION:Quebec
CATEGORIES:PRÉSENCES
END:VEVENT
BEGIN:VEVENT
DTSTART;TZID=America/Toronto:20250911T192800
DTEND;TZID=America/Toronto:20250911T210200
DTSTAMP:20260423T125043
CREATED:20250922T005218Z
LAST-MODIFIED:20250922T005218Z
UID:10004010-1757618880-1757624520@clubdetirsaint-tite.ca
SUMMARY:102608 _ TIREUR
DESCRIPTION:
URL:https://clubdetirsaint-tite.ca/event/102608-_-tireur-25/
LOCATION:Quebec
CATEGORIES:PRÉSENCES
END:VEVENT
BEGIN:VEVENT
DTSTART;TZID=America/Toronto:20250910T171600
DTEND;TZID=America/Toronto:20250910T180800
DTSTAMP:20260423T125043
CREATED:20250922T005217Z
LAST-MODIFIED:20250922T005217Z
UID:10004008-1757524560-1757527680@clubdetirsaint-tite.ca
SUMMARY:100011 _ TIREUR
DESCRIPTION:
URL:https://clubdetirsaint-tite.ca/event/100011-_-tireur-8/
LOCATION:Quebec
CATEGORIES:PRÉSENCES
END:VEVENT
BEGIN:VEVENT
DTSTART;TZID=America/Toronto:20250910T161100
DTEND;TZID=America/Toronto:20250910T180800
DTSTAMP:20260423T125043
CREATED:20250922T005218Z
LAST-MODIFIED:20250922T005218Z
UID:10004009-1757520660-1757527680@clubdetirsaint-tite.ca
SUMMARY:100003 _ OFFICIEL
DESCRIPTION:
URL:https://clubdetirsaint-tite.ca/event/100003-_-officiel-18/
LOCATION:Quebec
CATEGORIES:PRÉSENCES
END:VEVENT
BEGIN:VEVENT
DTSTART;TZID=America/Toronto:20250910T152300
DTEND;TZID=America/Toronto:20250910T161100
DTSTAMP:20260423T125043
CREATED:20250922T005217Z
LAST-MODIFIED:20250922T005217Z
UID:10004006-1757517780-1757520660@clubdetirsaint-tite.ca
SUMMARY:100003 _ TIREUR
DESCRIPTION:
URL:https://clubdetirsaint-tite.ca/event/100003-_-tireur-16/
LOCATION:Quebec
CATEGORIES:PRÉSENCES
END:VEVENT
BEGIN:VEVENT
DTSTART;TZID=America/Toronto:20250910T152300
DTEND;TZID=America/Toronto:20250910T161100
DTSTAMP:20260423T125043
CREATED:20250922T005018Z
LAST-MODIFIED:20250922T005018Z
UID:10004005-1757517780-1757520660@clubdetirsaint-tite.ca
SUMMARY:100091 _ TIREUR
DESCRIPTION:
URL:https://clubdetirsaint-tite.ca/event/100091-_-tireur-3/
LOCATION:Quebec
CATEGORIES:PRÉSENCES
END:VEVENT
BEGIN:VEVENT
DTSTART;TZID=America/Toronto:20250910T142000
DTEND;TZID=America/Toronto:20250910T145700
DTSTAMP:20260423T125043
CREATED:20250922T005018Z
LAST-MODIFIED:20250922T005018Z
UID:10004004-1757514000-1757516220@clubdetirsaint-tite.ca
SUMMARY:100142 _ TIREUR
DESCRIPTION:
URL:https://clubdetirsaint-tite.ca/event/100142-_-tireur-6/
LOCATION:Quebec
CATEGORIES:PRÉSENCES
END:VEVENT
BEGIN:VEVENT
DTSTART;TZID=America/Toronto:20250910T133000
DTEND;TZID=America/Toronto:20250910T145500
DTSTAMP:20260423T125043
CREATED:20250922T005017Z
LAST-MODIFIED:20250922T005017Z
UID:10004003-1757511000-1757516100@clubdetirsaint-tite.ca
SUMMARY:101467 _ TIREUR
DESCRIPTION:
URL:https://clubdetirsaint-tite.ca/event/101467-_-tireur-5/
LOCATION:Quebec
CATEGORIES:PRÉSENCES
END:VEVENT
BEGIN:VEVENT
DTSTART;TZID=America/Toronto:20250910T131800
DTEND;TZID=America/Toronto:20250910T161100
DTSTAMP:20260423T125043
CREATED:20250922T005217Z
LAST-MODIFIED:20250922T005217Z
UID:10004007-1757510280-1757520660@clubdetirsaint-tite.ca
SUMMARY:100549 _ OFFICIEL
DESCRIPTION:
URL:https://clubdetirsaint-tite.ca/event/100549-_-officiel-66/
LOCATION:Quebec
CATEGORIES:PRÉSENCES
END:VEVENT
BEGIN:VEVENT
DTSTART;TZID=America/Toronto:20250910T130000
DTEND;TZID=America/Toronto:20250910T160000
DTSTAMP:20260423T125043
CREATED:20250810T012329Z
LAST-MODIFIED:20250810T012329Z
UID:10003750-1757509200-1757520000@clubdetirsaint-tite.ca
SUMMARY:OFFICIEL
DESCRIPTION:tir libre \nand-jas
URL:https://clubdetirsaint-tite.ca/event/officiel-12/
LOCATION:Club de Tir Saint-Tite\, 35 QC-153\, Saint-Tite\, Quebec\, G0X 3H0\, Canada
END:VEVENT
END:VCALENDAR