BEGIN:VCALENDAR
VERSION:2.0
PRODID:-//Club de Tir Saint-Tite - ECPv6.15.20//NONSGML v1.0//EN
CALSCALE:GREGORIAN
METHOD:PUBLISH
X-WR-CALNAME:Club de Tir Saint-Tite
X-ORIGINAL-URL:https://clubdetirsaint-tite.ca
X-WR-CALDESC:Évènements pour Club de Tir Saint-Tite
REFRESH-INTERVAL;VALUE=DURATION:PT1H
X-Robots-Tag:noindex
X-PUBLISHED-TTL:PT1H
BEGIN:VTIMEZONE
TZID:America/Toronto
BEGIN:DAYLIGHT
TZOFFSETFROM:-0500
TZOFFSETTO:-0400
TZNAME:EDT
DTSTART:20240310T070000
END:DAYLIGHT
BEGIN:STANDARD
TZOFFSETFROM:-0400
TZOFFSETTO:-0500
TZNAME:EST
DTSTART:20241103T060000
END:STANDARD
BEGIN:DAYLIGHT
TZOFFSETFROM:-0500
TZOFFSETTO:-0400
TZNAME:EDT
DTSTART:20250309T070000
END:DAYLIGHT
BEGIN:STANDARD
TZOFFSETFROM:-0400
TZOFFSETTO:-0500
TZNAME:EST
DTSTART:20251102T060000
END:STANDARD
BEGIN:DAYLIGHT
TZOFFSETFROM:-0500
TZOFFSETTO:-0400
TZNAME:EDT
DTSTART:20260308T070000
END:DAYLIGHT
BEGIN:STANDARD
TZOFFSETFROM:-0400
TZOFFSETTO:-0500
TZNAME:EST
DTSTART:20261101T060000
END:STANDARD
END:VTIMEZONE
BEGIN:VEVENT
DTSTART;TZID=America/Toronto:20250530T112400
DTEND;TZID=America/Toronto:20250530T121000
DTSTAMP:20260421T001926
CREATED:20250601T235617Z
LAST-MODIFIED:20250601T235617Z
UID:10003496-1748604240-1748607000@clubdetirsaint-tite.ca
SUMMARY:101371 _ TIREUR
DESCRIPTION:
URL:https://clubdetirsaint-tite.ca/event/101371-_-tireur/
CATEGORIES:PRÉSENCES
END:VEVENT
BEGIN:VEVENT
DTSTART;TZID=America/Toronto:20250530T120000
DTEND;TZID=America/Toronto:20250530T133000
DTSTAMP:20260421T001926
CREATED:20250530T114936Z
LAST-MODIFIED:20250530T114936Z
UID:10003333-1748606400-1748611800@clubdetirsaint-tite.ca
SUMMARY:OFFICEL 101371
DESCRIPTION:Officiel
URL:https://clubdetirsaint-tite.ca/event/officel-101371/
LOCATION:Club de Tir Saint-Tite\, 35 QC-153\, Saint-Tite\, Quebec\, G0X 3H0\, Canada
END:VEVENT
BEGIN:VEVENT
DTSTART;TZID=America/Toronto:20250530T121000
DTEND;TZID=America/Toronto:20250530T133800
DTSTAMP:20260421T001926
CREATED:20250601T235631Z
LAST-MODIFIED:20250601T235631Z
UID:10003497-1748607000-1748612280@clubdetirsaint-tite.ca
SUMMARY:101371 _ OFFICIEL
DESCRIPTION:
URL:https://clubdetirsaint-tite.ca/event/101371-_-officiel/
CATEGORIES:PRÉSENCES
END:VEVENT
BEGIN:VEVENT
DTSTART;TZID=America/Toronto:20250531T093800
DTEND;TZID=America/Toronto:20250531T114800
DTSTAMP:20260421T001926
CREATED:20250601T235631Z
LAST-MODIFIED:20250601T235631Z
UID:10003498-1748684280-1748692080@clubdetirsaint-tite.ca
SUMMARY:100706 _ OFFICIEL
DESCRIPTION:
URL:https://clubdetirsaint-tite.ca/event/100706-_-officiel-16/
CATEGORIES:PRÉSENCES
END:VEVENT
BEGIN:VEVENT
DTSTART;TZID=America/Toronto:20250531T100000
DTEND;TZID=America/Toronto:20250531T110000
DTSTAMP:20260421T001926
CREATED:20250504T194455Z
LAST-MODIFIED:20250504T194455Z
UID:10003164-1748685600-1748689200@clubdetirsaint-tite.ca
SUMMARY:Session accueil
DESCRIPTION:Session accueil
URL:https://clubdetirsaint-tite.ca/event/session-accueil-7/
LOCATION:Club de Tir Saint-Tite\, 35 QC-153\, Saint-Tite\, Quebec\, G0X 3H0\, Canada
END:VEVENT
BEGIN:VEVENT
DTSTART;TZID=America/Toronto:20250531T115800
DTEND;TZID=America/Toronto:20250531T123800
DTSTAMP:20260421T001926
CREATED:20250601T235632Z
LAST-MODIFIED:20250601T235632Z
UID:10003500-1748692680-1748695080@clubdetirsaint-tite.ca
SUMMARY:101569 _ OFFICIEL
DESCRIPTION:
URL:https://clubdetirsaint-tite.ca/event/101569-_-officiel/
CATEGORIES:PRÉSENCES
END:VEVENT
BEGIN:VEVENT
DTSTART;TZID=America/Toronto:20250531T120000
DTEND;TZID=America/Toronto:20250531T123800
DTSTAMP:20260421T001926
CREATED:20250601T235631Z
LAST-MODIFIED:20250601T235631Z
UID:10003499-1748692800-1748695080@clubdetirsaint-tite.ca
SUMMARY:101571 _ TIREUR
DESCRIPTION:
URL:https://clubdetirsaint-tite.ca/event/101571-_-tireur/
CATEGORIES:PRÉSENCES
END:VEVENT
BEGIN:VEVENT
DTSTART;TZID=America/Toronto:20250531T124100
DTEND;TZID=America/Toronto:20250531T131100
DTSTAMP:20260421T001926
CREATED:20250601T235632Z
LAST-MODIFIED:20250601T235632Z
UID:10003501-1748695260-1748697060@clubdetirsaint-tite.ca
SUMMARY:101571 _ OFFICIEL
DESCRIPTION:
URL:https://clubdetirsaint-tite.ca/event/101571-_-officiel/
CATEGORIES:PRÉSENCES
END:VEVENT
BEGIN:VEVENT
DTSTART;TZID=America/Toronto:20250531T124100
DTEND;TZID=America/Toronto:20250531T131200
DTSTAMP:20260421T001926
CREATED:20250601T235646Z
LAST-MODIFIED:20250601T235646Z
UID:10003502-1748695260-1748697120@clubdetirsaint-tite.ca
SUMMARY:101569 _ TIREUR
DESCRIPTION:
URL:https://clubdetirsaint-tite.ca/event/101569-_-tireur/
CATEGORIES:PRÉSENCES
END:VEVENT
BEGIN:VEVENT
DTSTART;TZID=America/Toronto:20250531T130000
DTEND;TZID=America/Toronto:20250531T143000
DTSTAMP:20260421T001926
CREATED:20250530T214932Z
LAST-MODIFIED:20250530T214932Z
UID:10003431-1748696400-1748701800@clubdetirsaint-tite.ca
SUMMARY:OFFICIEL #100 008
DESCRIPTION:DERNIÈRE CHANCE POUR ENREGISTRER UNE PRÉSENCE POUR LA SESSION 2025!
URL:https://clubdetirsaint-tite.ca/event/officiel-100-008-2/
LOCATION:Club de Tir Saint-Tite\, 35 QC-153\, Saint-Tite\, Quebec\, G0X 3H0\, Canada
END:VEVENT
BEGIN:VEVENT
DTSTART;TZID=America/Toronto:20250531T131200
DTEND;TZID=America/Toronto:20250531T131300
DTSTAMP:20260421T001926
CREATED:20250601T235646Z
LAST-MODIFIED:20250601T235646Z
UID:10003503-1748697120-1748697180@clubdetirsaint-tite.ca
SUMMARY:101571 _ OFFICIEL
DESCRIPTION:
URL:https://clubdetirsaint-tite.ca/event/101571-_-officiel-2/
CATEGORIES:PRÉSENCES
END:VEVENT
BEGIN:VEVENT
DTSTART;TZID=America/Toronto:20250531T131200
DTEND;TZID=America/Toronto:20250531T131600
DTSTAMP:20260421T001926
CREATED:20250601T235646Z
LAST-MODIFIED:20250601T235646Z
UID:10003505-1748697120-1748697360@clubdetirsaint-tite.ca
SUMMARY:101569 _ OFFICIEL
DESCRIPTION:
URL:https://clubdetirsaint-tite.ca/event/101569-_-officiel-2/
CATEGORIES:PRÉSENCES
END:VEVENT
BEGIN:VEVENT
DTSTART;TZID=America/Toronto:20250531T131300
DTEND;TZID=America/Toronto:20250531T131300
DTSTAMP:20260421T001926
CREATED:20250601T235646Z
LAST-MODIFIED:20250601T235646Z
UID:10003504-1748697180-1748697180@clubdetirsaint-tite.ca
SUMMARY:101571 _ OFFICIEL
DESCRIPTION:
URL:https://clubdetirsaint-tite.ca/event/101571-_-officiel-3/
CATEGORIES:PRÉSENCES
END:VEVENT
BEGIN:VEVENT
DTSTART;TZID=America/Toronto:20250531T131300
DTEND;TZID=America/Toronto:20250531T133800
DTSTAMP:20260421T001926
CREATED:20250601T235647Z
LAST-MODIFIED:20250601T235647Z
UID:10003506-1748697180-1748698680@clubdetirsaint-tite.ca
SUMMARY:101571 _ TIREUR
DESCRIPTION:
URL:https://clubdetirsaint-tite.ca/event/101571-_-tireur-2/
CATEGORIES:PRÉSENCES
END:VEVENT
BEGIN:VEVENT
DTSTART;TZID=America/Toronto:20250531T131600
DTEND;TZID=America/Toronto:20250531T150800
DTSTAMP:20260421T001926
CREATED:20250601T235702Z
LAST-MODIFIED:20250601T235702Z
UID:10003511-1748697360-1748704080@clubdetirsaint-tite.ca
SUMMARY:100008 _ OFFICIEL
DESCRIPTION:
URL:https://clubdetirsaint-tite.ca/event/100008-_-officiel-53/
CATEGORIES:PRÉSENCES
END:VEVENT
BEGIN:VEVENT
DTSTART;TZID=America/Toronto:20250531T131700
DTEND;TZID=America/Toronto:20250531T145100
DTSTAMP:20260421T001926
CREATED:20250601T235702Z
LAST-MODIFIED:20250601T235702Z
UID:10003508-1748697420-1748703060@clubdetirsaint-tite.ca
SUMMARY:101601 _ TIREUR
DESCRIPTION:
URL:https://clubdetirsaint-tite.ca/event/101601-_-tireur/
CATEGORIES:PRÉSENCES
END:VEVENT
BEGIN:VEVENT
DTSTART;TZID=America/Toronto:20250531T133000
DTEND;TZID=America/Toronto:20250531T135700
DTSTAMP:20260421T001926
CREATED:20250601T235702Z
LAST-MODIFIED:20250601T235702Z
UID:10003507-1748698200-1748699820@clubdetirsaint-tite.ca
SUMMARY:100418 _ TIREUR
DESCRIPTION:
URL:https://clubdetirsaint-tite.ca/event/100418-_-tireur/
CATEGORIES:PRÉSENCES
END:VEVENT
BEGIN:VEVENT
DTSTART;TZID=America/Toronto:20250531T134100
DTEND;TZID=America/Toronto:20250531T150800
DTSTAMP:20260421T001926
CREATED:20250601T235702Z
LAST-MODIFIED:20250601T235702Z
UID:10003510-1748698860-1748704080@clubdetirsaint-tite.ca
SUMMARY:101571 _ TIREUR
DESCRIPTION:
URL:https://clubdetirsaint-tite.ca/event/101571-_-tireur-3/
CATEGORIES:PRÉSENCES
END:VEVENT
BEGIN:VEVENT
DTSTART;TZID=America/Toronto:20250531T134800
DTEND;TZID=America/Toronto:20250531T150800
DTSTAMP:20260421T001926
CREATED:20250601T235702Z
LAST-MODIFIED:20250601T235702Z
UID:10003509-1748699280-1748704080@clubdetirsaint-tite.ca
SUMMARY:100567 _ TIREUR
DESCRIPTION:
URL:https://clubdetirsaint-tite.ca/event/100567-_-tireur/
CATEGORIES:PRÉSENCES
END:VEVENT
BEGIN:VEVENT
DTSTART;TZID=America/Toronto:20250601T080000
DTEND;TZID=America/Toronto:20250601T170000
DTSTAMP:20260421T001926
CREATED:20250525T120244Z
LAST-MODIFIED:20250525T120244Z
UID:10003323-1748764800-1748797200@clubdetirsaint-tite.ca
SUMMARY:Pas carabiné fermé
DESCRIPTION:Pas carabiné fermé
URL:https://clubdetirsaint-tite.ca/event/pas-carabine-ferme/
LOCATION:Club de Tir Saint-Tite\, 35 QC-153\, Saint-Tite\, Quebec\, G0X 3H0\, Canada
END:VEVENT
BEGIN:VEVENT
DTSTART;TZID=America/Toronto:20250602T124600
DTEND;TZID=America/Toronto:20250602T160000
DTSTAMP:20260421T001926
CREATED:20250801T025442Z
LAST-MODIFIED:20250801T025442Z
UID:10003555-1748868360-1748880000@clubdetirsaint-tite.ca
SUMMARY:100548 _ OFFICIEL
DESCRIPTION:
URL:https://clubdetirsaint-tite.ca/event/100548-_-officiel-40/
CATEGORIES:PRÉSENCES
END:VEVENT
BEGIN:VEVENT
DTSTART;TZID=America/Toronto:20250602T130000
DTEND;TZID=America/Toronto:20250602T160000
DTSTAMP:20260421T001926
CREATED:20250401T223721Z
LAST-MODIFIED:20250401T223721Z
UID:10002937-1748869200-1748880000@clubdetirsaint-tite.ca
SUMMARY:OFFICIEL
DESCRIPTION:tir libre \nand-jas
URL:https://clubdetirsaint-tite.ca/event/officiel-74/
LOCATION:Club de Tir Saint-Tite\, 35 QC-153\, Saint-Tite\, Quebec\, G0X 3H0\, Canada
END:VEVENT
BEGIN:VEVENT
DTSTART;TZID=America/Toronto:20250602T130000
DTEND;TZID=America/Toronto:20250602T160000
DTSTAMP:20260421T001926
CREATED:20250801T025442Z
LAST-MODIFIED:20250801T025442Z
UID:10003554-1748869200-1748880000@clubdetirsaint-tite.ca
SUMMARY:100549 _ TIREUR
DESCRIPTION:
URL:https://clubdetirsaint-tite.ca/event/100549-_-tireur-10/
CATEGORIES:PRÉSENCES
END:VEVENT
BEGIN:VEVENT
DTSTART;TZID=America/Toronto:20250602T130200
DTEND;TZID=America/Toronto:20250602T142500
DTSTAMP:20260421T001926
CREATED:20250801T025442Z
LAST-MODIFIED:20250801T025442Z
UID:10003552-1748869320-1748874300@clubdetirsaint-tite.ca
SUMMARY:100048 _ TIREUR
DESCRIPTION:
URL:https://clubdetirsaint-tite.ca/event/100048-_-tireur-4/
CATEGORIES:PRÉSENCES
END:VEVENT
BEGIN:VEVENT
DTSTART;TZID=America/Toronto:20250602T145300
DTEND;TZID=America/Toronto:20250602T160000
DTSTAMP:20260421T001926
CREATED:20250801T025442Z
LAST-MODIFIED:20250801T025442Z
UID:10003553-1748875980-1748880000@clubdetirsaint-tite.ca
SUMMARY:100118 _ OFFICIEL
DESCRIPTION:
URL:https://clubdetirsaint-tite.ca/event/100118-_-officiel-12/
CATEGORIES:PRÉSENCES
END:VEVENT
BEGIN:VEVENT
DTSTART;TZID=America/Toronto:20250603T075900
DTEND;TZID=America/Toronto:20250603T153400
DTSTAMP:20260421T001926
CREATED:20250801T025443Z
LAST-MODIFIED:20250801T025443Z
UID:10003556-1748937540-1748964840@clubdetirsaint-tite.ca
SUMMARY:100137 _ OFFICIEL
DESCRIPTION:
URL:https://clubdetirsaint-tite.ca/event/100137-_-officiel-9/
CATEGORIES:PRÉSENCES
END:VEVENT
BEGIN:VEVENT
DTSTART;TZID=America/Toronto:20250603T080000
DTEND;TZID=America/Toronto:20250603T120000
DTSTAMP:20260421T001926
CREATED:20250514T142709Z
LAST-MODIFIED:20250514T142709Z
UID:10003238-1748937600-1748952000@clubdetirsaint-tite.ca
SUMMARY:100137 officiel
DESCRIPTION:Officiel
URL:https://clubdetirsaint-tite.ca/event/100137-officiel/
LOCATION:Club de Tir Saint-Tite\, 35 QC-153\, Saint-Tite\, Quebec\, G0X 3H0\, Canada
END:VEVENT
BEGIN:VEVENT
DTSTART;TZID=America/Toronto:20250603T120000
DTEND;TZID=America/Toronto:20250603T170000
DTSTAMP:20260421T001926
CREATED:20250514T143325Z
LAST-MODIFIED:20250514T143325Z
UID:10003239-1748952000-1748970000@clubdetirsaint-tite.ca
SUMMARY:OFFICIEl100137
DESCRIPTION: 
URL:https://clubdetirsaint-tite.ca/event/officiel100137/
LOCATION:Club de Tir Saint-Tite\, 35 QC-153\, Saint-Tite\, Quebec\, G0X 3H0\, Canada
END:VEVENT
BEGIN:VEVENT
DTSTART;TZID=America/Toronto:20250604T124300
DTEND;TZID=America/Toronto:20250604T155900
DTSTAMP:20260421T001926
CREATED:20250801T025444Z
LAST-MODIFIED:20250801T025444Z
UID:10003560-1749040980-1749052740@clubdetirsaint-tite.ca
SUMMARY:100549 _ OFFICIEL
DESCRIPTION:
URL:https://clubdetirsaint-tite.ca/event/100549-_-officiel-47/
CATEGORIES:PRÉSENCES
END:VEVENT
BEGIN:VEVENT
DTSTART;TZID=America/Toronto:20250604T130000
DTEND;TZID=America/Toronto:20250604T160000
DTSTAMP:20260421T001926
CREATED:20250401T223753Z
LAST-MODIFIED:20250401T223753Z
UID:10002938-1749042000-1749052800@clubdetirsaint-tite.ca
SUMMARY:OFFICIEL
DESCRIPTION:tir libre \nand-jas
URL:https://clubdetirsaint-tite.ca/event/officiel-75/
LOCATION:Club de Tir Saint-Tite\, 35 QC-153\, Saint-Tite\, Quebec\, G0X 3H0\, Canada
END:VEVENT
END:VCALENDAR