BEGIN:VCALENDAR
VERSION:2.0
PRODID:-//Club de Tir Saint-Tite - ECPv6.15.20//NONSGML v1.0//EN
CALSCALE:GREGORIAN
METHOD:PUBLISH
X-ORIGINAL-URL:https://clubdetirsaint-tite.ca
X-WR-CALDESC:Évènements pour Club de Tir Saint-Tite
REFRESH-INTERVAL;VALUE=DURATION:PT1H
X-Robots-Tag:noindex
X-PUBLISHED-TTL:PT1H
BEGIN:VTIMEZONE
TZID:America/Toronto
BEGIN:DAYLIGHT
TZOFFSETFROM:-0500
TZOFFSETTO:-0400
TZNAME:EDT
DTSTART:20240310T070000
END:DAYLIGHT
BEGIN:STANDARD
TZOFFSETFROM:-0400
TZOFFSETTO:-0500
TZNAME:EST
DTSTART:20241103T060000
END:STANDARD
BEGIN:DAYLIGHT
TZOFFSETFROM:-0500
TZOFFSETTO:-0400
TZNAME:EDT
DTSTART:20250309T070000
END:DAYLIGHT
BEGIN:STANDARD
TZOFFSETFROM:-0400
TZOFFSETTO:-0500
TZNAME:EST
DTSTART:20251102T060000
END:STANDARD
BEGIN:DAYLIGHT
TZOFFSETFROM:-0500
TZOFFSETTO:-0400
TZNAME:EDT
DTSTART:20260308T070000
END:DAYLIGHT
BEGIN:STANDARD
TZOFFSETFROM:-0400
TZOFFSETTO:-0500
TZNAME:EST
DTSTART:20261101T060000
END:STANDARD
END:VTIMEZONE
BEGIN:VEVENT
DTSTART;TZID=America/Toronto:20250612T181500
DTEND;TZID=America/Toronto:20250612T205200
DTSTAMP:20260421T074405
CREATED:20250801T025600Z
LAST-MODIFIED:20250801T025600Z
UID:10003586-1749752100-1749761520@clubdetirsaint-tite.ca
SUMMARY:102608 _ OFFICIEL
DESCRIPTION:
URL:https://clubdetirsaint-tite.ca/event/102608-_-officiel-18/
LOCATION:Quebec
CATEGORIES:PRÉSENCES
END:VEVENT
BEGIN:VEVENT
DTSTART;TZID=America/Toronto:20250612T182000
DTEND;TZID=America/Toronto:20250612T205200
DTSTAMP:20260421T074405
CREATED:20250801T025559Z
LAST-MODIFIED:20250801T025559Z
UID:10003584-1749752400-1749761520@clubdetirsaint-tite.ca
SUMMARY:102693 _ OFFICIEL
DESCRIPTION:
URL:https://clubdetirsaint-tite.ca/event/102693-_-officiel/
LOCATION:Quebec
CATEGORIES:PRÉSENCES
END:VEVENT
BEGIN:VEVENT
DTSTART;TZID=America/Toronto:20250612T182000
DTEND;TZID=America/Toronto:20250612T205200
DTSTAMP:20260421T074405
CREATED:20250801T025559Z
LAST-MODIFIED:20250801T025559Z
UID:10003585-1749752400-1749761520@clubdetirsaint-tite.ca
SUMMARY:102872 _ TIREUR
DESCRIPTION:
URL:https://clubdetirsaint-tite.ca/event/102872-_-tireur/
LOCATION:Quebec
CATEGORIES:PRÉSENCES
END:VEVENT
BEGIN:VEVENT
DTSTART;TZID=America/Toronto:20250614T100000
DTEND;TZID=America/Toronto:20250614T110000
DTSTAMP:20260421T074405
CREATED:20250522T115944Z
LAST-MODIFIED:20250522T115944Z
UID:10003321-1749895200-1749898800@clubdetirsaint-tite.ca
SUMMARY:Session accueil
DESCRIPTION:Session accueil
URL:https://clubdetirsaint-tite.ca/event/session-accueil-8/
LOCATION:Club de Tir Saint-Tite\, 35 QC-153\, Saint-Tite\, Quebec\, G0X 3H0\, Canada
END:VEVENT
BEGIN:VEVENT
DTSTART;TZID=America/Toronto:20250614T110000
DTEND;TZID=America/Toronto:20250614T123000
DTSTAMP:20260421T074405
CREATED:20250613T150740Z
LAST-MODIFIED:20250613T150740Z
UID:10003513-1749898800-1749904200@clubdetirsaint-tite.ca
SUMMARY:OFFICIEL  100756
DESCRIPTION:pistolet
URL:https://clubdetirsaint-tite.ca/event/officiel-100756-2/
LOCATION:Club de Tir Saint-Tite\, 35 QC-153\, Saint-Tite\, Quebec\, G0X 3H0\, Canada
END:VEVENT
BEGIN:VEVENT
DTSTART;TZID=America/Toronto:20250614T110800
DTEND;TZID=America/Toronto:20250614T123800
DTSTAMP:20260421T074405
CREATED:20250801T025614Z
LAST-MODIFIED:20250801T025614Z
UID:10003589-1749899280-1749904680@clubdetirsaint-tite.ca
SUMMARY:100756 _ OFFICIEL
DESCRIPTION:
URL:https://clubdetirsaint-tite.ca/event/100756-_-officiel-4/
LOCATION:Quebec
CATEGORIES:PRÉSENCES
END:VEVENT
BEGIN:VEVENT
DTSTART;TZID=America/Toronto:20250614T111300
DTEND;TZID=America/Toronto:20250614T123800
DTSTAMP:20260421T074405
CREATED:20250801T025614Z
LAST-MODIFIED:20250801T025614Z
UID:10003590-1749899580-1749904680@clubdetirsaint-tite.ca
SUMMARY:101425 _ TIREUR
DESCRIPTION:
URL:https://clubdetirsaint-tite.ca/event/101425-_-tireur-2/
LOCATION:Quebec
CATEGORIES:PRÉSENCES
END:VEVENT
BEGIN:VEVENT
DTSTART;TZID=America/Toronto:20250614T114600
DTEND;TZID=America/Toronto:20250614T120800
DTSTAMP:20260421T074405
CREATED:20250801T025614Z
LAST-MODIFIED:20250801T025614Z
UID:10003588-1749901560-1749902880@clubdetirsaint-tite.ca
SUMMARY:102172 _ TIREUR
DESCRIPTION:
URL:https://clubdetirsaint-tite.ca/event/102172-_-tireur/
LOCATION:Quebec
CATEGORIES:PRÉSENCES
END:VEVENT
BEGIN:VEVENT
DTSTART;TZID=America/Toronto:20250614T114600
DTEND;TZID=America/Toronto:20250614T120800
DTSTAMP:20260421T074405
CREATED:20250801T025614Z
LAST-MODIFIED:20250801T025614Z
UID:10003587-1749901560-1749902880@clubdetirsaint-tite.ca
SUMMARY:102173 _ TIREUR
DESCRIPTION:
URL:https://clubdetirsaint-tite.ca/event/102173-_-tireur/
LOCATION:Quebec
CATEGORIES:PRÉSENCES
END:VEVENT
BEGIN:VEVENT
DTSTART;TZID=America/Toronto:20250614T122000
DTEND;TZID=America/Toronto:20250614T132400
DTSTAMP:20260421T074405
CREATED:20250801T025615Z
LAST-MODIFIED:20250801T025615Z
UID:10003591-1749903600-1749907440@clubdetirsaint-tite.ca
SUMMARY:102173 _ TIREUR
DESCRIPTION:
URL:https://clubdetirsaint-tite.ca/event/102173-_-tireur-2/
LOCATION:Quebec
CATEGORIES:PRÉSENCES
END:VEVENT
BEGIN:VEVENT
DTSTART;TZID=America/Toronto:20250614T122100
DTEND;TZID=America/Toronto:20250614T132400
DTSTAMP:20260421T074405
CREATED:20250801T025629Z
LAST-MODIFIED:20250801T025629Z
UID:10003592-1749903660-1749907440@clubdetirsaint-tite.ca
SUMMARY:102172 _ TIREUR
DESCRIPTION:
URL:https://clubdetirsaint-tite.ca/event/102172-_-tireur-2/
LOCATION:Quebec
CATEGORIES:PRÉSENCES
END:VEVENT
BEGIN:VEVENT
DTSTART;TZID=America/Toronto:20250614T123000
DTEND;TZID=America/Toronto:20250614T140000
DTSTAMP:20260421T074405
CREATED:20250613T171008Z
LAST-MODIFIED:20250613T171008Z
UID:10003514-1749904200-1749909600@clubdetirsaint-tite.ca
SUMMARY:OFFICIEL101425
DESCRIPTION:pistolet
URL:https://clubdetirsaint-tite.ca/event/officiel101425-3/
LOCATION:Club de Tir Saint-Tite\, 35 QC-153\, Saint-Tite\, Quebec\, G0X 3H0\, Canada
END:VEVENT
BEGIN:VEVENT
DTSTART;TZID=America/Toronto:20250614T123800
DTEND;TZID=America/Toronto:20250614T141100
DTSTAMP:20260421T074405
CREATED:20250801T025630Z
LAST-MODIFIED:20250801T025630Z
UID:10003594-1749904680-1749910260@clubdetirsaint-tite.ca
SUMMARY:101425 _ OFFICIEL
DESCRIPTION:
URL:https://clubdetirsaint-tite.ca/event/101425-_-officiel-4/
LOCATION:Quebec
CATEGORIES:PRÉSENCES
END:VEVENT
BEGIN:VEVENT
DTSTART;TZID=America/Toronto:20250614T123900
DTEND;TZID=America/Toronto:20250614T141000
DTSTAMP:20260421T074405
CREATED:20250801T025630Z
LAST-MODIFIED:20250801T025630Z
UID:10003593-1749904740-1749910200@clubdetirsaint-tite.ca
SUMMARY:100756 _ TIREUR
DESCRIPTION:
URL:https://clubdetirsaint-tite.ca/event/100756-_-tireur-2/
LOCATION:Quebec
CATEGORIES:PRÉSENCES
END:VEVENT
BEGIN:VEVENT
DTSTART;TZID=America/Toronto:20250616T124800
DTEND;TZID=America/Toronto:20250616T160400
DTSTAMP:20260421T074405
CREATED:20250801T025644Z
LAST-MODIFIED:20250801T025644Z
UID:10003597-1750078080-1750089840@clubdetirsaint-tite.ca
SUMMARY:100549 _ OFFICIEL
DESCRIPTION:
URL:https://clubdetirsaint-tite.ca/event/100549-_-officiel-49/
LOCATION:Quebec
CATEGORIES:PRÉSENCES
END:VEVENT
BEGIN:VEVENT
DTSTART;TZID=America/Toronto:20250616T130000
DTEND;TZID=America/Toronto:20250616T160000
DTSTAMP:20260421T074405
CREATED:20250401T224000Z
LAST-MODIFIED:20250401T224000Z
UID:10002941-1750078800-1750089600@clubdetirsaint-tite.ca
SUMMARY:OFFICIEL
DESCRIPTION:tir libre \nand-jas
URL:https://clubdetirsaint-tite.ca/event/officiel-78/
LOCATION:Club de Tir Saint-Tite\, 35 QC-153\, Saint-Tite\, Quebec\, G0X 3H0\, Canada
END:VEVENT
BEGIN:VEVENT
DTSTART;TZID=America/Toronto:20250616T132200
DTEND;TZID=America/Toronto:20250616T141900
DTSTAMP:20260421T074405
CREATED:20250801T025630Z
LAST-MODIFIED:20250801T025630Z
UID:10003595-1750080120-1750083540@clubdetirsaint-tite.ca
SUMMARY:102468 _ TIREUR
DESCRIPTION:
URL:https://clubdetirsaint-tite.ca/event/102468-_-tireur-2/
LOCATION:Quebec
CATEGORIES:PRÉSENCES
END:VEVENT
BEGIN:VEVENT
DTSTART;TZID=America/Toronto:20250616T141100
DTEND;TZID=America/Toronto:20250616T145700
DTSTAMP:20260421T074405
CREATED:20250801T025630Z
LAST-MODIFIED:20250801T025630Z
UID:10003596-1750083060-1750085820@clubdetirsaint-tite.ca
SUMMARY:100840 _ TIREUR
DESCRIPTION:
URL:https://clubdetirsaint-tite.ca/event/100840-_-tireur-4/
LOCATION:Quebec
CATEGORIES:PRÉSENCES
END:VEVENT
BEGIN:VEVENT
DTSTART;TZID=America/Toronto:20250617T105900
DTEND;TZID=America/Toronto:20250617T105900
DTSTAMP:20260421T074405
CREATED:20250801T025644Z
LAST-MODIFIED:20250801T025644Z
UID:10003598-1750157940-1750157940@clubdetirsaint-tite.ca
SUMMARY:100008 _ OFFICIEL
DESCRIPTION:
URL:https://clubdetirsaint-tite.ca/event/100008-_-officiel-55/
LOCATION:Quebec
CATEGORIES:PRÉSENCES
END:VEVENT
BEGIN:VEVENT
DTSTART;TZID=America/Toronto:20250618T124100
DTEND;TZID=America/Toronto:20250618T160400
DTSTAMP:20260421T074405
CREATED:20250801T025659Z
LAST-MODIFIED:20250801T025659Z
UID:10003602-1750250460-1750262640@clubdetirsaint-tite.ca
SUMMARY:100548 _ OFFICIEL
DESCRIPTION:
URL:https://clubdetirsaint-tite.ca/event/100548-_-officiel-42/
LOCATION:Quebec
CATEGORIES:PRÉSENCES
END:VEVENT
BEGIN:VEVENT
DTSTART;TZID=America/Toronto:20250618T130000
DTEND;TZID=America/Toronto:20250618T160000
DTSTAMP:20260421T074405
CREATED:20250401T224030Z
LAST-MODIFIED:20250401T224030Z
UID:10002942-1750251600-1750262400@clubdetirsaint-tite.ca
SUMMARY:OFFICIEL
DESCRIPTION:tir libre \nand-jas
URL:https://clubdetirsaint-tite.ca/event/officiel-79/
LOCATION:Club de Tir Saint-Tite\, 35 QC-153\, Saint-Tite\, Quebec\, G0X 3H0\, Canada
END:VEVENT
BEGIN:VEVENT
DTSTART;TZID=America/Toronto:20250618T142300
DTEND;TZID=America/Toronto:20250618T144400
DTSTAMP:20260421T074405
CREATED:20250801T025644Z
LAST-MODIFIED:20250801T025644Z
UID:10003599-1750256580-1750257840@clubdetirsaint-tite.ca
SUMMARY:100436 _ TIREUR
DESCRIPTION:
URL:https://clubdetirsaint-tite.ca/event/100436-_-tireur-2/
LOCATION:Quebec
CATEGORIES:PRÉSENCES
END:VEVENT
BEGIN:VEVENT
DTSTART;TZID=America/Toronto:20250618T152100
DTEND;TZID=America/Toronto:20250618T152200
DTSTAMP:20260421T074405
CREATED:20250801T025645Z
LAST-MODIFIED:20250801T025645Z
UID:10003600-1750260060-1750260120@clubdetirsaint-tite.ca
SUMMARY:100175 _ OFFICIEL
DESCRIPTION:
URL:https://clubdetirsaint-tite.ca/event/100175-_-officiel-4/
LOCATION:Quebec
CATEGORIES:PRÉSENCES
END:VEVENT
BEGIN:VEVENT
DTSTART;TZID=America/Toronto:20250618T152200
DTEND;TZID=America/Toronto:20250618T154600
DTSTAMP:20260421T074405
CREATED:20250801T025645Z
LAST-MODIFIED:20250801T025645Z
UID:10003601-1750260120-1750261560@clubdetirsaint-tite.ca
SUMMARY:100175 _ TIREUR
DESCRIPTION:
URL:https://clubdetirsaint-tite.ca/event/100175-_-tireur-2/
LOCATION:Quebec
CATEGORIES:PRÉSENCES
END:VEVENT
BEGIN:VEVENT
DTSTART;TZID=America/Toronto:20250619T181900
DTEND;TZID=America/Toronto:20250619T210300
DTSTAMP:20260421T074405
CREATED:20250801T025700Z
LAST-MODIFIED:20250801T025700Z
UID:10003605-1750357140-1750366980@clubdetirsaint-tite.ca
SUMMARY:102608 _ OFFICIEL
DESCRIPTION:
URL:https://clubdetirsaint-tite.ca/event/102608-_-officiel-19/
LOCATION:Quebec
CATEGORIES:PRÉSENCES
END:VEVENT
BEGIN:VEVENT
DTSTART;TZID=America/Toronto:20250619T182000
DTEND;TZID=America/Toronto:20250619T205900
DTSTAMP:20260421T074405
CREATED:20250801T025659Z
LAST-MODIFIED:20250801T025659Z
UID:10003604-1750357200-1750366740@clubdetirsaint-tite.ca
SUMMARY:102872 _ TIREUR
DESCRIPTION:
URL:https://clubdetirsaint-tite.ca/event/102872-_-tireur-2/
LOCATION:Quebec
CATEGORIES:PRÉSENCES
END:VEVENT
BEGIN:VEVENT
DTSTART;TZID=America/Toronto:20250619T183000
DTEND;TZID=America/Toronto:20250619T205600
DTSTAMP:20260421T074405
CREATED:20250801T025659Z
LAST-MODIFIED:20250801T025659Z
UID:10003603-1750357800-1750366560@clubdetirsaint-tite.ca
SUMMARY:102693 _ TIREUR
DESCRIPTION:
URL:https://clubdetirsaint-tite.ca/event/102693-_-tireur-5/
LOCATION:Quebec
CATEGORIES:PRÉSENCES
END:VEVENT
BEGIN:VEVENT
DTSTART;TZID=America/Toronto:20250621T141000
DTEND;TZID=America/Toronto:20250621T141000
DTSTAMP:20260421T074405
CREATED:20250801T025700Z
LAST-MODIFIED:20250801T025700Z
UID:10003606-1750515000-1750515000@clubdetirsaint-tite.ca
SUMMARY:100008 _ OFFICIEL
DESCRIPTION:
URL:https://clubdetirsaint-tite.ca/event/100008-_-officiel-56/
LOCATION:Quebec
CATEGORIES:PRÉSENCES
END:VEVENT
BEGIN:VEVENT
DTSTART;TZID=America/Toronto:20250622T103000
DTEND;TZID=America/Toronto:20250622T143900
DTSTAMP:20260421T074405
CREATED:20250801T025714Z
LAST-MODIFIED:20250801T025714Z
UID:10003608-1750588200-1750603140@clubdetirsaint-tite.ca
SUMMARY:102048 _ OFFICIEL
DESCRIPTION:
URL:https://clubdetirsaint-tite.ca/event/102048-_-officiel-7/
LOCATION:Quebec
CATEGORIES:PRÉSENCES
END:VEVENT
BEGIN:VEVENT
DTSTART;TZID=America/Toronto:20250622T103800
DTEND;TZID=America/Toronto:20250622T144000
DTSTAMP:20260421T074405
CREATED:20250801T025714Z
LAST-MODIFIED:20250801T025714Z
UID:10003609-1750588680-1750603200@clubdetirsaint-tite.ca
SUMMARY:101199 _ TIREUR
DESCRIPTION:
URL:https://clubdetirsaint-tite.ca/event/101199-_-tireur-11/
LOCATION:Quebec
CATEGORIES:PRÉSENCES
END:VEVENT
END:VCALENDAR