BEGIN:VCALENDAR
VERSION:2.0
PRODID:-//Club de Tir Saint-Tite - ECPv6.15.20//NONSGML v1.0//EN
CALSCALE:GREGORIAN
METHOD:PUBLISH
X-ORIGINAL-URL:https://clubdetirsaint-tite.ca
X-WR-CALDESC:Évènements pour Club de Tir Saint-Tite
REFRESH-INTERVAL;VALUE=DURATION:PT1H
X-Robots-Tag:noindex
X-PUBLISHED-TTL:PT1H
BEGIN:VTIMEZONE
TZID:America/Toronto
BEGIN:DAYLIGHT
TZOFFSETFROM:-0500
TZOFFSETTO:-0400
TZNAME:EDT
DTSTART:20240310T070000
END:DAYLIGHT
BEGIN:STANDARD
TZOFFSETFROM:-0400
TZOFFSETTO:-0500
TZNAME:EST
DTSTART:20241103T060000
END:STANDARD
BEGIN:DAYLIGHT
TZOFFSETFROM:-0500
TZOFFSETTO:-0400
TZNAME:EDT
DTSTART:20250309T070000
END:DAYLIGHT
BEGIN:STANDARD
TZOFFSETFROM:-0400
TZOFFSETTO:-0500
TZNAME:EST
DTSTART:20251102T060000
END:STANDARD
BEGIN:DAYLIGHT
TZOFFSETFROM:-0500
TZOFFSETTO:-0400
TZNAME:EDT
DTSTART:20260308T070000
END:DAYLIGHT
BEGIN:STANDARD
TZOFFSETFROM:-0400
TZOFFSETTO:-0500
TZNAME:EST
DTSTART:20261101T060000
END:STANDARD
END:VTIMEZONE
BEGIN:VEVENT
DTSTART;TZID=America/Toronto:20250627T092400
DTEND;TZID=America/Toronto:20250627T110800
DTSTAMP:20260421T131338
CREATED:20250801T025759Z
LAST-MODIFIED:20250801T025759Z
UID:10003623-1751016240-1751022480@clubdetirsaint-tite.ca
SUMMARY:101991 _ OFFICIEL
DESCRIPTION:
URL:https://clubdetirsaint-tite.ca/event/101991-_-officiel-2/
CATEGORIES:PRÉSENCES
END:VEVENT
BEGIN:VEVENT
DTSTART;TZID=America/Toronto:20250627T092500
DTEND;TZID=America/Toronto:20250627T110500
DTSTAMP:20260421T131338
CREATED:20250801T025759Z
LAST-MODIFIED:20250801T025759Z
UID:10003622-1751016300-1751022300@clubdetirsaint-tite.ca
SUMMARY:101992 _ TIREUR
DESCRIPTION:
URL:https://clubdetirsaint-tite.ca/event/101992-_-tireur-6/
CATEGORIES:PRÉSENCES
END:VEVENT
BEGIN:VEVENT
DTSTART;TZID=America/Toronto:20250627T093000
DTEND;TZID=America/Toronto:20250627T110000
DTSTAMP:20260421T131338
CREATED:20250619T191642Z
LAST-MODIFIED:20250619T191642Z
UID:10003515-1751016600-1751022000@clubdetirsaint-tite.ca
SUMMARY:OFFICIEL 101991
DESCRIPTION:OFFICIEL
URL:https://clubdetirsaint-tite.ca/event/officiel-101991-2/
LOCATION:Club de Tir Saint-Tite\, 35 QC-153\, Saint-Tite\, Quebec\, G0X 3H0\, Canada
END:VEVENT
BEGIN:VEVENT
DTSTART;TZID=America/Toronto:20250627T110000
DTEND;TZID=America/Toronto:20250627T123000
DTSTAMP:20260421T131338
CREATED:20250619T191929Z
LAST-MODIFIED:20250619T191929Z
UID:10003516-1751022000-1751027400@clubdetirsaint-tite.ca
SUMMARY:OFFICIEL 101992
DESCRIPTION:OFFICIEL
URL:https://clubdetirsaint-tite.ca/event/officiel-101992-4/
LOCATION:Club de Tir Saint-Tite\, 35 QC-153\, Saint-Tite\, Quebec\, G0X 3H0\, Canada
END:VEVENT
BEGIN:VEVENT
DTSTART;TZID=America/Toronto:20250627T110900
DTEND;TZID=America/Toronto:20250627T123800
DTSTAMP:20260421T131338
CREATED:20250801T025800Z
LAST-MODIFIED:20250801T025800Z
UID:10003626-1751022540-1751027880@clubdetirsaint-tite.ca
SUMMARY:101992 _ OFFICIEL
DESCRIPTION:
URL:https://clubdetirsaint-tite.ca/event/101992-_-officiel-4/
CATEGORIES:PRÉSENCES
END:VEVENT
BEGIN:VEVENT
DTSTART;TZID=America/Toronto:20250627T111000
DTEND;TZID=America/Toronto:20250627T123500
DTSTAMP:20260421T131338
CREATED:20250801T025800Z
LAST-MODIFIED:20250801T025800Z
UID:10003625-1751022600-1751027700@clubdetirsaint-tite.ca
SUMMARY:101991 _ TIREUR
DESCRIPTION:
URL:https://clubdetirsaint-tite.ca/event/101991-_-tireur-4/
CATEGORIES:PRÉSENCES
END:VEVENT
BEGIN:VEVENT
DTSTART;TZID=America/Toronto:20250627T113300
DTEND;TZID=America/Toronto:20250627T123300
DTSTAMP:20260421T131338
CREATED:20250801T025759Z
LAST-MODIFIED:20250801T025759Z
UID:10003624-1751023980-1751027580@clubdetirsaint-tite.ca
SUMMARY:102672 _ TIREUR
DESCRIPTION:
URL:https://clubdetirsaint-tite.ca/event/102672-_-tireur-7/
CATEGORIES:PRÉSENCES
END:VEVENT
BEGIN:VEVENT
DTSTART;TZID=America/Toronto:20250627T160000
DTEND;TZID=America/Toronto:20250627T220000
DTSTAMP:20260421T131338
CREATED:20250622T211129Z
LAST-MODIFIED:20250622T211129Z
UID:10003520-1751040000-1751061600@clubdetirsaint-tite.ca
SUMMARY:Club fermé
DESCRIPTION:Club fermé
URL:https://clubdetirsaint-tite.ca/event/club-ferme-2/
LOCATION:Club de Tir Saint-Tite\, 35 QC-153\, Saint-Tite\, Quebec\, G0X 3H0\, Canada
END:VEVENT
BEGIN:VEVENT
DTSTART;VALUE=DATE:20250628
DTEND;VALUE=DATE:20250629
DTSTAMP:20260421T131338
CREATED:20250415T002431Z
LAST-MODIFIED:20250415T002431Z
UID:10003032-1751068800-1751155199@clubdetirsaint-tite.ca
SUMMARY:JOURNÉE PORTE OUVERTE
DESCRIPTION:Journée porte ouverte toute la journée. \nTous les pas de tir serons utilisé donc le club seras fermé pour les membres. \nMerci\, Eric Launier Vise-Président.
URL:https://clubdetirsaint-tite.ca/event/journee-porte-ouverte-2/
LOCATION:Club de Tir Saint-Tite\, 35 QC-153\, Saint-Tite\, Quebec\, G0X 3H0\, Canada
END:VEVENT
BEGIN:VEVENT
DTSTART;TZID=America/Toronto:20250628T090700
DTEND;TZID=America/Toronto:20250628T165100
DTSTAMP:20260421T131338
CREATED:20250801T025814Z
LAST-MODIFIED:20250801T025814Z
UID:10003630-1751101620-1751129460@clubdetirsaint-tite.ca
SUMMARY:100549 _ OFFICIEL
DESCRIPTION:
URL:https://clubdetirsaint-tite.ca/event/100549-_-officiel-52/
CATEGORIES:PRÉSENCES
END:VEVENT
BEGIN:VEVENT
DTSTART;TZID=America/Toronto:20250628T091100
DTEND;TZID=America/Toronto:20250628T165100
DTSTAMP:20260421T131338
CREATED:20250801T025814Z
LAST-MODIFIED:20250801T025814Z
UID:10003628-1751101860-1751129460@clubdetirsaint-tite.ca
SUMMARY:100142 _ TIREUR
DESCRIPTION:
URL:https://clubdetirsaint-tite.ca/event/100142-_-tireur-4/
CATEGORIES:PRÉSENCES
END:VEVENT
BEGIN:VEVENT
DTSTART;TZID=America/Toronto:20250628T092900
DTEND;TZID=America/Toronto:20250628T165100
DTSTAMP:20260421T131338
CREATED:20250801T025814Z
LAST-MODIFIED:20250801T025814Z
UID:10003629-1751102940-1751129460@clubdetirsaint-tite.ca
SUMMARY:100777 _ OFFICIEL
DESCRIPTION:
URL:https://clubdetirsaint-tite.ca/event/100777-_-officiel-3/
CATEGORIES:PRÉSENCES
END:VEVENT
BEGIN:VEVENT
DTSTART;TZID=America/Toronto:20250628T151400
DTEND;TZID=America/Toronto:20250628T154200
DTSTAMP:20260421T131338
CREATED:20250801T025814Z
LAST-MODIFIED:20250801T025814Z
UID:10003627-1751123640-1751125320@clubdetirsaint-tite.ca
SUMMARY:101789 _ TIREUR
DESCRIPTION:
URL:https://clubdetirsaint-tite.ca/event/101789-_-tireur-4/
CATEGORIES:PRÉSENCES
END:VEVENT
BEGIN:VEVENT
DTSTART;TZID=America/Toronto:20250630T093100
DTEND;TZID=America/Toronto:20250630T093100
DTSTAMP:20260421T131338
CREATED:20250801T025815Z
LAST-MODIFIED:20250801T025815Z
UID:10003631-1751275860-1751275860@clubdetirsaint-tite.ca
SUMMARY:100008 _ OFFICIEL
DESCRIPTION:
URL:https://clubdetirsaint-tite.ca/event/100008-_-officiel-57/
CATEGORIES:PRÉSENCES
END:VEVENT
BEGIN:VEVENT
DTSTART;TZID=America/Toronto:20250630T124300
DTEND;TZID=America/Toronto:20250630T160100
DTSTAMP:20260421T131338
CREATED:20250801T025844Z
LAST-MODIFIED:20250801T025844Z
UID:10003637-1751287380-1751299260@clubdetirsaint-tite.ca
SUMMARY:100548 _ OFFICIEL
DESCRIPTION:
URL:https://clubdetirsaint-tite.ca/event/100548-_-officiel-43/
CATEGORIES:PRÉSENCES
END:VEVENT
BEGIN:VEVENT
DTSTART;TZID=America/Toronto:20250630T130000
DTEND;TZID=America/Toronto:20250630T160000
DTSTAMP:20260421T131338
CREATED:20250401T224207Z
LAST-MODIFIED:20250401T224207Z
UID:10002945-1751288400-1751299200@clubdetirsaint-tite.ca
SUMMARY:OFFICIEL
DESCRIPTION:tir libre \nand-jas
URL:https://clubdetirsaint-tite.ca/event/officiel-82/
LOCATION:Club de Tir Saint-Tite\, 35 QC-153\, Saint-Tite\, Quebec\, G0X 3H0\, Canada
END:VEVENT
BEGIN:VEVENT
DTSTART;TZID=America/Toronto:20250630T131900
DTEND;TZID=America/Toronto:20250630T132000
DTSTAMP:20260421T131338
CREATED:20250801T025829Z
LAST-MODIFIED:20250801T025829Z
UID:10003632-1751289540-1751289600@clubdetirsaint-tite.ca
SUMMARY:102672 _ OFFICIEL
DESCRIPTION:
URL:https://clubdetirsaint-tite.ca/event/102672-_-officiel/
CATEGORIES:PRÉSENCES
END:VEVENT
BEGIN:VEVENT
DTSTART;TZID=America/Toronto:20250630T132000
DTEND;TZID=America/Toronto:20250630T141600
DTSTAMP:20260421T131338
CREATED:20250801T025830Z
LAST-MODIFIED:20250801T025830Z
UID:10003633-1751289600-1751292960@clubdetirsaint-tite.ca
SUMMARY:102672 _ TIREUR
DESCRIPTION:
URL:https://clubdetirsaint-tite.ca/event/102672-_-tireur-8/
CATEGORIES:PRÉSENCES
END:VEVENT
BEGIN:VEVENT
DTSTART;TZID=America/Toronto:20250630T133400
DTEND;TZID=America/Toronto:20250630T154500
DTSTAMP:20260421T131338
CREATED:20250801T025830Z
LAST-MODIFIED:20250801T025830Z
UID:10003636-1751290440-1751298300@clubdetirsaint-tite.ca
SUMMARY:102807 _ TIREUR
DESCRIPTION:
URL:https://clubdetirsaint-tite.ca/event/102807-_-tireur-2/
CATEGORIES:PRÉSENCES
END:VEVENT
BEGIN:VEVENT
DTSTART;TZID=America/Toronto:20250630T142300
DTEND;TZID=America/Toronto:20250630T145600
DTSTAMP:20260421T131338
CREATED:20250801T025830Z
LAST-MODIFIED:20250801T025830Z
UID:10003634-1751293380-1751295360@clubdetirsaint-tite.ca
SUMMARY:101857 _ TIREUR
DESCRIPTION:
URL:https://clubdetirsaint-tite.ca/event/101857-_-tireur-2/
CATEGORIES:PRÉSENCES
END:VEVENT
BEGIN:VEVENT
DTSTART;TZID=America/Toronto:20250630T142300
DTEND;TZID=America/Toronto:20250630T145600
DTSTAMP:20260421T131338
CREATED:20250801T025830Z
LAST-MODIFIED:20250801T025830Z
UID:10003635-1751293380-1751295360@clubdetirsaint-tite.ca
SUMMARY:101856 _ TIREUR
DESCRIPTION:
URL:https://clubdetirsaint-tite.ca/event/101856-_-tireur-2/
CATEGORIES:PRÉSENCES
END:VEVENT
BEGIN:VEVENT
DTSTART;TZID=America/Toronto:20250702T090000
DTEND;TZID=America/Toronto:20250702T110000
DTSTAMP:20260421T131338
CREATED:20250630T020951Z
LAST-MODIFIED:20250630T020951Z
UID:10003529-1751446800-1751454000@clubdetirsaint-tite.ca
SUMMARY:OFFICIEL 100003
DESCRIPTION:Présence d’officiel au pas de tir 50 mètres
URL:https://clubdetirsaint-tite.ca/event/officiel-100003-2/
LOCATION:Club de Tir Saint-Tite\, 35 QC-153\, Saint-Tite\, Quebec\, G0X 3H0\, Canada
END:VEVENT
BEGIN:VEVENT
DTSTART;TZID=America/Toronto:20250702T090400
DTEND;TZID=America/Toronto:20250702T111700
DTSTAMP:20260421T131338
CREATED:20250801T025844Z
LAST-MODIFIED:20250801T025844Z
UID:10003638-1751447040-1751455020@clubdetirsaint-tite.ca
SUMMARY:100003 _ OFFICIEL
DESCRIPTION:
URL:https://clubdetirsaint-tite.ca/event/100003-_-officiel-15/
CATEGORIES:PRÉSENCES
END:VEVENT
BEGIN:VEVENT
DTSTART;TZID=America/Toronto:20250702T123400
DTEND;TZID=America/Toronto:20250702T160800
DTSTAMP:20260421T131338
CREATED:20250801T025910Z
LAST-MODIFIED:20250801T025910Z
UID:10003644-1751459640-1751472480@clubdetirsaint-tite.ca
SUMMARY:100548 _ OFFICIEL
DESCRIPTION:
URL:https://clubdetirsaint-tite.ca/event/100548-_-officiel-44/
CATEGORIES:PRÉSENCES
END:VEVENT
BEGIN:VEVENT
DTSTART;TZID=America/Toronto:20250702T124600
DTEND;TZID=America/Toronto:20250702T142300
DTSTAMP:20260421T131338
CREATED:20250801T025844Z
LAST-MODIFIED:20250801T025844Z
UID:10003639-1751460360-1751466180@clubdetirsaint-tite.ca
SUMMARY:100724 _ TIREUR
DESCRIPTION:
URL:https://clubdetirsaint-tite.ca/event/100724-_-tireur-15/
CATEGORIES:PRÉSENCES
END:VEVENT
BEGIN:VEVENT
DTSTART;TZID=America/Toronto:20250702T130000
DTEND;TZID=America/Toronto:20250702T160000
DTSTAMP:20260421T131338
CREATED:20250401T224243Z
LAST-MODIFIED:20250401T224243Z
UID:10002946-1751461200-1751472000@clubdetirsaint-tite.ca
SUMMARY:OFFICIEL
DESCRIPTION:tir libre \nand-jas
URL:https://clubdetirsaint-tite.ca/event/officiel-83/
LOCATION:Club de Tir Saint-Tite\, 35 QC-153\, Saint-Tite\, Quebec\, G0X 3H0\, Canada
END:VEVENT
BEGIN:VEVENT
DTSTART;TZID=America/Toronto:20250702T131400
DTEND;TZID=America/Toronto:20250702T153500
DTSTAMP:20260421T131338
CREATED:20250801T025845Z
LAST-MODIFIED:20250801T025845Z
UID:10003640-1751462040-1751470500@clubdetirsaint-tite.ca
SUMMARY:100003 _ TIREUR
DESCRIPTION:
URL:https://clubdetirsaint-tite.ca/event/100003-_-tireur-14/
CATEGORIES:PRÉSENCES
END:VEVENT
BEGIN:VEVENT
DTSTART;TZID=America/Toronto:20250702T131400
DTEND;TZID=America/Toronto:20250702T160700
DTSTAMP:20260421T131338
CREATED:20250801T025909Z
LAST-MODIFIED:20250801T025909Z
UID:10003642-1751462040-1751472420@clubdetirsaint-tite.ca
SUMMARY:100549 _ TIREUR
DESCRIPTION:
URL:https://clubdetirsaint-tite.ca/event/100549-_-tireur-11/
CATEGORIES:PRÉSENCES
END:VEVENT
BEGIN:VEVENT
DTSTART;TZID=America/Toronto:20250702T144200
DTEND;TZID=America/Toronto:20250702T160100
DTSTAMP:20260421T131338
CREATED:20250801T025845Z
LAST-MODIFIED:20250801T025845Z
UID:10003641-1751467320-1751472060@clubdetirsaint-tite.ca
SUMMARY:101154 _ TIREUR
DESCRIPTION:
URL:https://clubdetirsaint-tite.ca/event/101154-_-tireur-6/
CATEGORIES:PRÉSENCES
END:VEVENT
BEGIN:VEVENT
DTSTART;TZID=America/Toronto:20250702T144300
DTEND;TZID=America/Toronto:20250702T160800
DTSTAMP:20260421T131338
CREATED:20250801T025909Z
LAST-MODIFIED:20250801T025909Z
UID:10003643-1751467380-1751472480@clubdetirsaint-tite.ca
SUMMARY:100118 _ TIREUR
DESCRIPTION:
URL:https://clubdetirsaint-tite.ca/event/100118-_-tireur-46/
CATEGORIES:PRÉSENCES
END:VEVENT
END:VCALENDAR