BEGIN:VCALENDAR
VERSION:2.0
PRODID:-//Club de Tir Saint-Tite - ECPv6.15.20//NONSGML v1.0//EN
CALSCALE:GREGORIAN
METHOD:PUBLISH
X-ORIGINAL-URL:https://clubdetirsaint-tite.ca
X-WR-CALDESC:Évènements pour Club de Tir Saint-Tite
REFRESH-INTERVAL;VALUE=DURATION:PT1H
X-Robots-Tag:noindex
X-PUBLISHED-TTL:PT1H
BEGIN:VTIMEZONE
TZID:America/Toronto
BEGIN:DAYLIGHT
TZOFFSETFROM:-0500
TZOFFSETTO:-0400
TZNAME:EDT
DTSTART:20240310T070000
END:DAYLIGHT
BEGIN:STANDARD
TZOFFSETFROM:-0400
TZOFFSETTO:-0500
TZNAME:EST
DTSTART:20241103T060000
END:STANDARD
BEGIN:DAYLIGHT
TZOFFSETFROM:-0500
TZOFFSETTO:-0400
TZNAME:EDT
DTSTART:20250309T070000
END:DAYLIGHT
BEGIN:STANDARD
TZOFFSETFROM:-0400
TZOFFSETTO:-0500
TZNAME:EST
DTSTART:20251102T060000
END:STANDARD
BEGIN:DAYLIGHT
TZOFFSETFROM:-0500
TZOFFSETTO:-0400
TZNAME:EDT
DTSTART:20260308T070000
END:DAYLIGHT
BEGIN:STANDARD
TZOFFSETFROM:-0400
TZOFFSETTO:-0500
TZNAME:EST
DTSTART:20261101T060000
END:STANDARD
END:VTIMEZONE
BEGIN:VEVENT
DTSTART;TZID=America/Toronto:20250702T124600
DTEND;TZID=America/Toronto:20250702T142300
DTSTAMP:20260421T161152
CREATED:20250801T025844Z
LAST-MODIFIED:20250801T025844Z
UID:10003639-1751460360-1751466180@clubdetirsaint-tite.ca
SUMMARY:100724 _ TIREUR
DESCRIPTION:
URL:https://clubdetirsaint-tite.ca/event/100724-_-tireur-15/
CATEGORIES:PRÉSENCES
END:VEVENT
BEGIN:VEVENT
DTSTART;TZID=America/Toronto:20250702T130000
DTEND;TZID=America/Toronto:20250702T160000
DTSTAMP:20260421T161152
CREATED:20250401T224243Z
LAST-MODIFIED:20250401T224243Z
UID:10002946-1751461200-1751472000@clubdetirsaint-tite.ca
SUMMARY:OFFICIEL
DESCRIPTION:tir libre \nand-jas
URL:https://clubdetirsaint-tite.ca/event/officiel-83/
LOCATION:Club de Tir Saint-Tite\, 35 QC-153\, Saint-Tite\, Quebec\, G0X 3H0\, Canada
END:VEVENT
BEGIN:VEVENT
DTSTART;TZID=America/Toronto:20250702T131400
DTEND;TZID=America/Toronto:20250702T153500
DTSTAMP:20260421T161152
CREATED:20250801T025845Z
LAST-MODIFIED:20250801T025845Z
UID:10003640-1751462040-1751470500@clubdetirsaint-tite.ca
SUMMARY:100003 _ TIREUR
DESCRIPTION:
URL:https://clubdetirsaint-tite.ca/event/100003-_-tireur-14/
CATEGORIES:PRÉSENCES
END:VEVENT
BEGIN:VEVENT
DTSTART;TZID=America/Toronto:20250702T131400
DTEND;TZID=America/Toronto:20250702T160700
DTSTAMP:20260421T161152
CREATED:20250801T025909Z
LAST-MODIFIED:20250801T025909Z
UID:10003642-1751462040-1751472420@clubdetirsaint-tite.ca
SUMMARY:100549 _ TIREUR
DESCRIPTION:
URL:https://clubdetirsaint-tite.ca/event/100549-_-tireur-11/
CATEGORIES:PRÉSENCES
END:VEVENT
BEGIN:VEVENT
DTSTART;TZID=America/Toronto:20250702T144200
DTEND;TZID=America/Toronto:20250702T160100
DTSTAMP:20260421T161152
CREATED:20250801T025845Z
LAST-MODIFIED:20250801T025845Z
UID:10003641-1751467320-1751472060@clubdetirsaint-tite.ca
SUMMARY:101154 _ TIREUR
DESCRIPTION:
URL:https://clubdetirsaint-tite.ca/event/101154-_-tireur-6/
CATEGORIES:PRÉSENCES
END:VEVENT
BEGIN:VEVENT
DTSTART;TZID=America/Toronto:20250702T144300
DTEND;TZID=America/Toronto:20250702T160800
DTSTAMP:20260421T161152
CREATED:20250801T025909Z
LAST-MODIFIED:20250801T025909Z
UID:10003643-1751467380-1751472480@clubdetirsaint-tite.ca
SUMMARY:100118 _ TIREUR
DESCRIPTION:
URL:https://clubdetirsaint-tite.ca/event/100118-_-tireur-46/
CATEGORIES:PRÉSENCES
END:VEVENT
BEGIN:VEVENT
DTSTART;TZID=America/Toronto:20250703T125900
DTEND;TZID=America/Toronto:20250703T143200
DTSTAMP:20260421T161152
CREATED:20250801T025910Z
LAST-MODIFIED:20250801T025910Z
UID:10003646-1751547540-1751553120@clubdetirsaint-tite.ca
SUMMARY:101713 _ OFFICIEL
DESCRIPTION:
URL:https://clubdetirsaint-tite.ca/event/101713-_-officiel-48/
CATEGORIES:PRÉSENCES
END:VEVENT
BEGIN:VEVENT
DTSTART;TZID=America/Toronto:20250703T131200
DTEND;TZID=America/Toronto:20250703T143200
DTSTAMP:20260421T161152
CREATED:20250801T025910Z
LAST-MODIFIED:20250801T025910Z
UID:10003645-1751548320-1751553120@clubdetirsaint-tite.ca
SUMMARY:101283 _ TIREUR
DESCRIPTION:
URL:https://clubdetirsaint-tite.ca/event/101283-_-tireur/
CATEGORIES:PRÉSENCES
END:VEVENT
BEGIN:VEVENT
DTSTART;TZID=America/Toronto:20250703T181500
DTEND;TZID=America/Toronto:20250703T202400
DTSTAMP:20260421T161152
CREATED:20250801T025924Z
LAST-MODIFIED:20250801T025924Z
UID:10003647-1751566500-1751574240@clubdetirsaint-tite.ca
SUMMARY:101874 _ OFFICIEL
DESCRIPTION:
URL:https://clubdetirsaint-tite.ca/event/101874-_-officiel-9/
CATEGORIES:PRÉSENCES
END:VEVENT
BEGIN:VEVENT
DTSTART;TZID=America/Toronto:20250703T182400
DTEND;TZID=America/Toronto:20250703T210900
DTSTAMP:20260421T161152
CREATED:20250801T025925Z
LAST-MODIFIED:20250801T025925Z
UID:10003650-1751567040-1751576940@clubdetirsaint-tite.ca
SUMMARY:102608 _ TIREUR
DESCRIPTION:
URL:https://clubdetirsaint-tite.ca/event/102608-_-tireur-21/
CATEGORIES:PRÉSENCES
END:VEVENT
BEGIN:VEVENT
DTSTART;TZID=America/Toronto:20250703T182400
DTEND;TZID=America/Toronto:20250703T210900
DTSTAMP:20260421T161152
CREATED:20250801T025925Z
LAST-MODIFIED:20250801T025925Z
UID:10003651-1751567040-1751576940@clubdetirsaint-tite.ca
SUMMARY:102693 _ OFFICIEL
DESCRIPTION:
URL:https://clubdetirsaint-tite.ca/event/102693-_-officiel-2/
CATEGORIES:PRÉSENCES
END:VEVENT
BEGIN:VEVENT
DTSTART;TZID=America/Toronto:20250703T182900
DTEND;TZID=America/Toronto:20250703T205800
DTSTAMP:20260421T161152
CREATED:20250801T025924Z
LAST-MODIFIED:20250801T025924Z
UID:10003648-1751567340-1751576280@clubdetirsaint-tite.ca
SUMMARY:100818 _ TIREUR
DESCRIPTION:
URL:https://clubdetirsaint-tite.ca/event/100818-_-tireur-11/
CATEGORIES:PRÉSENCES
END:VEVENT
BEGIN:VEVENT
DTSTART;TZID=America/Toronto:20250703T182900
DTEND;TZID=America/Toronto:20250703T210800
DTSTAMP:20260421T161152
CREATED:20250801T025925Z
LAST-MODIFIED:20250801T025925Z
UID:10003649-1751567340-1751576880@clubdetirsaint-tite.ca
SUMMARY:102616 _ TIREUR
DESCRIPTION:
URL:https://clubdetirsaint-tite.ca/event/102616-_-tireur-13/
CATEGORIES:PRÉSENCES
END:VEVENT
BEGIN:VEVENT
DTSTART;TZID=America/Toronto:20250704T093900
DTEND;TZID=America/Toronto:20250704T105200
DTSTAMP:20260421T161152
CREATED:20250801T025940Z
LAST-MODIFIED:20250801T025940Z
UID:10003653-1751621940-1751626320@clubdetirsaint-tite.ca
SUMMARY:100008 _ OFFICIEL
DESCRIPTION:
URL:https://clubdetirsaint-tite.ca/event/100008-_-officiel-58/
CATEGORIES:PRÉSENCES
END:VEVENT
BEGIN:VEVENT
DTSTART;TZID=America/Toronto:20250704T094000
DTEND;TZID=America/Toronto:20250704T105200
DTSTAMP:20260421T161152
CREATED:20250801T025940Z
LAST-MODIFIED:20250801T025940Z
UID:10003652-1751622000-1751626320@clubdetirsaint-tite.ca
SUMMARY:100003 _ TIREUR
DESCRIPTION:
URL:https://clubdetirsaint-tite.ca/event/100003-_-tireur-15/
CATEGORIES:PRÉSENCES
END:VEVENT
BEGIN:VEVENT
DTSTART;VALUE=DATE:20250705
DTEND;VALUE=DATE:20250706
DTSTAMP:20260421T161152
CREATED:20241204T171211Z
LAST-MODIFIED:20241204T171211Z
UID:10002633-1751673600-1751759999@clubdetirsaint-tite.ca
SUMMARY:Match ppc
DESCRIPTION:PPC au 50 verges\, fermé au tir libre \n25 V disponible
URL:https://clubdetirsaint-tite.ca/event/match-ppc-2/
LOCATION:Club de Tir Saint-Tite\, 35 QC-153\, Saint-Tite\, Quebec\, G0X 3H0\, Canada
END:VEVENT
BEGIN:VEVENT
DTSTART;VALUE=DATE:20250705
DTEND;VALUE=DATE:20250706
DTSTAMP:20260421T161152
CREATED:20250127T104106Z
LAST-MODIFIED:20250127T104106Z
UID:10002701-1751673600-1751759999@clubdetirsaint-tite.ca
SUMMARY:Compétition PPC
DESCRIPTION:compétition PPC au 50v \n25 V reste disponible
URL:https://clubdetirsaint-tite.ca/event/competition-ppc-5/
LOCATION:Club de Tir Saint-Tite\, 35 QC-153\, Saint-Tite\, Quebec\, G0X 3H0\, Canada
END:VEVENT
BEGIN:VEVENT
DTSTART;TZID=America/Toronto:20250705T072900
DTEND;TZID=America/Toronto:20250705T140200
DTSTAMP:20260421T161152
CREATED:20250801T025940Z
LAST-MODIFIED:20250801T025940Z
UID:10003656-1751700540-1751724120@clubdetirsaint-tite.ca
SUMMARY:100011 _ OFFICIEL
DESCRIPTION:
URL:https://clubdetirsaint-tite.ca/event/100011-_-officiel-7/
CATEGORIES:PRÉSENCES
END:VEVENT
BEGIN:VEVENT
DTSTART;TZID=America/Toronto:20250705T081000
DTEND;TZID=America/Toronto:20250705T135100
DTSTAMP:20260421T161152
CREATED:20250801T025940Z
LAST-MODIFIED:20250801T025940Z
UID:10003655-1751703000-1751723460@clubdetirsaint-tite.ca
SUMMARY:101199 _ TIREUR
DESCRIPTION:
URL:https://clubdetirsaint-tite.ca/event/101199-_-tireur-12/
CATEGORIES:PRÉSENCES
END:VEVENT
BEGIN:VEVENT
DTSTART;TZID=America/Toronto:20250705T084700
DTEND;TZID=America/Toronto:20250705T140200
DTSTAMP:20260421T161152
CREATED:20250801T025954Z
LAST-MODIFIED:20250801T025954Z
UID:10003657-1751705220-1751724120@clubdetirsaint-tite.ca
SUMMARY:100003 _ OFFICIEL
DESCRIPTION:
URL:https://clubdetirsaint-tite.ca/event/100003-_-officiel-16/
CATEGORIES:PRÉSENCES
END:VEVENT
BEGIN:VEVENT
DTSTART;TZID=America/Toronto:20250705T090600
DTEND;TZID=America/Toronto:20250705T140300
DTSTAMP:20260421T161152
CREATED:20250801T025954Z
LAST-MODIFIED:20250801T025954Z
UID:10003658-1751706360-1751724180@clubdetirsaint-tite.ca
SUMMARY:101992 _ TIREUR
DESCRIPTION:
URL:https://clubdetirsaint-tite.ca/event/101992-_-tireur-7/
CATEGORIES:PRÉSENCES
END:VEVENT
BEGIN:VEVENT
DTSTART;TZID=America/Toronto:20250705T090600
DTEND;TZID=America/Toronto:20250705T140300
DTSTAMP:20260421T161152
CREATED:20250801T025955Z
LAST-MODIFIED:20250801T025955Z
UID:10003659-1751706360-1751724180@clubdetirsaint-tite.ca
SUMMARY:101991 _ TIREUR
DESCRIPTION:
URL:https://clubdetirsaint-tite.ca/event/101991-_-tireur-5/
CATEGORIES:PRÉSENCES
END:VEVENT
BEGIN:VEVENT
DTSTART;TZID=America/Toronto:20250705T093500
DTEND;TZID=America/Toronto:20250705T134800
DTSTAMP:20260421T161152
CREATED:20250801T025940Z
LAST-MODIFIED:20250801T025940Z
UID:10003654-1751708100-1751723280@clubdetirsaint-tite.ca
SUMMARY:102048 _ TIREUR
DESCRIPTION:
URL:https://clubdetirsaint-tite.ca/event/102048-_-tireur-10/
CATEGORIES:PRÉSENCES
END:VEVENT
BEGIN:VEVENT
DTSTART;TZID=America/Toronto:20250705T111600
DTEND;TZID=America/Toronto:20250705T140300
DTSTAMP:20260421T161152
CREATED:20250801T025955Z
LAST-MODIFIED:20250801T025955Z
UID:10003660-1751714160-1751724180@clubdetirsaint-tite.ca
SUMMARY:102222 _ TIREUR
DESCRIPTION:
URL:https://clubdetirsaint-tite.ca/event/102222-_-tireur-4/
CATEGORIES:PRÉSENCES
END:VEVENT
BEGIN:VEVENT
DTSTART;TZID=America/Toronto:20250707T130000
DTEND;TZID=America/Toronto:20250707T160000
DTSTAMP:20260421T161152
CREATED:20250623T021844Z
LAST-MODIFIED:20250623T021844Z
UID:10003521-1751893200-1751904000@clubdetirsaint-tite.ca
SUMMARY:OFFICIEL
DESCRIPTION:tir libre \nand-jas
URL:https://clubdetirsaint-tite.ca/event/officiel-87/
LOCATION:Club de Tir Saint-Tite\, 35 QC-153\, Saint-Tite\, Quebec\, G0X 3H0\, Canada
END:VEVENT
BEGIN:VEVENT
DTSTART;TZID=America/Toronto:20250707T132300
DTEND;TZID=America/Toronto:20250707T160200
DTSTAMP:20260421T161152
CREATED:20250801T030019Z
LAST-MODIFIED:20250801T030019Z
UID:10003666-1751894580-1751904120@clubdetirsaint-tite.ca
SUMMARY:100549 _ OFFICIEL
DESCRIPTION:
URL:https://clubdetirsaint-tite.ca/event/100549-_-officiel-53/
CATEGORIES:PRÉSENCES
END:VEVENT
BEGIN:VEVENT
DTSTART;TZID=America/Toronto:20250707T132400
DTEND;TZID=America/Toronto:20250707T132400
DTSTAMP:20260421T161152
CREATED:20250801T025955Z
LAST-MODIFIED:20250801T025955Z
UID:10003661-1751894640-1751894640@clubdetirsaint-tite.ca
SUMMARY:101713 _ OFFICIEL
DESCRIPTION:
URL:https://clubdetirsaint-tite.ca/event/101713-_-officiel-49/
CATEGORIES:PRÉSENCES
END:VEVENT
BEGIN:VEVENT
DTSTART;TZID=America/Toronto:20250707T132400
DTEND;TZID=America/Toronto:20250707T143100
DTSTAMP:20260421T161152
CREATED:20250801T030019Z
LAST-MODIFIED:20250801T030019Z
UID:10003665-1751894640-1751898660@clubdetirsaint-tite.ca
SUMMARY:101713 _ TIREUR
DESCRIPTION:
URL:https://clubdetirsaint-tite.ca/event/101713-_-tireur-26/
CATEGORIES:PRÉSENCES
END:VEVENT
BEGIN:VEVENT
DTSTART;TZID=America/Toronto:20250707T132600
DTEND;TZID=America/Toronto:20250707T140900
DTSTAMP:20260421T161152
CREATED:20250801T030018Z
LAST-MODIFIED:20250801T030018Z
UID:10003662-1751894760-1751897340@clubdetirsaint-tite.ca
SUMMARY:102191 _ TIREUR
DESCRIPTION:
URL:https://clubdetirsaint-tite.ca/event/102191-_-tireur-4/
CATEGORIES:PRÉSENCES
END:VEVENT
BEGIN:VEVENT
DTSTART;TZID=America/Toronto:20250707T132600
DTEND;TZID=America/Toronto:20250707T141100
DTSTAMP:20260421T161152
CREATED:20250801T030019Z
LAST-MODIFIED:20250801T030019Z
UID:10003663-1751894760-1751897460@clubdetirsaint-tite.ca
SUMMARY:102187 _ TIREUR
DESCRIPTION:
URL:https://clubdetirsaint-tite.ca/event/102187-_-tireur-6/
CATEGORIES:PRÉSENCES
END:VEVENT
END:VCALENDAR