BEGIN:VCALENDAR
VERSION:2.0
PRODID:-//Club de Tir Saint-Tite - ECPv6.15.20//NONSGML v1.0//EN
CALSCALE:GREGORIAN
METHOD:PUBLISH
X-WR-CALNAME:Club de Tir Saint-Tite
X-ORIGINAL-URL:https://clubdetirsaint-tite.ca
X-WR-CALDESC:Évènements pour Club de Tir Saint-Tite
REFRESH-INTERVAL;VALUE=DURATION:PT1H
X-Robots-Tag:noindex
X-PUBLISHED-TTL:PT1H
BEGIN:VTIMEZONE
TZID:America/Toronto
BEGIN:DAYLIGHT
TZOFFSETFROM:-0500
TZOFFSETTO:-0400
TZNAME:EDT
DTSTART:20240310T070000
END:DAYLIGHT
BEGIN:STANDARD
TZOFFSETFROM:-0400
TZOFFSETTO:-0500
TZNAME:EST
DTSTART:20241103T060000
END:STANDARD
BEGIN:DAYLIGHT
TZOFFSETFROM:-0500
TZOFFSETTO:-0400
TZNAME:EDT
DTSTART:20250309T070000
END:DAYLIGHT
BEGIN:STANDARD
TZOFFSETFROM:-0400
TZOFFSETTO:-0500
TZNAME:EST
DTSTART:20251102T060000
END:STANDARD
BEGIN:DAYLIGHT
TZOFFSETFROM:-0500
TZOFFSETTO:-0400
TZNAME:EDT
DTSTART:20260308T070000
END:DAYLIGHT
BEGIN:STANDARD
TZOFFSETFROM:-0400
TZOFFSETTO:-0500
TZNAME:EST
DTSTART:20261101T060000
END:STANDARD
END:VTIMEZONE
BEGIN:VEVENT
DTSTART;TZID=America/Toronto:20250707T130000
DTEND;TZID=America/Toronto:20250707T160000
DTSTAMP:20260421T184733
CREATED:20250623T021844Z
LAST-MODIFIED:20250623T021844Z
UID:10003521-1751893200-1751904000@clubdetirsaint-tite.ca
SUMMARY:OFFICIEL
DESCRIPTION:tir libre \nand-jas
URL:https://clubdetirsaint-tite.ca/event/officiel-87/
LOCATION:Club de Tir Saint-Tite\, 35 QC-153\, Saint-Tite\, Quebec\, G0X 3H0\, Canada
END:VEVENT
BEGIN:VEVENT
DTSTART;TZID=America/Toronto:20250707T132300
DTEND;TZID=America/Toronto:20250707T160200
DTSTAMP:20260421T184733
CREATED:20250801T030019Z
LAST-MODIFIED:20250801T030019Z
UID:10003666-1751894580-1751904120@clubdetirsaint-tite.ca
SUMMARY:100549 _ OFFICIEL
DESCRIPTION:
URL:https://clubdetirsaint-tite.ca/event/100549-_-officiel-53/
CATEGORIES:PRÉSENCES
END:VEVENT
BEGIN:VEVENT
DTSTART;TZID=America/Toronto:20250707T132400
DTEND;TZID=America/Toronto:20250707T132400
DTSTAMP:20260421T184733
CREATED:20250801T025955Z
LAST-MODIFIED:20250801T025955Z
UID:10003661-1751894640-1751894640@clubdetirsaint-tite.ca
SUMMARY:101713 _ OFFICIEL
DESCRIPTION:
URL:https://clubdetirsaint-tite.ca/event/101713-_-officiel-49/
CATEGORIES:PRÉSENCES
END:VEVENT
BEGIN:VEVENT
DTSTART;TZID=America/Toronto:20250707T132400
DTEND;TZID=America/Toronto:20250707T143100
DTSTAMP:20260421T184733
CREATED:20250801T030019Z
LAST-MODIFIED:20250801T030019Z
UID:10003665-1751894640-1751898660@clubdetirsaint-tite.ca
SUMMARY:101713 _ TIREUR
DESCRIPTION:
URL:https://clubdetirsaint-tite.ca/event/101713-_-tireur-26/
CATEGORIES:PRÉSENCES
END:VEVENT
BEGIN:VEVENT
DTSTART;TZID=America/Toronto:20250707T132600
DTEND;TZID=America/Toronto:20250707T140900
DTSTAMP:20260421T184733
CREATED:20250801T030018Z
LAST-MODIFIED:20250801T030018Z
UID:10003662-1751894760-1751897340@clubdetirsaint-tite.ca
SUMMARY:102191 _ TIREUR
DESCRIPTION:
URL:https://clubdetirsaint-tite.ca/event/102191-_-tireur-4/
CATEGORIES:PRÉSENCES
END:VEVENT
BEGIN:VEVENT
DTSTART;TZID=America/Toronto:20250707T132600
DTEND;TZID=America/Toronto:20250707T141100
DTSTAMP:20260421T184733
CREATED:20250801T030019Z
LAST-MODIFIED:20250801T030019Z
UID:10003663-1751894760-1751897460@clubdetirsaint-tite.ca
SUMMARY:102187 _ TIREUR
DESCRIPTION:
URL:https://clubdetirsaint-tite.ca/event/102187-_-tireur-6/
CATEGORIES:PRÉSENCES
END:VEVENT
BEGIN:VEVENT
DTSTART;TZID=America/Toronto:20250707T133900
DTEND;TZID=America/Toronto:20250707T143100
DTSTAMP:20260421T184733
CREATED:20250801T030019Z
LAST-MODIFIED:20250801T030019Z
UID:10003664-1751895540-1751898660@clubdetirsaint-tite.ca
SUMMARY:100072 _ TIREUR
DESCRIPTION:
URL:https://clubdetirsaint-tite.ca/event/100072-_-tireur-54/
CATEGORIES:PRÉSENCES
END:VEVENT
BEGIN:VEVENT
DTSTART;TZID=America/Toronto:20250709T124100
DTEND;TZID=America/Toronto:20250709T160200
DTSTAMP:20260421T184733
CREATED:20250801T030050Z
LAST-MODIFIED:20250801T030050Z
UID:10003675-1752064860-1752076920@clubdetirsaint-tite.ca
SUMMARY:100548 _ OFFICIEL
DESCRIPTION:
URL:https://clubdetirsaint-tite.ca/event/100548-_-officiel-45/
CATEGORIES:PRÉSENCES
END:VEVENT
BEGIN:VEVENT
DTSTART;TZID=America/Toronto:20250709T130000
DTEND;TZID=America/Toronto:20250709T145700
DTSTAMP:20260421T184733
CREATED:20250801T030034Z
LAST-MODIFIED:20250801T030034Z
UID:10003670-1752066000-1752073020@clubdetirsaint-tite.ca
SUMMARY:100724 _ TIREUR
DESCRIPTION:
URL:https://clubdetirsaint-tite.ca/event/100724-_-tireur-16/
CATEGORIES:PRÉSENCES
END:VEVENT
BEGIN:VEVENT
DTSTART;TZID=America/Toronto:20250709T130000
DTEND;TZID=America/Toronto:20250709T160000
DTSTAMP:20260421T184733
CREATED:20250623T021922Z
LAST-MODIFIED:20250623T021922Z
UID:10003522-1752066000-1752076800@clubdetirsaint-tite.ca
SUMMARY:OFFICIEL
DESCRIPTION:tir libre \nand-jas
URL:https://clubdetirsaint-tite.ca/event/officiel-88/
LOCATION:Club de Tir Saint-Tite\, 35 QC-153\, Saint-Tite\, Quebec\, G0X 3H0\, Canada
END:VEVENT
BEGIN:VEVENT
DTSTART;TZID=America/Toronto:20250709T131900
DTEND;TZID=America/Toronto:20250709T142700
DTSTAMP:20260421T184733
CREATED:20250801T030033Z
LAST-MODIFIED:20250801T030033Z
UID:10003667-1752067140-1752071220@clubdetirsaint-tite.ca
SUMMARY:101449 _ TIREUR
DESCRIPTION:
URL:https://clubdetirsaint-tite.ca/event/101449-_-tireur-5/
CATEGORIES:PRÉSENCES
END:VEVENT
BEGIN:VEVENT
DTSTART;TZID=America/Toronto:20250709T131900
DTEND;TZID=America/Toronto:20250709T143400
DTSTAMP:20260421T184733
CREATED:20250801T030034Z
LAST-MODIFIED:20250801T030034Z
UID:10003668-1752067140-1752071640@clubdetirsaint-tite.ca
SUMMARY:100617 _ TIREUR
DESCRIPTION:
URL:https://clubdetirsaint-tite.ca/event/100617-_-tireur-5/
CATEGORIES:PRÉSENCES
END:VEVENT
BEGIN:VEVENT
DTSTART;TZID=America/Toronto:20250709T135700
DTEND;TZID=America/Toronto:20250709T150300
DTSTAMP:20260421T184733
CREATED:20250801T030034Z
LAST-MODIFIED:20250801T030034Z
UID:10003671-1752069420-1752073380@clubdetirsaint-tite.ca
SUMMARY:101781 _ TIREUR
DESCRIPTION:
URL:https://clubdetirsaint-tite.ca/event/101781-_-tireur-6/
CATEGORIES:PRÉSENCES
END:VEVENT
BEGIN:VEVENT
DTSTART;TZID=America/Toronto:20250709T140400
DTEND;TZID=America/Toronto:20250709T145100
DTSTAMP:20260421T184733
CREATED:20250801T030034Z
LAST-MODIFIED:20250801T030034Z
UID:10003669-1752069840-1752072660@clubdetirsaint-tite.ca
SUMMARY:100118 _ TIREUR
DESCRIPTION:
URL:https://clubdetirsaint-tite.ca/event/100118-_-tireur-47/
CATEGORIES:PRÉSENCES
END:VEVENT
BEGIN:VEVENT
DTSTART;TZID=America/Toronto:20250709T141200
DTEND;TZID=America/Toronto:20250709T160200
DTSTAMP:20260421T184733
CREATED:20250801T030049Z
LAST-MODIFIED:20250801T030049Z
UID:10003674-1752070320-1752076920@clubdetirsaint-tite.ca
SUMMARY:100137 _ TIREUR
DESCRIPTION:
URL:https://clubdetirsaint-tite.ca/event/100137-_-tireur-16/
CATEGORIES:PRÉSENCES
END:VEVENT
BEGIN:VEVENT
DTSTART;TZID=America/Toronto:20250709T142700
DTEND;TZID=America/Toronto:20250709T152600
DTSTAMP:20260421T184733
CREATED:20250801T030049Z
LAST-MODIFIED:20250801T030049Z
UID:10003673-1752071220-1752074760@clubdetirsaint-tite.ca
SUMMARY:101449 _ OFFICIEL
DESCRIPTION:
URL:https://clubdetirsaint-tite.ca/event/101449-_-officiel-8/
CATEGORIES:PRÉSENCES
END:VEVENT
BEGIN:VEVENT
DTSTART;TZID=America/Toronto:20250709T143400
DTEND;TZID=America/Toronto:20250709T152500
DTSTAMP:20260421T184733
CREATED:20250801T030049Z
LAST-MODIFIED:20250801T030049Z
UID:10003672-1752071640-1752074700@clubdetirsaint-tite.ca
SUMMARY:100617 _ OFFICIEL
DESCRIPTION:
URL:https://clubdetirsaint-tite.ca/event/100617-_-officiel-6/
CATEGORIES:PRÉSENCES
END:VEVENT
BEGIN:VEVENT
DTSTART;TZID=America/Toronto:20250710T175100
DTEND;TZID=America/Toronto:20250710T203600
DTSTAMP:20260421T184733
CREATED:20250801T030140Z
LAST-MODIFIED:20250801T030140Z
UID:10003678-1752169860-1752179760@clubdetirsaint-tite.ca
SUMMARY:102608 _ OFFICIEL
DESCRIPTION:
URL:https://clubdetirsaint-tite.ca/event/102608-_-officiel-20/
CATEGORIES:PRÉSENCES
END:VEVENT
BEGIN:VEVENT
DTSTART;TZID=America/Toronto:20250710T175200
DTEND;TZID=America/Toronto:20250710T203600
DTSTAMP:20260421T184733
CREATED:20250801T030140Z
LAST-MODIFIED:20250801T030140Z
UID:10003677-1752169920-1752179760@clubdetirsaint-tite.ca
SUMMARY:102616 _ TIREUR
DESCRIPTION:
URL:https://clubdetirsaint-tite.ca/event/102616-_-tireur-14/
CATEGORIES:PRÉSENCES
END:VEVENT
BEGIN:VEVENT
DTSTART;TZID=America/Toronto:20250710T180900
DTEND;TZID=America/Toronto:20250710T203600
DTSTAMP:20260421T184733
CREATED:20250801T030050Z
LAST-MODIFIED:20250801T030050Z
UID:10003676-1752170940-1752179760@clubdetirsaint-tite.ca
SUMMARY:102693 _ TIREUR
DESCRIPTION:
URL:https://clubdetirsaint-tite.ca/event/102693-_-tireur-6/
CATEGORIES:PRÉSENCES
END:VEVENT
BEGIN:VEVENT
DTSTART;TZID=America/Toronto:20250712T100000
DTEND;TZID=America/Toronto:20250712T110000
DTSTAMP:20260421T184733
CREATED:20250621T105840Z
LAST-MODIFIED:20250621T105840Z
UID:10003518-1752314400-1752318000@clubdetirsaint-tite.ca
SUMMARY:Session accueil
DESCRIPTION:Session accueil
URL:https://clubdetirsaint-tite.ca/event/session-accueil-10/
LOCATION:Club de Tir Saint-Tite\, 35 QC-153\, Saint-Tite\, Quebec\, G0X 3H0\, Canada
END:VEVENT
BEGIN:VEVENT
DTSTART;TZID=America/Toronto:20250712T114000
DTEND;TZID=America/Toronto:20250712T130500
DTSTAMP:20260421T184733
CREATED:20250801T030140Z
LAST-MODIFIED:20250801T030140Z
UID:10003679-1752320400-1752325500@clubdetirsaint-tite.ca
SUMMARY:100548 _ TIREUR
DESCRIPTION:
URL:https://clubdetirsaint-tite.ca/event/100548-_-tireur-17/
CATEGORIES:PRÉSENCES
END:VEVENT
BEGIN:VEVENT
DTSTART;TZID=America/Toronto:20250712T114000
DTEND;TZID=America/Toronto:20250712T130500
DTSTAMP:20260421T184733
CREATED:20250801T030140Z
LAST-MODIFIED:20250801T030140Z
UID:10003680-1752320400-1752325500@clubdetirsaint-tite.ca
SUMMARY:100549 _ OFFICIEL
DESCRIPTION:
URL:https://clubdetirsaint-tite.ca/event/100549-_-officiel-54/
CATEGORIES:PRÉSENCES
END:VEVENT
BEGIN:VEVENT
DTSTART;TZID=America/Toronto:20250712T141000
DTEND;TZID=America/Toronto:20250712T145900
DTSTAMP:20260421T184733
CREATED:20250801T030141Z
LAST-MODIFIED:20250801T030141Z
UID:10003681-1752329400-1752332340@clubdetirsaint-tite.ca
SUMMARY:101688 _ TIREUR
DESCRIPTION:
URL:https://clubdetirsaint-tite.ca/event/101688-_-tireur-7/
CATEGORIES:PRÉSENCES
END:VEVENT
BEGIN:VEVENT
DTSTART;TZID=America/Toronto:20250712T141000
DTEND;TZID=America/Toronto:20250712T145900
DTSTAMP:20260421T184733
CREATED:20250801T030155Z
LAST-MODIFIED:20250801T030155Z
UID:10003682-1752329400-1752332340@clubdetirsaint-tite.ca
SUMMARY:100008 _ OFFICIEL
DESCRIPTION:
URL:https://clubdetirsaint-tite.ca/event/100008-_-officiel-59/
CATEGORIES:PRÉSENCES
END:VEVENT
BEGIN:VEVENT
DTSTART;TZID=America/Toronto:20250713T093400
DTEND;TZID=America/Toronto:20250713T110500
DTSTAMP:20260421T184733
CREATED:20250801T030155Z
LAST-MODIFIED:20250801T030155Z
UID:10003683-1752399240-1752404700@clubdetirsaint-tite.ca
SUMMARY:100706 _ OFFICIEL
DESCRIPTION:
URL:https://clubdetirsaint-tite.ca/event/100706-_-officiel-17/
CATEGORIES:PRÉSENCES
END:VEVENT
BEGIN:VEVENT
DTSTART;TZID=America/Toronto:20250713T094900
DTEND;TZID=America/Toronto:20250713T110500
DTSTAMP:20260421T184733
CREATED:20250801T030156Z
LAST-MODIFIED:20250801T030156Z
UID:10003684-1752400140-1752404700@clubdetirsaint-tite.ca
SUMMARY:101031 _ TIREUR
DESCRIPTION:
URL:https://clubdetirsaint-tite.ca/event/101031-_-tireur-17/
CATEGORIES:PRÉSENCES
END:VEVENT
BEGIN:VEVENT
DTSTART;TZID=America/Toronto:20250713T133200
DTEND;TZID=America/Toronto:20250713T160300
DTSTAMP:20260421T184733
CREATED:20250801T030356Z
LAST-MODIFIED:20250801T030356Z
UID:10003687-1752413520-1752422580@clubdetirsaint-tite.ca
SUMMARY:101392 _ OFFICIEL
DESCRIPTION:
URL:https://clubdetirsaint-tite.ca/event/101392-_-officiel-2/
CATEGORIES:PRÉSENCES
END:VEVENT
BEGIN:VEVENT
DTSTART;TZID=America/Toronto:20250713T133300
DTEND;TZID=America/Toronto:20250713T160200
DTSTAMP:20260421T184733
CREATED:20250801T030156Z
LAST-MODIFIED:20250801T030156Z
UID:10003686-1752413580-1752422520@clubdetirsaint-tite.ca
SUMMARY:100045 _ OFFICIEL
DESCRIPTION:
URL:https://clubdetirsaint-tite.ca/event/100045-_-officiel/
CATEGORIES:PRÉSENCES
END:VEVENT
BEGIN:VEVENT
DTSTART;TZID=America/Toronto:20250713T133300
DTEND;TZID=America/Toronto:20250713T160200
DTSTAMP:20260421T184733
CREATED:20250801T030156Z
LAST-MODIFIED:20250801T030156Z
UID:10003685-1752413580-1752422520@clubdetirsaint-tite.ca
SUMMARY:100044 _ TIREUR
DESCRIPTION:
URL:https://clubdetirsaint-tite.ca/event/100044-_-tireur-3/
CATEGORIES:PRÉSENCES
END:VEVENT
END:VCALENDAR