BEGIN:VCALENDAR
VERSION:2.0
PRODID:-//Club de Tir Saint-Tite - ECPv6.15.20//NONSGML v1.0//EN
CALSCALE:GREGORIAN
METHOD:PUBLISH
X-WR-CALNAME:Club de Tir Saint-Tite
X-ORIGINAL-URL:https://clubdetirsaint-tite.ca
X-WR-CALDESC:Évènements pour Club de Tir Saint-Tite
REFRESH-INTERVAL;VALUE=DURATION:PT1H
X-Robots-Tag:noindex
X-PUBLISHED-TTL:PT1H
BEGIN:VTIMEZONE
TZID:America/Toronto
BEGIN:DAYLIGHT
TZOFFSETFROM:-0500
TZOFFSETTO:-0400
TZNAME:EDT
DTSTART:20240310T070000
END:DAYLIGHT
BEGIN:STANDARD
TZOFFSETFROM:-0400
TZOFFSETTO:-0500
TZNAME:EST
DTSTART:20241103T060000
END:STANDARD
BEGIN:DAYLIGHT
TZOFFSETFROM:-0500
TZOFFSETTO:-0400
TZNAME:EDT
DTSTART:20250309T070000
END:DAYLIGHT
BEGIN:STANDARD
TZOFFSETFROM:-0400
TZOFFSETTO:-0500
TZNAME:EST
DTSTART:20251102T060000
END:STANDARD
BEGIN:DAYLIGHT
TZOFFSETFROM:-0500
TZOFFSETTO:-0400
TZNAME:EDT
DTSTART:20260308T070000
END:DAYLIGHT
BEGIN:STANDARD
TZOFFSETFROM:-0400
TZOFFSETTO:-0500
TZNAME:EST
DTSTART:20261101T060000
END:STANDARD
END:VTIMEZONE
BEGIN:VEVENT
DTSTART;TZID=America/Toronto:20251020T090000
DTEND;TZID=America/Toronto:20251020T110000
DTSTAMP:20260422T064707
CREATED:20251018T131848Z
LAST-MODIFIED:20251018T131848Z
UID:10004039-1760950800-1760958000@clubdetirsaint-tite.ca
SUMMARY:OFFICIEL 100072
DESCRIPTION:Tir
URL:https://clubdetirsaint-tite.ca/event/officiel-100072-2/
LOCATION:Club de Tir Saint-Tite\, 35 QC-153\, Saint-Tite\, Quebec\, G0X 3H0\, Canada
END:VEVENT
BEGIN:VEVENT
DTSTART;TZID=America/Toronto:20251020T084500
DTEND;TZID=America/Toronto:20251020T105800
DTSTAMP:20260422T064707
CREATED:20251114T223259Z
LAST-MODIFIED:20251114T223259Z
UID:10004182-1760949900-1760957880@clubdetirsaint-tite.ca
SUMMARY:100072 _ TIREUR
DESCRIPTION:
URL:https://clubdetirsaint-tite.ca/event/100072-_-tireur-59/
CATEGORIES:PRÉSENCES
END:VEVENT
BEGIN:VEVENT
DTSTART;TZID=America/Toronto:20251020T083900
DTEND;TZID=America/Toronto:20251020T110500
DTSTAMP:20260422T064707
CREATED:20251114T223314Z
LAST-MODIFIED:20251114T223314Z
UID:10004183-1760949540-1760958300@clubdetirsaint-tite.ca
SUMMARY:100071 _ OFFICIEL
DESCRIPTION:
URL:https://clubdetirsaint-tite.ca/event/100071-_-officiel-3/
CATEGORIES:PRÉSENCES
END:VEVENT
BEGIN:VEVENT
DTSTART;TZID=America/Toronto:20251019T105100
DTEND;TZID=America/Toronto:20251019T114300
DTSTAMP:20260422T064707
CREATED:20251114T223244Z
LAST-MODIFIED:20251114T223244Z
UID:10004177-1760871060-1760874180@clubdetirsaint-tite.ca
SUMMARY:100562 _ TIREUR
DESCRIPTION:
URL:https://clubdetirsaint-tite.ca/event/100562-_-tireur-3/
CATEGORIES:PRÉSENCES
END:VEVENT
BEGIN:VEVENT
DTSTART;TZID=America/Toronto:20251019T102600
DTEND;TZID=America/Toronto:20251019T105500
DTSTAMP:20260422T064707
CREATED:20251114T223244Z
LAST-MODIFIED:20251114T223244Z
UID:10004176-1760869560-1760871300@clubdetirsaint-tite.ca
SUMMARY:100514 _ TIREUR
DESCRIPTION:
URL:https://clubdetirsaint-tite.ca/event/100514-_-tireur-4/
CATEGORIES:PRÉSENCES
END:VEVENT
BEGIN:VEVENT
DTSTART;TZID=America/Toronto:20251019T095200
DTEND;TZID=America/Toronto:20251019T102900
DTSTAMP:20260422T064707
CREATED:20251114T223243Z
LAST-MODIFIED:20251114T223243Z
UID:10004174-1760867520-1760869740@clubdetirsaint-tite.ca
SUMMARY:102672 _ TIREUR
DESCRIPTION:
URL:https://clubdetirsaint-tite.ca/event/102672-_-tireur-9/
CATEGORIES:PRÉSENCES
END:VEVENT
BEGIN:VEVENT
DTSTART;TZID=America/Toronto:20251019T093900
DTEND;TZID=America/Toronto:20251019T103000
DTSTAMP:20260422T064707
CREATED:20251114T223243Z
LAST-MODIFIED:20251114T223243Z
UID:10004175-1760866740-1760869800@clubdetirsaint-tite.ca
SUMMARY:102811 _ TIREUR
DESCRIPTION:
URL:https://clubdetirsaint-tite.ca/event/102811-_-tireur/
CATEGORIES:PRÉSENCES
END:VEVENT
BEGIN:VEVENT
DTSTART;TZID=America/Toronto:20251019T093000
DTEND;TZID=America/Toronto:20251019T110000
DTSTAMP:20260422T064707
CREATED:20251016T002240Z
LAST-MODIFIED:20251016T002240Z
UID:10004037-1760866200-1760871600@clubdetirsaint-tite.ca
SUMMARY:OFFICIEL 101265
DESCRIPTION:OFFICIEL
URL:https://clubdetirsaint-tite.ca/event/officiel-101265/
LOCATION:Club de Tir Saint-Tite\, 35 QC-153\, Saint-Tite\, Quebec\, G0X 3H0\, Canada
END:VEVENT
BEGIN:VEVENT
DTSTART;TZID=America/Toronto:20251019T091800
DTEND;TZID=America/Toronto:20251019T095600
DTSTAMP:20260422T064707
CREATED:20251114T223243Z
LAST-MODIFIED:20251114T223243Z
UID:10004173-1760865480-1760867760@clubdetirsaint-tite.ca
SUMMARY:101104 _ TIREUR
DESCRIPTION:
URL:https://clubdetirsaint-tite.ca/event/101104-_-tireur-2/
CATEGORIES:PRÉSENCES
END:VEVENT
BEGIN:VEVENT
DTSTART;TZID=America/Toronto:20251019T091600
DTEND;TZID=America/Toronto:20251019T114300
DTSTAMP:20260422T064707
CREATED:20251114T223258Z
LAST-MODIFIED:20251114T223258Z
UID:10004178-1760865360-1760874180@clubdetirsaint-tite.ca
SUMMARY:101265 _ OFFICIEL
DESCRIPTION:
URL:https://clubdetirsaint-tite.ca/event/101265-_-officiel-3/
CATEGORIES:PRÉSENCES
END:VEVENT
BEGIN:VEVENT
DTSTART;TZID=America/Toronto:20251018T094500
DTEND;TZID=America/Toronto:20251018T161800
DTSTAMP:20260422T064707
CREATED:20251114T223229Z
LAST-MODIFIED:20251114T223229Z
UID:10004172-1760780700-1760804280@clubdetirsaint-tite.ca
SUMMARY:102139 _ OFFICIEL
DESCRIPTION:
URL:https://clubdetirsaint-tite.ca/event/102139-_-officiel-6/
CATEGORIES:PRÉSENCES
END:VEVENT
BEGIN:VEVENT
DTSTART;TZID=America/Toronto:20251018T094400
DTEND;TZID=America/Toronto:20251018T161400
DTSTAMP:20260422T064707
CREATED:20251114T223229Z
LAST-MODIFIED:20251114T223229Z
UID:10004171-1760780640-1760804040@clubdetirsaint-tite.ca
SUMMARY:100777 _ OFFICIEL
DESCRIPTION:
URL:https://clubdetirsaint-tite.ca/event/100777-_-officiel-7/
CATEGORIES:PRÉSENCES
END:VEVENT
BEGIN:VEVENT
DTSTART;VALUE=DATE:20251018
DTEND;VALUE=DATE:20251019
DTSTAMP:20260422T064707
CREATED:20250415T002535Z
LAST-MODIFIED:20250415T002535Z
UID:10003034-1760745600-1760831999@clubdetirsaint-tite.ca
SUMMARY:JOURNÉE PORTE OUVERTE
DESCRIPTION:Journée porte ouverte toute la journée. \nTous les pas de tir serons utilisé donc le club seras fermé pour les membres. \nMerci\, Eric Launier Vise-Président.
URL:https://clubdetirsaint-tite.ca/event/journee-porte-ouverte-5/
LOCATION:Club de Tir Saint-Tite\, 35 QC-153\, Saint-Tite\, Quebec\, G0X 3H0\, Canada
END:VEVENT
BEGIN:VEVENT
DTSTART;TZID=America/Toronto:20251015T120500
DTEND;TZID=America/Toronto:20251015T124300
DTSTAMP:20260422T064707
CREATED:20251114T223228Z
LAST-MODIFIED:20251114T223228Z
UID:10004169-1760529900-1760532180@clubdetirsaint-tite.ca
SUMMARY:101448 _ TIREUR
DESCRIPTION:
URL:https://clubdetirsaint-tite.ca/event/101448-_-tireur-8/
CATEGORIES:PRÉSENCES
END:VEVENT
BEGIN:VEVENT
DTSTART;TZID=America/Toronto:20251015T120200
DTEND;TZID=America/Toronto:20251015T124300
DTSTAMP:20260422T064707
CREATED:20251114T223228Z
LAST-MODIFIED:20251114T223228Z
UID:10004170-1760529720-1760532180@clubdetirsaint-tite.ca
SUMMARY:101449 _ OFFICIEL
DESCRIPTION:
URL:https://clubdetirsaint-tite.ca/event/101449-_-officiel-11/
CATEGORIES:PRÉSENCES
END:VEVENT
BEGIN:VEVENT
DTSTART;TZID=America/Toronto:20251013T132600
DTEND;TZID=America/Toronto:20251013T140600
DTSTAMP:20260422T064707
CREATED:20251114T223213Z
LAST-MODIFIED:20251114T223213Z
UID:10004167-1760361960-1760364360@clubdetirsaint-tite.ca
SUMMARY:100943 _ TIREUR
DESCRIPTION:
URL:https://clubdetirsaint-tite.ca/event/100943-_-tireur-2/
CATEGORIES:PRÉSENCES
END:VEVENT
BEGIN:VEVENT
DTSTART;TZID=America/Toronto:20251013T132500
DTEND;TZID=America/Toronto:20251013T140600
DTSTAMP:20260422T064707
CREATED:20251114T223228Z
LAST-MODIFIED:20251114T223228Z
UID:10004168-1760361900-1760364360@clubdetirsaint-tite.ca
SUMMARY:100008 _ OFFICIEL
DESCRIPTION:
URL:https://clubdetirsaint-tite.ca/event/100008-_-officiel-64/
CATEGORIES:PRÉSENCES
END:VEVENT
BEGIN:VEVENT
DTSTART;TZID=America/Toronto:20251012T162100
DTEND;TZID=America/Toronto:20251012T170800
DTSTAMP:20260422T064707
CREATED:20251114T223213Z
LAST-MODIFIED:20251114T223213Z
UID:10004165-1760286060-1760288880@clubdetirsaint-tite.ca
SUMMARY:100442 _ TIREUR
DESCRIPTION:
URL:https://clubdetirsaint-tite.ca/event/100442-_-tireur-4/
CATEGORIES:PRÉSENCES
END:VEVENT
BEGIN:VEVENT
DTSTART;TZID=America/Toronto:20251012T162000
DTEND;TZID=America/Toronto:20251012T170800
DTSTAMP:20260422T064707
CREATED:20251114T223213Z
LAST-MODIFIED:20251114T223213Z
UID:10004166-1760286000-1760288880@clubdetirsaint-tite.ca
SUMMARY:100142 _ OFFICIEL
DESCRIPTION:
URL:https://clubdetirsaint-tite.ca/event/100142-_-officiel-3/
CATEGORIES:PRÉSENCES
END:VEVENT
BEGIN:VEVENT
DTSTART;TZID=America/Toronto:20251012T080000
DTEND;TZID=America/Toronto:20251012T170000
DTSTAMP:20260422T064707
CREATED:20250927T205145Z
LAST-MODIFIED:20250927T205145Z
UID:10004022-1760256000-1760288400@clubdetirsaint-tite.ca
SUMMARY:Pas de tir a l'arc fermé pour la journée.
DESCRIPTION:Pas de tir a l’arc fermé pour la journée pour cause de travaux.
URL:https://clubdetirsaint-tite.ca/event/pas-de-tir-a-larc-ferme-pour-la-journee-2/
LOCATION:Club de Tir Saint-Tite\, 35 QC-153\, Saint-Tite\, Quebec\, G0X 3H0\, Canada
END:VEVENT
BEGIN:VEVENT
DTSTART;TZID=America/Toronto:20251011T131900
DTEND;TZID=America/Toronto:20251011T140300
DTSTAMP:20260422T064707
CREATED:20251114T223213Z
LAST-MODIFIED:20251114T223213Z
UID:10004163-1760188740-1760191380@clubdetirsaint-tite.ca
SUMMARY:101715 _ TIREUR
DESCRIPTION:
URL:https://clubdetirsaint-tite.ca/event/101715-_-tireur-3/
CATEGORIES:PRÉSENCES
END:VEVENT
BEGIN:VEVENT
DTSTART;TZID=America/Toronto:20251011T125800
DTEND;TZID=America/Toronto:20251011T134900
DTSTAMP:20260422T064707
CREATED:20251114T223211Z
LAST-MODIFIED:20251114T223211Z
UID:10004162-1760187480-1760190540@clubdetirsaint-tite.ca
SUMMARY:101729 _ TIREUR
DESCRIPTION:
URL:https://clubdetirsaint-tite.ca/event/101729-_-tireur-6/
CATEGORIES:PRÉSENCES
END:VEVENT
BEGIN:VEVENT
DTSTART;TZID=America/Toronto:20251011T125700
DTEND;TZID=America/Toronto:20251011T134900
DTSTAMP:20260422T064707
CREATED:20251114T223211Z
LAST-MODIFIED:20251114T223211Z
UID:10004161-1760187420-1760190540@clubdetirsaint-tite.ca
SUMMARY:101728 _ TIREUR
DESCRIPTION:
URL:https://clubdetirsaint-tite.ca/event/101728-_-tireur-8/
CATEGORIES:PRÉSENCES
END:VEVENT
BEGIN:VEVENT
DTSTART;TZID=America/Toronto:20251011T125700
DTEND;TZID=America/Toronto:20251011T125800
DTSTAMP:20260422T064707
CREATED:20251114T223210Z
LAST-MODIFIED:20251114T223210Z
UID:10004158-1760187420-1760187480@clubdetirsaint-tite.ca
SUMMARY:101729 _ OFFICIEL
DESCRIPTION:
URL:https://clubdetirsaint-tite.ca/event/101729-_-officiel/
CATEGORIES:PRÉSENCES
END:VEVENT
BEGIN:VEVENT
DTSTART;TZID=America/Toronto:20251011T124800
DTEND;TZID=America/Toronto:20251011T132000
DTSTAMP:20260422T064707
CREATED:20251114T223211Z
LAST-MODIFIED:20251114T223211Z
UID:10004159-1760186880-1760188800@clubdetirsaint-tite.ca
SUMMARY:102410 _ TIREUR
DESCRIPTION:
URL:https://clubdetirsaint-tite.ca/event/102410-_-tireur-2/
CATEGORIES:PRÉSENCES
END:VEVENT
BEGIN:VEVENT
DTSTART;TZID=America/Toronto:20251011T123200
DTEND;TZID=America/Toronto:20251011T132200
DTSTAMP:20260422T064707
CREATED:20251114T223211Z
LAST-MODIFIED:20251114T223211Z
UID:10004160-1760185920-1760188920@clubdetirsaint-tite.ca
SUMMARY:101656 _ TIREUR
DESCRIPTION:
URL:https://clubdetirsaint-tite.ca/event/101656-_-tireur-2/
CATEGORIES:PRÉSENCES
END:VEVENT
BEGIN:VEVENT
DTSTART;TZID=America/Toronto:20251011T123000
DTEND;TZID=America/Toronto:20251011T140000
DTSTAMP:20260422T064707
CREATED:20251006T175206Z
LAST-MODIFIED:20251006T175206Z
UID:10004032-1760185800-1760191200@clubdetirsaint-tite.ca
SUMMARY:Officiels
DESCRIPTION:officiel 101713
URL:https://clubdetirsaint-tite.ca/event/officiels/
LOCATION:Club de Tir Saint-Tite\, 35 QC-153\, Saint-Tite\, Quebec\, G0X 3H0\, Canada
END:VEVENT
BEGIN:VEVENT
DTSTART;TZID=America/Toronto:20251011T122800
DTEND;TZID=America/Toronto:20251011T140300
DTSTAMP:20260422T064707
CREATED:20251114T223213Z
LAST-MODIFIED:20251114T223213Z
UID:10004164-1760185680-1760191380@clubdetirsaint-tite.ca
SUMMARY:101713 _ OFFICIEL
DESCRIPTION:
URL:https://clubdetirsaint-tite.ca/event/101713-_-officiel-57/
CATEGORIES:PRÉSENCES
END:VEVENT
BEGIN:VEVENT
DTSTART;TZID=America/Toronto:20251011T100000
DTEND;TZID=America/Toronto:20251011T110000
DTSTAMP:20260422T064707
CREATED:20251006T174956Z
LAST-MODIFIED:20251006T174956Z
UID:10004031-1760176800-1760180400@clubdetirsaint-tite.ca
SUMMARY:Session accueil
DESCRIPTION:Session accueil
URL:https://clubdetirsaint-tite.ca/event/session-accueil-25/
LOCATION:Club de Tir Saint-Tite\, 35 QC-153\, Saint-Tite\, Quebec\, G0X 3H0\, Canada
END:VEVENT
BEGIN:VEVENT
DTSTART;TZID=America/Toronto:20251011T080000
DTEND;TZID=America/Toronto:20251011T170000
DTSTAMP:20260422T064707
CREATED:20251001T223703Z
LAST-MODIFIED:20251001T223703Z
UID:10004026-1760169600-1760202000@clubdetirsaint-tite.ca
SUMMARY:100 verges fermés pour travaux
DESCRIPTION:100 verges fermés pour travaux
URL:https://clubdetirsaint-tite.ca/event/100-verges-fermes-pour-travaux/2025-10-11/
LOCATION:Club de Tir Saint-Tite\, 35 QC-153\, Saint-Tite\, Quebec\, G0X 3H0\, Canada
END:VEVENT
END:VCALENDAR