BEGIN:VCALENDAR
VERSION:2.0
PRODID:-//Club de Tir Saint-Tite - ECPv6.15.20//NONSGML v1.0//EN
CALSCALE:GREGORIAN
METHOD:PUBLISH
X-WR-CALNAME:Club de Tir Saint-Tite
X-ORIGINAL-URL:https://clubdetirsaint-tite.ca
X-WR-CALDESC:Évènements pour Club de Tir Saint-Tite
REFRESH-INTERVAL;VALUE=DURATION:PT1H
X-Robots-Tag:noindex
X-PUBLISHED-TTL:PT1H
BEGIN:VTIMEZONE
TZID:America/Toronto
BEGIN:DAYLIGHT
TZOFFSETFROM:-0500
TZOFFSETTO:-0400
TZNAME:EDT
DTSTART:20240310T070000
END:DAYLIGHT
BEGIN:STANDARD
TZOFFSETFROM:-0400
TZOFFSETTO:-0500
TZNAME:EST
DTSTART:20241103T060000
END:STANDARD
BEGIN:DAYLIGHT
TZOFFSETFROM:-0500
TZOFFSETTO:-0400
TZNAME:EDT
DTSTART:20250309T070000
END:DAYLIGHT
BEGIN:STANDARD
TZOFFSETFROM:-0400
TZOFFSETTO:-0500
TZNAME:EST
DTSTART:20251102T060000
END:STANDARD
BEGIN:DAYLIGHT
TZOFFSETFROM:-0500
TZOFFSETTO:-0400
TZNAME:EDT
DTSTART:20260308T070000
END:DAYLIGHT
BEGIN:STANDARD
TZOFFSETFROM:-0400
TZOFFSETTO:-0500
TZNAME:EST
DTSTART:20261101T060000
END:STANDARD
END:VTIMEZONE
BEGIN:VEVENT
DTSTART;TZID=America/Toronto:20250716T095200
DTEND;TZID=America/Toronto:20250716T111400
DTSTAMP:20260422T004420
CREATED:20250801T030759Z
LAST-MODIFIED:20250801T030759Z
UID:10003699-1752659520-1752664440@clubdetirsaint-tite.ca
SUMMARY:102802 _ TIREUR
DESCRIPTION:
URL:https://clubdetirsaint-tite.ca/event/102802-_-tireur/
LOCATION:Quebec
CATEGORIES:PRÉSENCES
END:VEVENT
BEGIN:VEVENT
DTSTART;TZID=America/Toronto:20250716T130000
DTEND;TZID=America/Toronto:20250716T160000
DTSTAMP:20260422T004420
CREATED:20250623T022050Z
LAST-MODIFIED:20250623T022050Z
UID:10003524-1752670800-1752681600@clubdetirsaint-tite.ca
SUMMARY:OFFICIEL
DESCRIPTION:tir libre \nand-jas
URL:https://clubdetirsaint-tite.ca/event/officiel-90/
LOCATION:Club de Tir Saint-Tite\, 35 QC-153\, Saint-Tite\, Quebec\, G0X 3H0\, Canada
END:VEVENT
BEGIN:VEVENT
DTSTART;TZID=America/Toronto:20250716T130100
DTEND;TZID=America/Toronto:20250716T160400
DTSTAMP:20260422T004420
CREATED:20250801T030909Z
LAST-MODIFIED:20250801T030909Z
UID:10003707-1752670860-1752681840@clubdetirsaint-tite.ca
SUMMARY:100549 _ OFFICIEL
DESCRIPTION:
URL:https://clubdetirsaint-tite.ca/event/100549-_-officiel-55/
LOCATION:Quebec
CATEGORIES:PRÉSENCES
END:VEVENT
BEGIN:VEVENT
DTSTART;TZID=America/Toronto:20250716T130700
DTEND;TZID=America/Toronto:20250716T135400
DTSTAMP:20260422T004420
CREATED:20250801T030854Z
LAST-MODIFIED:20250801T030854Z
UID:10003704-1752671220-1752674040@clubdetirsaint-tite.ca
SUMMARY:100070 _ TIREUR
DESCRIPTION:
URL:https://clubdetirsaint-tite.ca/event/100070-_-tireur-7/
LOCATION:Quebec
CATEGORIES:PRÉSENCES
END:VEVENT
BEGIN:VEVENT
DTSTART;TZID=America/Toronto:20250716T133800
DTEND;TZID=America/Toronto:20250716T160400
DTSTAMP:20260422T004420
CREATED:20250801T030854Z
LAST-MODIFIED:20250801T030854Z
UID:10003705-1752673080-1752681840@clubdetirsaint-tite.ca
SUMMARY:100118 _ TIREUR
DESCRIPTION:
URL:https://clubdetirsaint-tite.ca/event/100118-_-tireur-48/
LOCATION:Quebec
CATEGORIES:PRÉSENCES
END:VEVENT
BEGIN:VEVENT
DTSTART;TZID=America/Toronto:20250716T135300
DTEND;TZID=America/Toronto:20250716T160400
DTSTAMP:20260422T004420
CREATED:20250801T030855Z
LAST-MODIFIED:20250801T030855Z
UID:10003706-1752673980-1752681840@clubdetirsaint-tite.ca
SUMMARY:100990 _ OFFICIEL
DESCRIPTION:
URL:https://clubdetirsaint-tite.ca/event/100990-_-officiel/
LOCATION:Quebec
CATEGORIES:PRÉSENCES
END:VEVENT
BEGIN:VEVENT
DTSTART;TZID=America/Toronto:20250717T093000
DTEND;TZID=America/Toronto:20250717T110000
DTSTAMP:20260422T004420
CREATED:20250716T230457Z
LAST-MODIFIED:20250716T230457Z
UID:10003535-1752744600-1752750000@clubdetirsaint-tite.ca
SUMMARY:OFFICIEL  100756
DESCRIPTION:Pistolet
URL:https://clubdetirsaint-tite.ca/event/officiel-100756-4/
LOCATION:Club de Tir Saint-Tite\, 35 QC-153\, Saint-Tite\, Quebec\, G0X 3H0\, Canada
END:VEVENT
BEGIN:VEVENT
DTSTART;TZID=America/Toronto:20250717T093800
DTEND;TZID=America/Toronto:20250717T111100
DTSTAMP:20260422T004420
CREATED:20250801T030910Z
LAST-MODIFIED:20250801T030910Z
UID:10003709-1752745080-1752750660@clubdetirsaint-tite.ca
SUMMARY:100756 _ OFFICIEL
DESCRIPTION:
URL:https://clubdetirsaint-tite.ca/event/100756-_-officiel-5/
LOCATION:Quebec
CATEGORIES:PRÉSENCES
END:VEVENT
BEGIN:VEVENT
DTSTART;TZID=America/Toronto:20250717T094000
DTEND;TZID=America/Toronto:20250717T103800
DTSTAMP:20260422T004420
CREATED:20250801T030909Z
LAST-MODIFIED:20250801T030909Z
UID:10003708-1752745200-1752748680@clubdetirsaint-tite.ca
SUMMARY:101016 _ TIREUR
DESCRIPTION:
URL:https://clubdetirsaint-tite.ca/event/101016-_-tireur-2/
LOCATION:Quebec
CATEGORIES:PRÉSENCES
END:VEVENT
BEGIN:VEVENT
DTSTART;TZID=America/Toronto:20250719T080000
DTEND;TZID=America/Toronto:20250719T120000
DTSTAMP:20260422T004420
CREATED:20250714T194934Z
LAST-MODIFIED:20250714T194934Z
UID:10003534-1752912000-1752926400@clubdetirsaint-tite.ca
SUMMARY:50 verge fermé samedi matin pour travaux
DESCRIPTION:50 verges fermé samedi matin pour travaux
URL:https://clubdetirsaint-tite.ca/event/50-verge-ferme-samedi-matin-pour-travaux/
LOCATION:Club de Tir Saint-Tite\, 35 QC-153\, Saint-Tite\, Quebec\, G0X 3H0\, Canada
END:VEVENT
BEGIN:VEVENT
DTSTART;TZID=America/Toronto:20250720T093200
DTEND;TZID=America/Toronto:20250720T124100
DTSTAMP:20260422T004420
CREATED:20250801T030910Z
LAST-MODIFIED:20250801T030910Z
UID:10003710-1753003920-1753015260@clubdetirsaint-tite.ca
SUMMARY:102872 _ TIREUR
DESCRIPTION:
URL:https://clubdetirsaint-tite.ca/event/102872-_-tireur-3/
LOCATION:Quebec
CATEGORIES:PRÉSENCES
END:VEVENT
BEGIN:VEVENT
DTSTART;TZID=America/Toronto:20250720T093200
DTEND;TZID=America/Toronto:20250720T124100
DTSTAMP:20260422T004420
CREATED:20250801T030910Z
LAST-MODIFIED:20250801T030910Z
UID:10003711-1753003920-1753015260@clubdetirsaint-tite.ca
SUMMARY:102608 _ OFFICIEL
DESCRIPTION:
URL:https://clubdetirsaint-tite.ca/event/102608-_-officiel-21/
LOCATION:Quebec
CATEGORIES:PRÉSENCES
END:VEVENT
BEGIN:VEVENT
DTSTART;TZID=America/Toronto:20250721T124600
DTEND;TZID=America/Toronto:20250721T160200
DTSTAMP:20260422T004420
CREATED:20250801T031311Z
LAST-MODIFIED:20250801T031311Z
UID:10003718-1753101960-1753113720@clubdetirsaint-tite.ca
SUMMARY:100549 _ TIREUR
DESCRIPTION:
URL:https://clubdetirsaint-tite.ca/event/100549-_-tireur-12/
LOCATION:Quebec
CATEGORIES:PRÉSENCES
END:VEVENT
BEGIN:VEVENT
DTSTART;TZID=America/Toronto:20250721T124600
DTEND;TZID=America/Toronto:20250721T160200
DTSTAMP:20260422T004420
CREATED:20250801T031312Z
LAST-MODIFIED:20250801T031312Z
UID:10003719-1753101960-1753113720@clubdetirsaint-tite.ca
SUMMARY:100548 _ OFFICIEL
DESCRIPTION:
URL:https://clubdetirsaint-tite.ca/event/100548-_-officiel-47/
LOCATION:Quebec
CATEGORIES:PRÉSENCES
END:VEVENT
BEGIN:VEVENT
DTSTART;TZID=America/Toronto:20250721T130000
DTEND;TZID=America/Toronto:20250721T160000
DTSTAMP:20260422T004420
CREATED:20250623T022124Z
LAST-MODIFIED:20250623T022124Z
UID:10003525-1753102800-1753113600@clubdetirsaint-tite.ca
SUMMARY:OFFICIEL
DESCRIPTION:tir libre \nand-jas
URL:https://clubdetirsaint-tite.ca/event/officiel-91/
LOCATION:Club de Tir Saint-Tite\, 35 QC-153\, Saint-Tite\, Quebec\, G0X 3H0\, Canada
END:VEVENT
BEGIN:VEVENT
DTSTART;TZID=America/Toronto:20250721T130800
DTEND;TZID=America/Toronto:20250721T142900
DTSTAMP:20260422T004420
CREATED:20250801T031111Z
LAST-MODIFIED:20250801T031111Z
UID:10003715-1753103280-1753108140@clubdetirsaint-tite.ca
SUMMARY:100162 _ TIREUR
DESCRIPTION:
URL:https://clubdetirsaint-tite.ca/event/100162-_-tireur-2/
LOCATION:Quebec
CATEGORIES:PRÉSENCES
END:VEVENT
BEGIN:VEVENT
DTSTART;TZID=America/Toronto:20250721T131400
DTEND;TZID=America/Toronto:20250721T134900
DTSTAMP:20260422T004420
CREATED:20250801T031111Z
LAST-MODIFIED:20250801T031111Z
UID:10003714-1753103640-1753105740@clubdetirsaint-tite.ca
SUMMARY:102209 _ TIREUR
DESCRIPTION:
URL:https://clubdetirsaint-tite.ca/event/102209-_-tireur-2/
LOCATION:Quebec
CATEGORIES:PRÉSENCES
END:VEVENT
BEGIN:VEVENT
DTSTART;TZID=America/Toronto:20250721T131600
DTEND;TZID=America/Toronto:20250721T131700
DTSTAMP:20260422T004420
CREATED:20250801T031110Z
LAST-MODIFIED:20250801T031110Z
UID:10003712-1753103760-1753103820@clubdetirsaint-tite.ca
SUMMARY:101857 _ OFFICIEL
DESCRIPTION:
URL:https://clubdetirsaint-tite.ca/event/101857-_-officiel/
LOCATION:Quebec
CATEGORIES:PRÉSENCES
END:VEVENT
BEGIN:VEVENT
DTSTART;TZID=America/Toronto:20250721T131700
DTEND;TZID=America/Toronto:20250721T134900
DTSTAMP:20260422T004420
CREATED:20250801T031110Z
LAST-MODIFIED:20250801T031110Z
UID:10003713-1753103820-1753105740@clubdetirsaint-tite.ca
SUMMARY:101857 _ TIREUR
DESCRIPTION:
URL:https://clubdetirsaint-tite.ca/event/101857-_-tireur-3/
LOCATION:Quebec
CATEGORIES:PRÉSENCES
END:VEVENT
BEGIN:VEVENT
DTSTART;TZID=America/Toronto:20250721T141200
DTEND;TZID=America/Toronto:20250721T144700
DTSTAMP:20260422T004420
CREATED:20250801T031111Z
LAST-MODIFIED:20250801T031111Z
UID:10003716-1753107120-1753109220@clubdetirsaint-tite.ca
SUMMARY:102188 _ TIREUR
DESCRIPTION:
URL:https://clubdetirsaint-tite.ca/event/102188-_-tireur-5/
LOCATION:Quebec
CATEGORIES:PRÉSENCES
END:VEVENT
BEGIN:VEVENT
DTSTART;TZID=America/Toronto:20250721T143800
DTEND;TZID=America/Toronto:20250721T152500
DTSTAMP:20260422T004420
CREATED:20250801T031311Z
LAST-MODIFIED:20250801T031311Z
UID:10003717-1753108680-1753111500@clubdetirsaint-tite.ca
SUMMARY:102129 _ TIREUR
DESCRIPTION:
URL:https://clubdetirsaint-tite.ca/event/102129-_-tireur-3/
LOCATION:Quebec
CATEGORIES:PRÉSENCES
END:VEVENT
BEGIN:VEVENT
DTSTART;TZID=America/Toronto:20250722T112700
DTEND;TZID=America/Toronto:20250722T114600
DTSTAMP:20260422T004420
CREATED:20250801T031312Z
LAST-MODIFIED:20250801T031312Z
UID:10003721-1753183620-1753184760@clubdetirsaint-tite.ca
SUMMARY:100008 _ OFFICIEL
DESCRIPTION:
URL:https://clubdetirsaint-tite.ca/event/100008-_-officiel-60/
LOCATION:Quebec
CATEGORIES:PRÉSENCES
END:VEVENT
BEGIN:VEVENT
DTSTART;TZID=America/Toronto:20250722T112800
DTEND;TZID=America/Toronto:20250722T114600
DTSTAMP:20260422T004420
CREATED:20250801T031312Z
LAST-MODIFIED:20250801T031312Z
UID:10003720-1753183680-1753184760@clubdetirsaint-tite.ca
SUMMARY:102827 _ TIREUR
DESCRIPTION:
URL:https://clubdetirsaint-tite.ca/event/102827-_-tireur/
LOCATION:Quebec
CATEGORIES:PRÉSENCES
END:VEVENT
BEGIN:VEVENT
DTSTART;TZID=America/Toronto:20250722T130900
DTEND;TZID=America/Toronto:20250722T144100
DTSTAMP:20260422T004420
CREATED:20250801T031327Z
LAST-MODIFIED:20250801T031327Z
UID:10003722-1753189740-1753195260@clubdetirsaint-tite.ca
SUMMARY:102121 _ TIREUR
DESCRIPTION:
URL:https://clubdetirsaint-tite.ca/event/102121-_-tireur-12/
LOCATION:Quebec
CATEGORIES:PRÉSENCES
END:VEVENT
BEGIN:VEVENT
DTSTART;TZID=America/Toronto:20250722T130900
DTEND;TZID=America/Toronto:20250722T144100
DTSTAMP:20260422T004420
CREATED:20250801T031328Z
LAST-MODIFIED:20250801T031328Z
UID:10003724-1753189740-1753195260@clubdetirsaint-tite.ca
SUMMARY:102137 _ OFFICIEL
DESCRIPTION:
URL:https://clubdetirsaint-tite.ca/event/102137-_-officiel-4/
LOCATION:Quebec
CATEGORIES:PRÉSENCES
END:VEVENT
BEGIN:VEVENT
DTSTART;TZID=America/Toronto:20250722T131900
DTEND;TZID=America/Toronto:20250722T144100
DTSTAMP:20260422T004420
CREATED:20250801T031328Z
LAST-MODIFIED:20250801T031328Z
UID:10003723-1753190340-1753195260@clubdetirsaint-tite.ca
SUMMARY:101860 _ TIREUR
DESCRIPTION:
URL:https://clubdetirsaint-tite.ca/event/101860-_-tireur-3/
LOCATION:Quebec
CATEGORIES:PRÉSENCES
END:VEVENT
BEGIN:VEVENT
DTSTART;TZID=America/Toronto:20250723T085600
DTEND;TZID=America/Toronto:20250723T103900
DTSTAMP:20260422T004420
CREATED:20250801T031342Z
LAST-MODIFIED:20250801T031342Z
UID:10003727-1753260960-1753267140@clubdetirsaint-tite.ca
SUMMARY:102150 _ OFFICIEL
DESCRIPTION:
URL:https://clubdetirsaint-tite.ca/event/102150-_-officiel-4/
LOCATION:Quebec
CATEGORIES:PRÉSENCES
END:VEVENT
BEGIN:VEVENT
DTSTART;TZID=America/Toronto:20250723T090000
DTEND;TZID=America/Toronto:20250723T103000
DTSTAMP:20260422T004420
CREATED:20250720T184736Z
LAST-MODIFIED:20250720T184736Z
UID:10003538-1753261200-1753266600@clubdetirsaint-tite.ca
SUMMARY:OFFICIEL 102150
DESCRIPTION:officiel
URL:https://clubdetirsaint-tite.ca/event/officiel-102150/
LOCATION:Club de Tir Saint-Tite\, 35 QC-153\, Saint-Tite\, Quebec\, G0X 3H0\, Canada
END:VEVENT
BEGIN:VEVENT
DTSTART;TZID=America/Toronto:20250723T091300
DTEND;TZID=America/Toronto:20250723T103000
DTSTAMP:20260422T004420
CREATED:20250801T031328Z
LAST-MODIFIED:20250801T031328Z
UID:10003726-1753261980-1753266600@clubdetirsaint-tite.ca
SUMMARY:100070 _ TIREUR
DESCRIPTION:
URL:https://clubdetirsaint-tite.ca/event/100070-_-tireur-8/
LOCATION:Quebec
CATEGORIES:PRÉSENCES
END:VEVENT
BEGIN:VEVENT
DTSTART;TZID=America/Toronto:20250723T094000
DTEND;TZID=America/Toronto:20250723T101700
DTSTAMP:20260422T004420
CREATED:20250801T031328Z
LAST-MODIFIED:20250801T031328Z
UID:10003725-1753263600-1753265820@clubdetirsaint-tite.ca
SUMMARY:100449 _ TIREUR
DESCRIPTION:
URL:https://clubdetirsaint-tite.ca/event/100449-_-tireur-2/
LOCATION:Quebec
CATEGORIES:PRÉSENCES
END:VEVENT
END:VCALENDAR