BEGIN:VCALENDAR
VERSION:2.0
PRODID:-//Club de Tir Saint-Tite - ECPv6.15.20//NONSGML v1.0//EN
CALSCALE:GREGORIAN
METHOD:PUBLISH
X-WR-CALNAME:Club de Tir Saint-Tite
X-ORIGINAL-URL:https://clubdetirsaint-tite.ca
X-WR-CALDESC:Évènements pour Club de Tir Saint-Tite
REFRESH-INTERVAL;VALUE=DURATION:PT1H
X-Robots-Tag:noindex
X-PUBLISHED-TTL:PT1H
BEGIN:VTIMEZONE
TZID:America/Toronto
BEGIN:DAYLIGHT
TZOFFSETFROM:-0500
TZOFFSETTO:-0400
TZNAME:EDT
DTSTART:20240310T070000
END:DAYLIGHT
BEGIN:STANDARD
TZOFFSETFROM:-0400
TZOFFSETTO:-0500
TZNAME:EST
DTSTART:20241103T060000
END:STANDARD
BEGIN:DAYLIGHT
TZOFFSETFROM:-0500
TZOFFSETTO:-0400
TZNAME:EDT
DTSTART:20250309T070000
END:DAYLIGHT
BEGIN:STANDARD
TZOFFSETFROM:-0400
TZOFFSETTO:-0500
TZNAME:EST
DTSTART:20251102T060000
END:STANDARD
BEGIN:DAYLIGHT
TZOFFSETFROM:-0500
TZOFFSETTO:-0400
TZNAME:EDT
DTSTART:20260308T070000
END:DAYLIGHT
BEGIN:STANDARD
TZOFFSETFROM:-0400
TZOFFSETTO:-0500
TZNAME:EST
DTSTART:20261101T060000
END:STANDARD
END:VTIMEZONE
BEGIN:VEVENT
DTSTART;TZID=America/Toronto:20251004T100000
DTEND;TZID=America/Toronto:20251004T110000
DTSTAMP:20260422T185802
CREATED:20250910T154340Z
LAST-MODIFIED:20250910T154340Z
UID:10003935-1759572000-1759575600@clubdetirsaint-tite.ca
SUMMARY:Session accueil
DESCRIPTION:Session accueil
URL:https://clubdetirsaint-tite.ca/event/session-accueil-23/
LOCATION:Club de Tir Saint-Tite\, 35 QC-153\, Saint-Tite\, Quebec\, G0X 3H0\, Canada
END:VEVENT
BEGIN:VEVENT
DTSTART;TZID=America/Toronto:20251004T080000
DTEND;TZID=America/Toronto:20251004T170000
DTSTAMP:20260422T185802
CREATED:20251004T133913Z
LAST-MODIFIED:20251004T133913Z
UID:10004029-1759564800-1759597200@clubdetirsaint-tite.ca
SUMMARY:25-50 verges fermés
DESCRIPTION:25-50 Verges fermés
URL:https://clubdetirsaint-tite.ca/event/25-50-verges-fermes/
LOCATION:Club de Tir Saint-Tite\, 35 QC-153\, Saint-Tite\, Quebec\, G0X 3H0\, Canada
END:VEVENT
BEGIN:VEVENT
DTSTART;TZID=America/Toronto:20251004T075100
DTEND;TZID=America/Toronto:20251005T083000
DTSTAMP:20260422T185802
CREATED:20251019T215751Z
LAST-MODIFIED:20251019T215751Z
UID:10004127-1759564260-1759653000@clubdetirsaint-tite.ca
SUMMARY:102872 _ OFFICIEL
DESCRIPTION:
URL:https://clubdetirsaint-tite.ca/event/102872-_-officiel/
CATEGORIES:PRÉSENCES
END:VEVENT
BEGIN:VEVENT
DTSTART;TZID=America/Toronto:20251004T074600
DTEND;TZID=America/Toronto:20251004T144100
DTSTAMP:20260422T185802
CREATED:20251019T215750Z
LAST-MODIFIED:20251019T215750Z
UID:10004124-1759563960-1759588860@clubdetirsaint-tite.ca
SUMMARY:100818 _ TIREUR
DESCRIPTION:
URL:https://clubdetirsaint-tite.ca/event/100818-_-tireur-18/
CATEGORIES:PRÉSENCES
END:VEVENT
BEGIN:VEVENT
DTSTART;TZID=America/Toronto:20251004T073500
DTEND;TZID=America/Toronto:20251004T173100
DTSTAMP:20260422T185802
CREATED:20251019T215751Z
LAST-MODIFIED:20251019T215751Z
UID:10004126-1759563300-1759599060@clubdetirsaint-tite.ca
SUMMARY:101028 _ OFFICIEL
DESCRIPTION:
URL:https://clubdetirsaint-tite.ca/event/101028-_-officiel-7/
CATEGORIES:PRÉSENCES
END:VEVENT
BEGIN:VEVENT
DTSTART;TZID=America/Toronto:20251002T181100
DTEND;TZID=America/Toronto:20251002T200100
DTSTAMP:20260422T185802
CREATED:20251019T215736Z
LAST-MODIFIED:20251019T215736Z
UID:10004122-1759428660-1759435260@clubdetirsaint-tite.ca
SUMMARY:102608 _ TIREUR
DESCRIPTION:
URL:https://clubdetirsaint-tite.ca/event/102608-_-tireur-28/
CATEGORIES:PRÉSENCES
END:VEVENT
BEGIN:VEVENT
DTSTART;TZID=America/Toronto:20251002T181000
DTEND;TZID=America/Toronto:20251002T200100
DTSTAMP:20260422T185802
CREATED:20251019T215736Z
LAST-MODIFIED:20251019T215736Z
UID:10004123-1759428600-1759435260@clubdetirsaint-tite.ca
SUMMARY:102616 _ OFFICIEL
DESCRIPTION:
URL:https://clubdetirsaint-tite.ca/event/102616-_-officiel-16/
CATEGORIES:PRÉSENCES
END:VEVENT
BEGIN:VEVENT
DTSTART;TZID=America/Toronto:20251001T141500
DTEND;TZID=America/Toronto:20251001T150500
DTSTAMP:20260422T185802
CREATED:20251019T215721Z
LAST-MODIFIED:20251019T215721Z
UID:10004118-1759328100-1759331100@clubdetirsaint-tite.ca
SUMMARY:100162 _ TIREUR
DESCRIPTION:
URL:https://clubdetirsaint-tite.ca/event/100162-_-tireur-3/
CATEGORIES:PRÉSENCES
END:VEVENT
BEGIN:VEVENT
DTSTART;TZID=America/Toronto:20251001T140500
DTEND;TZID=America/Toronto:20251001T150600
DTSTAMP:20260422T185802
CREATED:20251019T215736Z
LAST-MODIFIED:20251019T215736Z
UID:10004119-1759327500-1759331160@clubdetirsaint-tite.ca
SUMMARY:100814 _ TIREUR
DESCRIPTION:
URL:https://clubdetirsaint-tite.ca/event/100814-_-tireur-5/
CATEGORIES:PRÉSENCES
END:VEVENT
BEGIN:VEVENT
DTSTART;TZID=America/Toronto:20251001T134500
DTEND;TZID=America/Toronto:20251001T150200
DTSTAMP:20260422T185802
CREATED:20251019T215721Z
LAST-MODIFIED:20251019T215721Z
UID:10004117-1759326300-1759330920@clubdetirsaint-tite.ca
SUMMARY:101467 _ OFFICIEL
DESCRIPTION:
URL:https://clubdetirsaint-tite.ca/event/101467-_-officiel-2/
CATEGORIES:PRÉSENCES
END:VEVENT
BEGIN:VEVENT
DTSTART;TZID=America/Toronto:20251001T134500
DTEND;TZID=America/Toronto:20251001T144900
DTSTAMP:20260422T185802
CREATED:20251019T215721Z
LAST-MODIFIED:20251019T215721Z
UID:10004116-1759326300-1759330140@clubdetirsaint-tite.ca
SUMMARY:102783 _ TIREUR
DESCRIPTION:
URL:https://clubdetirsaint-tite.ca/event/102783-_-tireur-2/
CATEGORIES:PRÉSENCES
END:VEVENT
BEGIN:VEVENT
DTSTART;TZID=America/Toronto:20251001T132600
DTEND;TZID=America/Toronto:20251001T150900
DTSTAMP:20260422T185802
CREATED:20251019T215736Z
LAST-MODIFIED:20251019T215736Z
UID:10004120-1759325160-1759331340@clubdetirsaint-tite.ca
SUMMARY:100724 _ TIREUR
DESCRIPTION:
URL:https://clubdetirsaint-tite.ca/event/100724-_-tireur-21/
CATEGORIES:PRÉSENCES
END:VEVENT
BEGIN:VEVENT
DTSTART;TZID=America/Toronto:20251001T132300
DTEND;TZID=America/Toronto:20251001T140600
DTSTAMP:20260422T185802
CREATED:20251019T215721Z
LAST-MODIFIED:20251019T215721Z
UID:10004114-1759324980-1759327560@clubdetirsaint-tite.ca
SUMMARY:100071 _ TIREUR
DESCRIPTION:
URL:https://clubdetirsaint-tite.ca/event/100071-_-tireur-2/
CATEGORIES:PRÉSENCES
END:VEVENT
BEGIN:VEVENT
DTSTART;TZID=America/Toronto:20251001T132300
DTEND;TZID=America/Toronto:20251001T140600
DTSTAMP:20260422T185802
CREATED:20251019T215721Z
LAST-MODIFIED:20251019T215721Z
UID:10004115-1759324980-1759327560@clubdetirsaint-tite.ca
SUMMARY:100072 _ TIREUR
DESCRIPTION:
URL:https://clubdetirsaint-tite.ca/event/100072-_-tireur-58/
CATEGORIES:PRÉSENCES
END:VEVENT
BEGIN:VEVENT
DTSTART;TZID=America/Toronto:20251001T131000
DTEND;TZID=America/Toronto:20251001T160500
DTSTAMP:20260422T185802
CREATED:20251019T215736Z
LAST-MODIFIED:20251019T215736Z
UID:10004121-1759324200-1759334700@clubdetirsaint-tite.ca
SUMMARY:100549 _ OFFICIEL
DESCRIPTION:
URL:https://clubdetirsaint-tite.ca/event/100549-_-officiel-70/
CATEGORIES:PRÉSENCES
END:VEVENT
BEGIN:VEVENT
DTSTART;TZID=America/Toronto:20251001T130000
DTEND;TZID=America/Toronto:20251001T160000
DTSTAMP:20260422T185802
CREATED:20250810T012708Z
LAST-MODIFIED:20250810T012708Z
UID:10003756-1759323600-1759334400@clubdetirsaint-tite.ca
SUMMARY:OFFICIEL
DESCRIPTION:tir libre \nand-jas
URL:https://clubdetirsaint-tite.ca/event/officiel-105/
LOCATION:Club de Tir Saint-Tite\, 35 QC-153\, Saint-Tite\, Quebec\, G0X 3H0\, Canada
END:VEVENT
BEGIN:VEVENT
DTSTART;TZID=America/Toronto:20251001T100000
DTEND;TZID=America/Toronto:20251001T121300
DTSTAMP:20260422T185802
CREATED:20251019T215706Z
LAST-MODIFIED:20251019T215706Z
UID:10004113-1759312800-1759320780@clubdetirsaint-tite.ca
SUMMARY:101781 _ OFFICIEL
DESCRIPTION:
URL:https://clubdetirsaint-tite.ca/event/101781-_-officiel-10/
CATEGORIES:PRÉSENCES
END:VEVENT
BEGIN:VEVENT
DTSTART;TZID=America/Toronto:20251001T100000
DTEND;TZID=America/Toronto:20251001T120000
DTSTAMP:20260422T185802
CREATED:20250929T172616Z
LAST-MODIFIED:20250929T172616Z
UID:10004023-1759312800-1759320000@clubdetirsaint-tite.ca
SUMMARY:OFFICIEL 101781
DESCRIPTION:Officiel tir restreint
URL:https://clubdetirsaint-tite.ca/event/officiel-101781/
LOCATION:Club de Tir Saint-Tite\, 35 QC-153\, Saint-Tite\, Quebec\, G0X 3H0\, Canada
END:VEVENT
BEGIN:VEVENT
DTSTART;TZID=America/Toronto:20251001T094400
DTEND;TZID=America/Toronto:20251001T101100
DTSTAMP:20260422T185802
CREATED:20251019T215706Z
LAST-MODIFIED:20251019T215706Z
UID:10004112-1759311840-1759313460@clubdetirsaint-tite.ca
SUMMARY:101600 _ TIREUR
DESCRIPTION:
URL:https://clubdetirsaint-tite.ca/event/101600-_-tireur-2/
CATEGORIES:PRÉSENCES
END:VEVENT
BEGIN:VEVENT
DTSTART;TZID=America/Toronto:20251001T094400
DTEND;TZID=America/Toronto:20251001T100000
DTSTAMP:20260422T185802
CREATED:20251019T215706Z
LAST-MODIFIED:20251019T215706Z
UID:10004111-1759311840-1759312800@clubdetirsaint-tite.ca
SUMMARY:100054 _ OFFICIEL
DESCRIPTION:
URL:https://clubdetirsaint-tite.ca/event/100054-_-officiel-5/
CATEGORIES:PRÉSENCES
END:VEVENT
BEGIN:VEVENT
DTSTART;TZID=America/Toronto:20251001T081100
DTEND;TZID=America/Toronto:20251001T094400
DTSTAMP:20260422T185802
CREATED:20251019T215706Z
LAST-MODIFIED:20251019T215706Z
UID:10004110-1759306260-1759311840@clubdetirsaint-tite.ca
SUMMARY:100054 _ TIREUR
DESCRIPTION:
URL:https://clubdetirsaint-tite.ca/event/100054-_-tireur-6/
CATEGORIES:PRÉSENCES
END:VEVENT
BEGIN:VEVENT
DTSTART;TZID=America/Toronto:20251001T081000
DTEND;TZID=America/Toronto:20251001T094300
DTSTAMP:20260422T185802
CREATED:20251019T215706Z
LAST-MODIFIED:20251019T215706Z
UID:10004109-1759306200-1759311780@clubdetirsaint-tite.ca
SUMMARY:101600 _ OFFICIEL
DESCRIPTION:
URL:https://clubdetirsaint-tite.ca/event/101600-_-officiel-2/
CATEGORIES:PRÉSENCES
END:VEVENT
BEGIN:VEVENT
DTSTART;TZID=America/Toronto:20251001T080000
DTEND;TZID=America/Toronto:20251001T093000
DTSTAMP:20260422T185802
CREATED:20250926T001908Z
LAST-MODIFIED:20250926T001908Z
UID:10004020-1759305600-1759311000@clubdetirsaint-tite.ca
SUMMARY:OFFICIEL 101600
DESCRIPTION:Officiel 101600
URL:https://clubdetirsaint-tite.ca/event/officiel-101600-2/
LOCATION:Club de Tir Saint-Tite\, 35 QC-153\, Saint-Tite\, Quebec\, G0X 3H0\, Canada
END:VEVENT
BEGIN:VEVENT
DTSTART;TZID=America/Toronto:20250929T134800
DTEND;TZID=America/Toronto:20250929T142900
DTSTAMP:20260422T185802
CREATED:20251019T215651Z
LAST-MODIFIED:20251019T215651Z
UID:10004107-1759153680-1759156140@clubdetirsaint-tite.ca
SUMMARY:101402 _ TIREUR
DESCRIPTION:
URL:https://clubdetirsaint-tite.ca/event/101402-_-tireur-3/
CATEGORIES:PRÉSENCES
END:VEVENT
BEGIN:VEVENT
DTSTART;TZID=America/Toronto:20250929T132400
DTEND;TZID=America/Toronto:20250929T141500
DTSTAMP:20260422T185802
CREATED:20251019T215651Z
LAST-MODIFIED:20251019T215651Z
UID:10004106-1759152240-1759155300@clubdetirsaint-tite.ca
SUMMARY:101966 _ TIREUR
DESCRIPTION:
URL:https://clubdetirsaint-tite.ca/event/101966-_-tireur-7/
CATEGORIES:PRÉSENCES
END:VEVENT
BEGIN:VEVENT
DTSTART;TZID=America/Toronto:20250929T132300
DTEND;TZID=America/Toronto:20250929T132300
DTSTAMP:20260422T185802
CREATED:20251019T215651Z
LAST-MODIFIED:20251019T215651Z
UID:10004104-1759152180-1759152180@clubdetirsaint-tite.ca
SUMMARY:101966 _ OFFICIEL
DESCRIPTION:
URL:https://clubdetirsaint-tite.ca/event/101966-_-officiel-4/
CATEGORIES:PRÉSENCES
END:VEVENT
BEGIN:VEVENT
DTSTART;TZID=America/Toronto:20250929T132300
DTEND;TZID=America/Toronto:20250929T132300
DTSTAMP:20260422T185802
CREATED:20251019T215651Z
LAST-MODIFIED:20251019T215651Z
UID:10004105-1759152180-1759152180@clubdetirsaint-tite.ca
SUMMARY:101966 _ OFFICIEL
DESCRIPTION:
URL:https://clubdetirsaint-tite.ca/event/101966-_-officiel-5/
CATEGORIES:PRÉSENCES
END:VEVENT
BEGIN:VEVENT
DTSTART;TZID=America/Toronto:20250929T130000
DTEND;TZID=America/Toronto:20250929T160000
DTSTAMP:20260422T185802
CREATED:20250810T012635Z
LAST-MODIFIED:20250810T012635Z
UID:10003755-1759150800-1759161600@clubdetirsaint-tite.ca
SUMMARY:OFFICIEL
DESCRIPTION:tir libre \nand-jas
URL:https://clubdetirsaint-tite.ca/event/officiel-104/
LOCATION:Club de Tir Saint-Tite\, 35 QC-153\, Saint-Tite\, Quebec\, G0X 3H0\, Canada
END:VEVENT
BEGIN:VEVENT
DTSTART;TZID=America/Toronto:20250929T125700
DTEND;TZID=America/Toronto:20250929T160000
DTSTAMP:20260422T185802
CREATED:20251019T215651Z
LAST-MODIFIED:20251019T215651Z
UID:10004108-1759150620-1759161600@clubdetirsaint-tite.ca
SUMMARY:100548 _ OFFICIEL
DESCRIPTION:
URL:https://clubdetirsaint-tite.ca/event/100548-_-officiel-55/
CATEGORIES:PRÉSENCES
END:VEVENT
BEGIN:VEVENT
DTSTART;TZID=America/Toronto:20250928T095900
DTEND;TZID=America/Toronto:20250928T112500
DTSTAMP:20260422T185802
CREATED:20251019T215636Z
LAST-MODIFIED:20251019T215636Z
UID:10004103-1759053540-1759058700@clubdetirsaint-tite.ca
SUMMARY:101154 _ TIREUR
DESCRIPTION:
URL:https://clubdetirsaint-tite.ca/event/101154-_-tireur-9/
CATEGORIES:PRÉSENCES
END:VEVENT
END:VCALENDAR