BEGIN:VCALENDAR
VERSION:2.0
PRODID:-//Club de Tir Saint-Tite - ECPv6.15.20//NONSGML v1.0//EN
CALSCALE:GREGORIAN
METHOD:PUBLISH
X-WR-CALNAME:Club de Tir Saint-Tite
X-ORIGINAL-URL:https://clubdetirsaint-tite.ca
X-WR-CALDESC:Évènements pour Club de Tir Saint-Tite
REFRESH-INTERVAL;VALUE=DURATION:PT1H
X-Robots-Tag:noindex
X-PUBLISHED-TTL:PT1H
BEGIN:VTIMEZONE
TZID:America/Toronto
BEGIN:DAYLIGHT
TZOFFSETFROM:-0500
TZOFFSETTO:-0400
TZNAME:EDT
DTSTART:20240310T070000
END:DAYLIGHT
BEGIN:STANDARD
TZOFFSETFROM:-0400
TZOFFSETTO:-0500
TZNAME:EST
DTSTART:20241103T060000
END:STANDARD
BEGIN:DAYLIGHT
TZOFFSETFROM:-0500
TZOFFSETTO:-0400
TZNAME:EDT
DTSTART:20250309T070000
END:DAYLIGHT
BEGIN:STANDARD
TZOFFSETFROM:-0400
TZOFFSETTO:-0500
TZNAME:EST
DTSTART:20251102T060000
END:STANDARD
BEGIN:DAYLIGHT
TZOFFSETFROM:-0500
TZOFFSETTO:-0400
TZNAME:EDT
DTSTART:20260308T070000
END:DAYLIGHT
BEGIN:STANDARD
TZOFFSETFROM:-0400
TZOFFSETTO:-0500
TZNAME:EST
DTSTART:20261101T060000
END:STANDARD
END:VTIMEZONE
BEGIN:VEVENT
DTSTART;TZID=America/Toronto:20250723T135100
DTEND;TZID=America/Toronto:20250723T151700
DTSTAMP:20260422T051728
CREATED:20250801T031343Z
LAST-MODIFIED:20250801T031343Z
UID:10003731-1753278660-1753283820@clubdetirsaint-tite.ca
SUMMARY:102205 _ TIREUR
DESCRIPTION:
URL:https://clubdetirsaint-tite.ca/event/102205-_-tireur-16/
CATEGORIES:PRÉSENCES
END:VEVENT
BEGIN:VEVENT
DTSTART;TZID=America/Toronto:20250723T140400
DTEND;TZID=America/Toronto:20250723T152300
DTSTAMP:20260422T051728
CREATED:20250801T031357Z
LAST-MODIFIED:20250801T031357Z
UID:10003732-1753279440-1753284180@clubdetirsaint-tite.ca
SUMMARY:100118 _ TIREUR
DESCRIPTION:
URL:https://clubdetirsaint-tite.ca/event/100118-_-tireur-49/
CATEGORIES:PRÉSENCES
END:VEVENT
BEGIN:VEVENT
DTSTART;TZID=America/Toronto:20250723T141600
DTEND;TZID=America/Toronto:20250723T153000
DTSTAMP:20260422T051728
CREATED:20250801T031357Z
LAST-MODIFIED:20250801T031357Z
UID:10003733-1753280160-1753284600@clubdetirsaint-tite.ca
SUMMARY:101154 _ TIREUR
DESCRIPTION:
URL:https://clubdetirsaint-tite.ca/event/101154-_-tireur-7/
CATEGORIES:PRÉSENCES
END:VEVENT
BEGIN:VEVENT
DTSTART;TZID=America/Toronto:20250723T154100
DTEND;TZID=America/Toronto:20250723T161700
DTSTAMP:20260422T051728
CREATED:20250801T031357Z
LAST-MODIFIED:20250801T031357Z
UID:10003734-1753285260-1753287420@clubdetirsaint-tite.ca
SUMMARY:101707 _ TIREUR
DESCRIPTION:
URL:https://clubdetirsaint-tite.ca/event/101707-_-tireur-5/
CATEGORIES:PRÉSENCES
END:VEVENT
BEGIN:VEVENT
DTSTART;TZID=America/Toronto:20250723T180000
DTEND;TZID=America/Toronto:20250723T190000
DTSTAMP:20260422T051728
CREATED:20250621T105939Z
LAST-MODIFIED:20250621T105939Z
UID:10003519-1753293600-1753297200@clubdetirsaint-tite.ca
SUMMARY:Session accueil
DESCRIPTION:Session accueil
URL:https://clubdetirsaint-tite.ca/event/session-accueil-11/
LOCATION:Club de Tir Saint-Tite\, 35 QC-153\, Saint-Tite\, Quebec\, G0X 3H0\, Canada
END:VEVENT
BEGIN:VEVENT
DTSTART;TZID=America/Toronto:20250724T181500
DTEND;TZID=America/Toronto:20250724T205100
DTSTAMP:20260422T051728
CREATED:20250801T031412Z
LAST-MODIFIED:20250801T031412Z
UID:10003739-1753380900-1753390260@clubdetirsaint-tite.ca
SUMMARY:102608 _ OFFICIEL
DESCRIPTION:
URL:https://clubdetirsaint-tite.ca/event/102608-_-officiel-22/
CATEGORIES:PRÉSENCES
END:VEVENT
BEGIN:VEVENT
DTSTART;TZID=America/Toronto:20250724T181600
DTEND;TZID=America/Toronto:20250724T203400
DTSTAMP:20260422T051728
CREATED:20250801T031358Z
LAST-MODIFIED:20250801T031358Z
UID:10003736-1753380960-1753389240@clubdetirsaint-tite.ca
SUMMARY:100818 _ TIREUR
DESCRIPTION:
URL:https://clubdetirsaint-tite.ca/event/100818-_-tireur-12/
CATEGORIES:PRÉSENCES
END:VEVENT
BEGIN:VEVENT
DTSTART;TZID=America/Toronto:20250724T181800
DTEND;TZID=America/Toronto:20250724T205000
DTSTAMP:20260422T051728
CREATED:20250801T031412Z
LAST-MODIFIED:20250801T031412Z
UID:10003737-1753381080-1753390200@clubdetirsaint-tite.ca
SUMMARY:102872 _ TIREUR
DESCRIPTION:
URL:https://clubdetirsaint-tite.ca/event/102872-_-tireur-4/
CATEGORIES:PRÉSENCES
END:VEVENT
BEGIN:VEVENT
DTSTART;TZID=America/Toronto:20250724T181900
DTEND;TZID=America/Toronto:20250724T205100
DTSTAMP:20260422T051728
CREATED:20250801T031412Z
LAST-MODIFIED:20250801T031412Z
UID:10003738-1753381140-1753390260@clubdetirsaint-tite.ca
SUMMARY:102616 _ TIREUR
DESCRIPTION:
URL:https://clubdetirsaint-tite.ca/event/102616-_-tireur-15/
CATEGORIES:PRÉSENCES
END:VEVENT
BEGIN:VEVENT
DTSTART;VALUE=DATE:20250725
DTEND;VALUE=DATE:20250727
DTSTAMP:20260422T051728
CREATED:20250412T215926Z
LAST-MODIFIED:20250712T015943Z
UID:10002952-1753401600-1753574399@clubdetirsaint-tite.ca
SUMMARY:Match IPSC
DESCRIPTION:Match ipsc sur les deux pas de tir restreint.. besoin d’aide pour le montage. (Vendredi)
URL:https://clubdetirsaint-tite.ca/event/match-ipsc/
LOCATION:Club de Tir Saint-Tite\, 35 QC-153\, Saint-Tite\, Quebec\, G0X 3H0\, Canada
END:VEVENT
BEGIN:VEVENT
DTSTART;TZID=America/Toronto:20250725T093700
DTEND;TZID=America/Toronto:20250725T175800
DTSTAMP:20260422T051728
CREATED:20250801T031413Z
LAST-MODIFIED:20250801T031413Z
UID:10003740-1753436220-1753466280@clubdetirsaint-tite.ca
SUMMARY:101028 _ OFFICIEL
DESCRIPTION:
URL:https://clubdetirsaint-tite.ca/event/101028-_-officiel-5/
CATEGORIES:PRÉSENCES
END:VEVENT
BEGIN:VEVENT
DTSTART;TZID=America/Toronto:20250725T161800
DTEND;TZID=America/Toronto:20250725T175800
DTSTAMP:20260422T051728
CREATED:20250801T031413Z
LAST-MODIFIED:20250801T031413Z
UID:10003741-1753460280-1753466280@clubdetirsaint-tite.ca
SUMMARY:102693 _ TIREUR
DESCRIPTION:
URL:https://clubdetirsaint-tite.ca/event/102693-_-tireur-7/
CATEGORIES:PRÉSENCES
END:VEVENT
BEGIN:VEVENT
DTSTART;TZID=America/Toronto:20250726T073600
DTEND;TZID=America/Toronto:20250726T165900
DTSTAMP:20260422T051728
CREATED:20250901T015117Z
LAST-MODIFIED:20250901T015117Z
UID:10003780-1753515360-1753549140@clubdetirsaint-tite.ca
SUMMARY:101028 _ OFFICIEL
DESCRIPTION:
URL:https://clubdetirsaint-tite.ca/event/101028-_-officiel-6/
CATEGORIES:PRÉSENCES
END:VEVENT
BEGIN:VEVENT
DTSTART;TZID=America/Toronto:20250726T073800
DTEND;TZID=America/Toronto:20250727T093800
DTSTAMP:20260422T051728
CREATED:20250901T015117Z
LAST-MODIFIED:20250901T015117Z
UID:10003781-1753515480-1753609080@clubdetirsaint-tite.ca
SUMMARY:102872 _ TIREUR
DESCRIPTION:
URL:https://clubdetirsaint-tite.ca/event/102872-_-tireur-5/
CATEGORIES:PRÉSENCES
END:VEVENT
BEGIN:VEVENT
DTSTART;TZID=America/Toronto:20250726T103100
DTEND;TZID=America/Toronto:20250726T103200
DTSTAMP:20260422T051728
CREATED:20250901T015116Z
LAST-MODIFIED:20250901T015116Z
UID:10003777-1753525860-1753525920@clubdetirsaint-tite.ca
SUMMARY:101874 _ OFFICIEL
DESCRIPTION:
URL:https://clubdetirsaint-tite.ca/event/101874-_-officiel-10/
CATEGORIES:PRÉSENCES
END:VEVENT
BEGIN:VEVENT
DTSTART;TZID=America/Toronto:20250726T103300
DTEND;TZID=America/Toronto:20250726T135500
DTSTAMP:20260422T051728
CREATED:20250901T015116Z
LAST-MODIFIED:20250901T015116Z
UID:10003778-1753525980-1753538100@clubdetirsaint-tite.ca
SUMMARY:101874 _ TIREUR
DESCRIPTION:
URL:https://clubdetirsaint-tite.ca/event/101874-_-tireur-3/
CATEGORIES:PRÉSENCES
END:VEVENT
BEGIN:VEVENT
DTSTART;TZID=America/Toronto:20250726T103700
DTEND;TZID=America/Toronto:20250727T093900
DTSTAMP:20260422T051728
CREATED:20250901T015119Z
LAST-MODIFIED:20250901T015119Z
UID:10003782-1753526220-1753609140@clubdetirsaint-tite.ca
SUMMARY:102616 _ TIREUR
DESCRIPTION:
URL:https://clubdetirsaint-tite.ca/event/102616-_-tireur-16/
CATEGORIES:PRÉSENCES
END:VEVENT
BEGIN:VEVENT
DTSTART;TZID=America/Toronto:20250726T113000
DTEND;TZID=America/Toronto:20250726T163100
DTSTAMP:20260422T051728
CREATED:20250901T015117Z
LAST-MODIFIED:20250901T015117Z
UID:10003779-1753529400-1753547460@clubdetirsaint-tite.ca
SUMMARY:100818 _ TIREUR
DESCRIPTION:
URL:https://clubdetirsaint-tite.ca/event/100818-_-tireur-13/
CATEGORIES:PRÉSENCES
END:VEVENT
BEGIN:VEVENT
DTSTART;TZID=America/Toronto:20250727T093900
DTEND;TZID=America/Toronto:20250727T111400
DTSTAMP:20260422T051728
CREATED:20250901T015119Z
LAST-MODIFIED:20250901T015119Z
UID:10003783-1753609140-1753614840@clubdetirsaint-tite.ca
SUMMARY:101713 _ OFFICIEL
DESCRIPTION:
URL:https://clubdetirsaint-tite.ca/event/101713-_-officiel-51/
CATEGORIES:PRÉSENCES
END:VEVENT
BEGIN:VEVENT
DTSTART;TZID=America/Toronto:20250727T093900
DTEND;TZID=America/Toronto:20250727T111400
DTSTAMP:20260422T051728
CREATED:20250901T015119Z
LAST-MODIFIED:20250901T015119Z
UID:10003784-1753609140-1753614840@clubdetirsaint-tite.ca
SUMMARY:102843 _ TIREUR
DESCRIPTION:
URL:https://clubdetirsaint-tite.ca/event/102843-_-tireur/
CATEGORIES:PRÉSENCES
END:VEVENT
BEGIN:VEVENT
DTSTART;TZID=America/Toronto:20250727T095200
DTEND;TZID=America/Toronto:20250727T113100
DTSTAMP:20260422T051728
CREATED:20250901T015134Z
LAST-MODIFIED:20250901T015134Z
UID:10003788-1753609920-1753615860@clubdetirsaint-tite.ca
SUMMARY:100849 _ TIREUR
DESCRIPTION:
URL:https://clubdetirsaint-tite.ca/event/100849-_-tireur-2/
CATEGORIES:PRÉSENCES
END:VEVENT
BEGIN:VEVENT
DTSTART;TZID=America/Toronto:20250727T095300
DTEND;TZID=America/Toronto:20250727T113100
DTSTAMP:20260422T051728
CREATED:20250901T015134Z
LAST-MODIFIED:20250901T015134Z
UID:10003787-1753609980-1753615860@clubdetirsaint-tite.ca
SUMMARY:100850 _ OFFICIEL
DESCRIPTION:
URL:https://clubdetirsaint-tite.ca/event/100850-_-officiel-3/
CATEGORIES:PRÉSENCES
END:VEVENT
BEGIN:VEVENT
DTSTART;TZID=America/Toronto:20250727T100000
DTEND;TZID=America/Toronto:20250727T110000
DTSTAMP:20260422T051728
CREATED:20250725T200302Z
LAST-MODIFIED:20250725T200302Z
UID:10003551-1753610400-1753614000@clubdetirsaint-tite.ca
SUMMARY:Session accueil
DESCRIPTION:Session accueil
URL:https://clubdetirsaint-tite.ca/event/session-accueil-15/
LOCATION:Club de Tir Saint-Tite\, 35 QC-153\, Saint-Tite\, Quebec\, G0X 3H0\, Canada
END:VEVENT
BEGIN:VEVENT
DTSTART;TZID=America/Toronto:20250727T100000
DTEND;TZID=America/Toronto:20250727T112900
DTSTAMP:20260422T051728
CREATED:20250901T015120Z
LAST-MODIFIED:20250901T015120Z
UID:10003785-1753610400-1753615740@clubdetirsaint-tite.ca
SUMMARY:101154 _ TIREUR
DESCRIPTION:
URL:https://clubdetirsaint-tite.ca/event/101154-_-tireur-8/
CATEGORIES:PRÉSENCES
END:VEVENT
BEGIN:VEVENT
DTSTART;TZID=America/Toronto:20250727T111300
DTEND;TZID=America/Toronto:20250727T113000
DTSTAMP:20260422T051728
CREATED:20250901T015120Z
LAST-MODIFIED:20250901T015120Z
UID:10003786-1753614780-1753615800@clubdetirsaint-tite.ca
SUMMARY:101710 _ OFFICIEL
DESCRIPTION:
URL:https://clubdetirsaint-tite.ca/event/101710-_-officiel/
CATEGORIES:PRÉSENCES
END:VEVENT
BEGIN:VEVENT
DTSTART;TZID=America/Toronto:20250727T115700
DTEND;TZID=America/Toronto:20250727T142600
DTSTAMP:20260422T051728
CREATED:20250901T015135Z
LAST-MODIFIED:20250901T015135Z
UID:10003791-1753617420-1753626360@clubdetirsaint-tite.ca
SUMMARY:102608 _ OFFICIEL
DESCRIPTION:
URL:https://clubdetirsaint-tite.ca/event/102608-_-officiel-23/
CATEGORIES:PRÉSENCES
END:VEVENT
BEGIN:VEVENT
DTSTART;TZID=America/Toronto:20250727T115800
DTEND;TZID=America/Toronto:20250727T142600
DTSTAMP:20260422T051728
CREATED:20250901T015135Z
LAST-MODIFIED:20250901T015135Z
UID:10003789-1753617480-1753626360@clubdetirsaint-tite.ca
SUMMARY:102609 _ TIREUR
DESCRIPTION:
URL:https://clubdetirsaint-tite.ca/event/102609-_-tireur-7/
CATEGORIES:PRÉSENCES
END:VEVENT
BEGIN:VEVENT
DTSTART;TZID=America/Toronto:20250727T121700
DTEND;TZID=America/Toronto:20250727T142600
DTSTAMP:20260422T051728
CREATED:20250901T015135Z
LAST-MODIFIED:20250901T015135Z
UID:10003790-1753618620-1753626360@clubdetirsaint-tite.ca
SUMMARY:102616 _ TIREUR
DESCRIPTION:
URL:https://clubdetirsaint-tite.ca/event/102616-_-tireur-17/
CATEGORIES:PRÉSENCES
END:VEVENT
BEGIN:VEVENT
DTSTART;TZID=America/Toronto:20250728T130000
DTEND;TZID=America/Toronto:20250728T160000
DTSTAMP:20260422T051728
CREATED:20250623T022229Z
LAST-MODIFIED:20250623T022229Z
UID:10003527-1753707600-1753718400@clubdetirsaint-tite.ca
SUMMARY:OFFICIEL
DESCRIPTION:tir libre \nand-jas
URL:https://clubdetirsaint-tite.ca/event/officiel-93/
LOCATION:Club de Tir Saint-Tite\, 35 QC-153\, Saint-Tite\, Quebec\, G0X 3H0\, Canada
END:VEVENT
BEGIN:VEVENT
DTSTART;TZID=America/Toronto:20250728T130200
DTEND;TZID=America/Toronto:20250728T161800
DTSTAMP:20260422T051728
CREATED:20250901T015254Z
LAST-MODIFIED:20250901T015254Z
UID:10003797-1753707720-1753719480@clubdetirsaint-tite.ca
SUMMARY:100548 _ OFFICIEL
DESCRIPTION:
URL:https://clubdetirsaint-tite.ca/event/100548-_-officiel-48/
CATEGORIES:PRÉSENCES
END:VEVENT
END:VCALENDAR