BEGIN:VCALENDAR
VERSION:2.0
PRODID:-//Club de Tir Saint-Tite - ECPv6.15.20//NONSGML v1.0//EN
CALSCALE:GREGORIAN
METHOD:PUBLISH
X-WR-CALNAME:Club de Tir Saint-Tite
X-ORIGINAL-URL:https://clubdetirsaint-tite.ca
X-WR-CALDESC:Évènements pour Club de Tir Saint-Tite
REFRESH-INTERVAL;VALUE=DURATION:PT1H
X-Robots-Tag:noindex
X-PUBLISHED-TTL:PT1H
BEGIN:VTIMEZONE
TZID:America/Toronto
BEGIN:DAYLIGHT
TZOFFSETFROM:-0500
TZOFFSETTO:-0400
TZNAME:EDT
DTSTART:20240310T070000
END:DAYLIGHT
BEGIN:STANDARD
TZOFFSETFROM:-0400
TZOFFSETTO:-0500
TZNAME:EST
DTSTART:20241103T060000
END:STANDARD
BEGIN:DAYLIGHT
TZOFFSETFROM:-0500
TZOFFSETTO:-0400
TZNAME:EDT
DTSTART:20250309T070000
END:DAYLIGHT
BEGIN:STANDARD
TZOFFSETFROM:-0400
TZOFFSETTO:-0500
TZNAME:EST
DTSTART:20251102T060000
END:STANDARD
BEGIN:DAYLIGHT
TZOFFSETFROM:-0500
TZOFFSETTO:-0400
TZNAME:EDT
DTSTART:20260308T070000
END:DAYLIGHT
BEGIN:STANDARD
TZOFFSETFROM:-0400
TZOFFSETTO:-0500
TZNAME:EST
DTSTART:20261101T060000
END:STANDARD
END:VTIMEZONE
BEGIN:VEVENT
DTSTART;TZID=America/Toronto:20250924T131300
DTEND;TZID=America/Toronto:20250924T135100
DTSTAMP:20260422T185801
CREATED:20251019T215521Z
LAST-MODIFIED:20251019T215521Z
UID:10004076-1758719580-1758721860@clubdetirsaint-tite.ca
SUMMARY:102614 _ TIREUR
DESCRIPTION:
URL:https://clubdetirsaint-tite.ca/event/102614-_-tireur-2/
CATEGORIES:PRÉSENCES
END:VEVENT
BEGIN:VEVENT
DTSTART;TZID=America/Toronto:20250924T131000
DTEND;TZID=America/Toronto:20250924T135100
DTSTAMP:20260422T185801
CREATED:20251019T215521Z
LAST-MODIFIED:20251019T215521Z
UID:10004075-1758719400-1758721860@clubdetirsaint-tite.ca
SUMMARY:102505 _ TIREUR
DESCRIPTION:
URL:https://clubdetirsaint-tite.ca/event/102505-_-tireur/
CATEGORIES:PRÉSENCES
END:VEVENT
BEGIN:VEVENT
DTSTART;TZID=America/Toronto:20250924T130000
DTEND;TZID=America/Toronto:20250924T160000
DTSTAMP:20260422T185801
CREATED:20250810T012532Z
LAST-MODIFIED:20250810T012532Z
UID:10003754-1758718800-1758729600@clubdetirsaint-tite.ca
SUMMARY:OFFICIEL
DESCRIPTION:tir libre \nand-jas
URL:https://clubdetirsaint-tite.ca/event/officiel-103/
LOCATION:Club de Tir Saint-Tite\, 35 QC-153\, Saint-Tite\, Quebec\, G0X 3H0\, Canada
END:VEVENT
BEGIN:VEVENT
DTSTART;TZID=America/Toronto:20250924T125800
DTEND;TZID=America/Toronto:20250924T151900
DTSTAMP:20260422T185801
CREATED:20251019T215535Z
LAST-MODIFIED:20251019T215535Z
UID:10004079-1758718680-1758727140@clubdetirsaint-tite.ca
SUMMARY:100137 _ TIREUR
DESCRIPTION:
URL:https://clubdetirsaint-tite.ca/event/100137-_-tireur-21/
CATEGORIES:PRÉSENCES
END:VEVENT
BEGIN:VEVENT
DTSTART;TZID=America/Toronto:20250924T125600
DTEND;TZID=America/Toronto:20250924T161600
DTSTAMP:20260422T185801
CREATED:20251019T215536Z
LAST-MODIFIED:20251019T215536Z
UID:10004083-1758718560-1758730560@clubdetirsaint-tite.ca
SUMMARY:100549 _ OFFICIEL
DESCRIPTION:
URL:https://clubdetirsaint-tite.ca/event/100549-_-officiel-69/
CATEGORIES:PRÉSENCES
END:VEVENT
BEGIN:VEVENT
DTSTART;TZID=America/Toronto:20250924T101600
DTEND;TZID=America/Toronto:20250924T105000
DTSTAMP:20260422T185801
CREATED:20251019T215506Z
LAST-MODIFIED:20251019T215506Z
UID:10004073-1758708960-1758711000@clubdetirsaint-tite.ca
SUMMARY:100347 _ TIREUR
DESCRIPTION:
URL:https://clubdetirsaint-tite.ca/event/100347-_-tireur-3/
CATEGORIES:PRÉSENCES
END:VEVENT
BEGIN:VEVENT
DTSTART;TZID=America/Toronto:20250924T101500
DTEND;TZID=America/Toronto:20250924T105000
DTSTAMP:20260422T185801
CREATED:20251019T215520Z
LAST-MODIFIED:20251019T215520Z
UID:10004074-1758708900-1758711000@clubdetirsaint-tite.ca
SUMMARY:100008 _ OFFICIEL
DESCRIPTION:
URL:https://clubdetirsaint-tite.ca/event/100008-_-officiel-62/
CATEGORIES:PRÉSENCES
END:VEVENT
BEGIN:VEVENT
DTSTART;TZID=America/Toronto:20250922T154800
DTEND;TZID=America/Toronto:20250922T161100
DTSTAMP:20260422T185802
CREATED:20251019T215506Z
LAST-MODIFIED:20251019T215506Z
UID:10004071-1758556080-1758557460@clubdetirsaint-tite.ca
SUMMARY:100079 _ TIREUR
DESCRIPTION:
URL:https://clubdetirsaint-tite.ca/event/100079-_-tireur-2/
CATEGORIES:PRÉSENCES
END:VEVENT
BEGIN:VEVENT
DTSTART;TZID=America/Toronto:20250922T154700
DTEND;TZID=America/Toronto:20250922T154700
DTSTAMP:20260422T185802
CREATED:20251019T215505Z
LAST-MODIFIED:20251019T215505Z
UID:10004069-1758556020-1758556020@clubdetirsaint-tite.ca
SUMMARY:100079 _ OFFICIEL
DESCRIPTION:
URL:https://clubdetirsaint-tite.ca/event/100079-_-officiel/
CATEGORIES:PRÉSENCES
END:VEVENT
BEGIN:VEVENT
DTSTART;TZID=America/Toronto:20250922T145800
DTEND;TZID=America/Toronto:20250922T152600
DTSTAMP:20260422T185802
CREATED:20251019T215451Z
LAST-MODIFIED:20251019T215451Z
UID:10004068-1758553080-1758554760@clubdetirsaint-tite.ca
SUMMARY:101467 _ TIREUR
DESCRIPTION:
URL:https://clubdetirsaint-tite.ca/event/101467-_-tireur-8/
CATEGORIES:PRÉSENCES
END:VEVENT
BEGIN:VEVENT
DTSTART;TZID=America/Toronto:20250922T142700
DTEND;TZID=America/Toronto:20250922T160800
DTSTAMP:20260422T185802
CREATED:20251019T215506Z
LAST-MODIFIED:20251019T215506Z
UID:10004070-1758551220-1758557280@clubdetirsaint-tite.ca
SUMMARY:101402 _ TIREUR
DESCRIPTION:
URL:https://clubdetirsaint-tite.ca/event/101402-_-tireur-2/
CATEGORIES:PRÉSENCES
END:VEVENT
BEGIN:VEVENT
DTSTART;TZID=America/Toronto:20250922T140200
DTEND;TZID=America/Toronto:20250922T150400
DTSTAMP:20260422T185802
CREATED:20251019T215451Z
LAST-MODIFIED:20251019T215451Z
UID:10004067-1758549720-1758553440@clubdetirsaint-tite.ca
SUMMARY:101598 _ TIREUR
DESCRIPTION:
URL:https://clubdetirsaint-tite.ca/event/101598-_-tireur-6/
CATEGORIES:PRÉSENCES
END:VEVENT
BEGIN:VEVENT
DTSTART;TZID=America/Toronto:20250922T131300
DTEND;TZID=America/Toronto:20250922T161100
DTSTAMP:20260422T185802
CREATED:20251019T215506Z
LAST-MODIFIED:20251019T215506Z
UID:10004072-1758546780-1758557460@clubdetirsaint-tite.ca
SUMMARY:100549 _ OFFICIEL
DESCRIPTION:
URL:https://clubdetirsaint-tite.ca/event/100549-_-officiel-68/
CATEGORIES:PRÉSENCES
END:VEVENT
BEGIN:VEVENT
DTSTART;TZID=America/Toronto:20250922T130000
DTEND;TZID=America/Toronto:20250922T160000
DTSTAMP:20260422T185802
CREATED:20250810T012504Z
LAST-MODIFIED:20250810T012504Z
UID:10003753-1758546000-1758556800@clubdetirsaint-tite.ca
SUMMARY:OFFICIEL
DESCRIPTION:tir libre \nand-jas
URL:https://clubdetirsaint-tite.ca/event/officiel-102/
LOCATION:Club de Tir Saint-Tite\, 35 QC-153\, Saint-Tite\, Quebec\, G0X 3H0\, Canada
END:VEVENT
BEGIN:VEVENT
DTSTART;TZID=America/Toronto:20250921T124900
DTEND;TZID=America/Toronto:20250921T154200
DTSTAMP:20260422T185802
CREATED:20251019T215451Z
LAST-MODIFIED:20251019T215451Z
UID:10004065-1758458940-1758469320@clubdetirsaint-tite.ca
SUMMARY:102608 _ TIREUR
DESCRIPTION:
URL:https://clubdetirsaint-tite.ca/event/102608-_-tireur-26/
CATEGORIES:PRÉSENCES
END:VEVENT
BEGIN:VEVENT
DTSTART;TZID=America/Toronto:20250921T124900
DTEND;TZID=America/Toronto:20250921T154200
DTSTAMP:20260422T185802
CREATED:20251019T215450Z
LAST-MODIFIED:20251019T215450Z
UID:10004064-1758458940-1758469320@clubdetirsaint-tite.ca
SUMMARY:102609 _ TIREUR
DESCRIPTION:
URL:https://clubdetirsaint-tite.ca/event/102609-_-tireur-13/
CATEGORIES:PRÉSENCES
END:VEVENT
BEGIN:VEVENT
DTSTART;TZID=America/Toronto:20250921T124800
DTEND;TZID=America/Toronto:20250921T154200
DTSTAMP:20260422T185802
CREATED:20251019T215451Z
LAST-MODIFIED:20251019T215451Z
UID:10004066-1758458880-1758469320@clubdetirsaint-tite.ca
SUMMARY:102693 _ OFFICIEL
DESCRIPTION:
URL:https://clubdetirsaint-tite.ca/event/102693-_-officiel-4/
CATEGORIES:PRÉSENCES
END:VEVENT
BEGIN:VEVENT
DTSTART;TZID=America/Toronto:20250921T093000
DTEND;TZID=America/Toronto:20250921T110000
DTSTAMP:20260422T185802
CREATED:20250921T204647Z
LAST-MODIFIED:20250921T204647Z
UID:10003939-1758447000-1758452400@clubdetirsaint-tite.ca
SUMMARY:Officiel 100802
DESCRIPTION:Officiel
URL:https://clubdetirsaint-tite.ca/event/officiel-100802/
LOCATION:Club de Tir Saint-Tite\, 35 QC-153\, Saint-Tite\, Quebec\, G0X 3H0\, Canada
END:VEVENT
BEGIN:VEVENT
DTSTART;TZID=America/Toronto:20250920T103600
DTEND;TZID=America/Toronto:20250920T113900
DTSTAMP:20260422T185802
CREATED:20251019T215436Z
LAST-MODIFIED:20251019T215436Z
UID:10004063-1758364560-1758368340@clubdetirsaint-tite.ca
SUMMARY:101031 _ TIREUR
DESCRIPTION:
URL:https://clubdetirsaint-tite.ca/event/101031-_-tireur-18/
CATEGORIES:PRÉSENCES
END:VEVENT
BEGIN:VEVENT
DTSTART;TZID=America/Toronto:20250920T095000
DTEND;TZID=America/Toronto:20250920T113900
DTSTAMP:20260422T185802
CREATED:20251019T215436Z
LAST-MODIFIED:20251019T215436Z
UID:10004062-1758361800-1758368340@clubdetirsaint-tite.ca
SUMMARY:100706 _ OFFICIEL
DESCRIPTION:
URL:https://clubdetirsaint-tite.ca/event/100706-_-officiel-18/
CATEGORIES:PRÉSENCES
END:VEVENT
BEGIN:VEVENT
DTSTART;TZID=America/Toronto:20250918T182200
DTEND;TZID=America/Toronto:20250918T191000
DTSTAMP:20260422T185802
CREATED:20251019T215436Z
LAST-MODIFIED:20251019T215436Z
UID:10004060-1758219720-1758222600@clubdetirsaint-tite.ca
SUMMARY:102040 _ TIREUR
DESCRIPTION:
URL:https://clubdetirsaint-tite.ca/event/102040-_-tireur-3/
CATEGORIES:PRÉSENCES
END:VEVENT
BEGIN:VEVENT
DTSTART;TZID=America/Toronto:20250918T180000
DTEND;TZID=America/Toronto:20250918T193000
DTSTAMP:20260422T185802
CREATED:20250917T200021Z
LAST-MODIFIED:20250917T200021Z
UID:10003936-1758218400-1758223800@clubdetirsaint-tite.ca
SUMMARY:OFFICIEL
DESCRIPTION:101091
URL:https://clubdetirsaint-tite.ca/event/officiel-4/
LOCATION:Club de Tir Saint-Tite\, 35 QC-153\, Saint-Tite\, Quebec\, G0X 3H0\, Canada
END:VEVENT
BEGIN:VEVENT
DTSTART;TZID=America/Toronto:20250918T173800
DTEND;TZID=America/Toronto:20250918T191000
DTSTAMP:20260422T185802
CREATED:20251019T215436Z
LAST-MODIFIED:20251019T215436Z
UID:10004061-1758217080-1758222600@clubdetirsaint-tite.ca
SUMMARY:101091 _ OFFICIEL
DESCRIPTION:
URL:https://clubdetirsaint-tite.ca/event/101091-_-officiel/
CATEGORIES:PRÉSENCES
END:VEVENT
BEGIN:VEVENT
DTSTART;TZID=America/Toronto:20250918T124200
DTEND;TZID=America/Toronto:20250918T131500
DTSTAMP:20260422T185802
CREATED:20251019T215421Z
LAST-MODIFIED:20251019T215421Z
UID:10004057-1758199320-1758201300@clubdetirsaint-tite.ca
SUMMARY:100724 _ TIREUR
DESCRIPTION:
URL:https://clubdetirsaint-tite.ca/event/100724-_-tireur-19/
CATEGORIES:PRÉSENCES
END:VEVENT
BEGIN:VEVENT
DTSTART;TZID=America/Toronto:20250918T122100
DTEND;TZID=America/Toronto:20250918T131700
DTSTAMP:20260422T185802
CREATED:20251019T215421Z
LAST-MODIFIED:20251019T215421Z
UID:10004058-1758198060-1758201420@clubdetirsaint-tite.ca
SUMMARY:101991 _ TIREUR
DESCRIPTION:
URL:https://clubdetirsaint-tite.ca/event/101991-_-tireur-7/
CATEGORIES:PRÉSENCES
END:VEVENT
BEGIN:VEVENT
DTSTART;TZID=America/Toronto:20250918T122000
DTEND;TZID=America/Toronto:20250918T131700
DTSTAMP:20260422T185802
CREATED:20251019T215435Z
LAST-MODIFIED:20251019T215435Z
UID:10004059-1758198000-1758201420@clubdetirsaint-tite.ca
SUMMARY:101992 _ OFFICIEL
DESCRIPTION:
URL:https://clubdetirsaint-tite.ca/event/101992-_-officiel-6/
CATEGORIES:PRÉSENCES
END:VEVENT
BEGIN:VEVENT
DTSTART;TZID=America/Toronto:20250918T110200
DTEND;TZID=America/Toronto:20250918T122000
DTSTAMP:20260422T185802
CREATED:20251019T215421Z
LAST-MODIFIED:20251019T215421Z
UID:10004055-1758193320-1758198000@clubdetirsaint-tite.ca
SUMMARY:101992 _ TIREUR
DESCRIPTION:
URL:https://clubdetirsaint-tite.ca/event/101992-_-tireur-10/
CATEGORIES:PRÉSENCES
END:VEVENT
BEGIN:VEVENT
DTSTART;TZID=America/Toronto:20250918T110100
DTEND;TZID=America/Toronto:20250918T122000
DTSTAMP:20260422T185802
CREATED:20251019T215421Z
LAST-MODIFIED:20251019T215421Z
UID:10004056-1758193260-1758198000@clubdetirsaint-tite.ca
SUMMARY:101991 _ OFFICIEL
DESCRIPTION:
URL:https://clubdetirsaint-tite.ca/event/101991-_-officiel-4/
CATEGORIES:PRÉSENCES
END:VEVENT
BEGIN:VEVENT
DTSTART;TZID=America/Toronto:20250917T180000
DTEND;TZID=America/Toronto:20250917T190000
DTSTAMP:20260422T185802
CREATED:20250825T165424Z
LAST-MODIFIED:20250825T165424Z
UID:10003774-1758132000-1758135600@clubdetirsaint-tite.ca
SUMMARY:Session accueil
DESCRIPTION:Session accueil
URL:https://clubdetirsaint-tite.ca/event/session-accueil-22/
LOCATION:Club de Tir Saint-Tite\, 35 QC-153\, Saint-Tite\, Quebec\, G0X 3H0\, Canada
END:VEVENT
BEGIN:VEVENT
DTSTART;TZID=America/Toronto:20250917T144500
DTEND;TZID=America/Toronto:20250917T160400
DTSTAMP:20260422T185802
CREATED:20251019T215406Z
LAST-MODIFIED:20251019T215406Z
UID:10004053-1758120300-1758125040@clubdetirsaint-tite.ca
SUMMARY:101091 _ TIREUR
DESCRIPTION:
URL:https://clubdetirsaint-tite.ca/event/101091-_-tireur-3/
CATEGORIES:PRÉSENCES
END:VEVENT
END:VCALENDAR