BEGIN:VCALENDAR
VERSION:2.0
PRODID:-//Club de Tir Saint-Tite - ECPv6.15.20//NONSGML v1.0//EN
CALSCALE:GREGORIAN
METHOD:PUBLISH
X-ORIGINAL-URL:https://clubdetirsaint-tite.ca
X-WR-CALDESC:Évènements pour Club de Tir Saint-Tite
REFRESH-INTERVAL;VALUE=DURATION:PT1H
X-Robots-Tag:noindex
X-PUBLISHED-TTL:PT1H
BEGIN:VTIMEZONE
TZID:America/Toronto
BEGIN:DAYLIGHT
TZOFFSETFROM:-0500
TZOFFSETTO:-0400
TZNAME:EDT
DTSTART:20240310T070000
END:DAYLIGHT
BEGIN:STANDARD
TZOFFSETFROM:-0400
TZOFFSETTO:-0500
TZNAME:EST
DTSTART:20241103T060000
END:STANDARD
BEGIN:DAYLIGHT
TZOFFSETFROM:-0500
TZOFFSETTO:-0400
TZNAME:EDT
DTSTART:20250309T070000
END:DAYLIGHT
BEGIN:STANDARD
TZOFFSETFROM:-0400
TZOFFSETTO:-0500
TZNAME:EST
DTSTART:20251102T060000
END:STANDARD
BEGIN:DAYLIGHT
TZOFFSETFROM:-0500
TZOFFSETTO:-0400
TZNAME:EDT
DTSTART:20260308T070000
END:DAYLIGHT
BEGIN:STANDARD
TZOFFSETFROM:-0400
TZOFFSETTO:-0500
TZNAME:EST
DTSTART:20261101T060000
END:STANDARD
END:VTIMEZONE
BEGIN:VEVENT
DTSTART;TZID=America/Toronto:20250802T092400
DTEND;TZID=America/Toronto:20250802T102700
DTSTAMP:20260422T120120
CREATED:20250901T015557Z
LAST-MODIFIED:20250901T015557Z
UID:10003818-1754126640-1754130420@clubdetirsaint-tite.ca
SUMMARY:101721 _ TIREUR
DESCRIPTION:
URL:https://clubdetirsaint-tite.ca/event/101721-_-tireur-2/
CATEGORIES:PRÉSENCES
END:VEVENT
BEGIN:VEVENT
DTSTART;TZID=America/Toronto:20250802T092500
DTEND;TZID=America/Toronto:20250802T102600
DTSTAMP:20260422T120120
CREATED:20250901T015556Z
LAST-MODIFIED:20250901T015556Z
UID:10003817-1754126700-1754130360@clubdetirsaint-tite.ca
SUMMARY:102050 _ TIREUR
DESCRIPTION:
URL:https://clubdetirsaint-tite.ca/event/102050-_-tireur-2/
CATEGORIES:PRÉSENCES
END:VEVENT
BEGIN:VEVENT
DTSTART;TZID=America/Toronto:20250802T100000
DTEND;TZID=America/Toronto:20250802T110000
DTSTAMP:20260422T120120
CREATED:20250725T161157Z
LAST-MODIFIED:20250725T161157Z
UID:10003549-1754128800-1754132400@clubdetirsaint-tite.ca
SUMMARY:Session accueil
DESCRIPTION:Session accueil
URL:https://clubdetirsaint-tite.ca/event/session-accueil-14/
LOCATION:Club de Tir Saint-Tite\, 35 QC-153\, Saint-Tite\, Quebec\, G0X 3H0\, Canada
END:VEVENT
BEGIN:VEVENT
DTSTART;TZID=America/Toronto:20250803T091800
DTEND;TZID=America/Toronto:20250803T145000
DTSTAMP:20260422T120120
CREATED:20250901T015757Z
LAST-MODIFIED:20250901T015757Z
UID:10003823-1754212680-1754232600@clubdetirsaint-tite.ca
SUMMARY:102608 _ OFFICIEL
DESCRIPTION:
URL:https://clubdetirsaint-tite.ca/event/102608-_-officiel-26/
CATEGORIES:PRÉSENCES
END:VEVENT
BEGIN:VEVENT
DTSTART;TZID=America/Toronto:20250803T091900
DTEND;TZID=America/Toronto:20250803T145000
DTSTAMP:20260422T120120
CREATED:20250901T015756Z
LAST-MODIFIED:20250901T015756Z
UID:10003822-1754212740-1754232600@clubdetirsaint-tite.ca
SUMMARY:102609 _ TIREUR
DESCRIPTION:
URL:https://clubdetirsaint-tite.ca/event/102609-_-tireur-9/
CATEGORIES:PRÉSENCES
END:VEVENT
BEGIN:VEVENT
DTSTART;TZID=America/Toronto:20250804T123700
DTEND;TZID=America/Toronto:20250804T123700
DTSTAMP:20260422T120120
CREATED:20250901T015757Z
LAST-MODIFIED:20250901T015757Z
UID:10003824-1754311020-1754311020@clubdetirsaint-tite.ca
SUMMARY:100549 _ OFFICIEL
DESCRIPTION:
URL:https://clubdetirsaint-tite.ca/event/100549-_-officiel-58/
CATEGORIES:PRÉSENCES
END:VEVENT
BEGIN:VEVENT
DTSTART;TZID=America/Toronto:20250804T123700
DTEND;TZID=America/Toronto:20250804T160100
DTSTAMP:20260422T120120
CREATED:20250901T015956Z
LAST-MODIFIED:20250901T015956Z
UID:10003827-1754311020-1754323260@clubdetirsaint-tite.ca
SUMMARY:100549 _ TIREUR
DESCRIPTION:
URL:https://clubdetirsaint-tite.ca/event/100549-_-tireur-14/
CATEGORIES:PRÉSENCES
END:VEVENT
BEGIN:VEVENT
DTSTART;TZID=America/Toronto:20250804T123700
DTEND;TZID=America/Toronto:20250804T160100
DTSTAMP:20260422T120120
CREATED:20250901T015957Z
LAST-MODIFIED:20250901T015957Z
UID:10003828-1754311020-1754323260@clubdetirsaint-tite.ca
SUMMARY:100548 _ OFFICIEL
DESCRIPTION:
URL:https://clubdetirsaint-tite.ca/event/100548-_-officiel-49/
CATEGORIES:PRÉSENCES
END:VEVENT
BEGIN:VEVENT
DTSTART;TZID=America/Toronto:20250804T124300
DTEND;TZID=America/Toronto:20250804T133400
DTSTAMP:20260422T120120
CREATED:20250901T015757Z
LAST-MODIFIED:20250901T015757Z
UID:10003825-1754311380-1754314440@clubdetirsaint-tite.ca
SUMMARY:100048 _ TIREUR
DESCRIPTION:
URL:https://clubdetirsaint-tite.ca/event/100048-_-tireur-5/
CATEGORIES:PRÉSENCES
END:VEVENT
BEGIN:VEVENT
DTSTART;TZID=America/Toronto:20250804T130000
DTEND;TZID=America/Toronto:20250804T160000
DTSTAMP:20260422T120120
CREATED:20250724T164012Z
LAST-MODIFIED:20250724T164012Z
UID:10003542-1754312400-1754323200@clubdetirsaint-tite.ca
SUMMARY:OFFICIEL
DESCRIPTION:tir libre \nand-jas
URL:https://clubdetirsaint-tite.ca/event/officiel-95/
LOCATION:Club de Tir Saint-Tite\, 35 QC-153\, Saint-Tite\, Quebec\, G0X 3H0\, Canada
END:VEVENT
BEGIN:VEVENT
DTSTART;TZID=America/Toronto:20250804T131700
DTEND;TZID=America/Toronto:20250804T140500
DTSTAMP:20260422T120120
CREATED:20250901T015757Z
LAST-MODIFIED:20250901T015757Z
UID:10003826-1754313420-1754316300@clubdetirsaint-tite.ca
SUMMARY:100118 _ TIREUR
DESCRIPTION:
URL:https://clubdetirsaint-tite.ca/event/100118-_-tireur-52/
CATEGORIES:PRÉSENCES
END:VEVENT
BEGIN:VEVENT
DTSTART;TZID=America/Toronto:20250806T124500
DTEND;TZID=America/Toronto:20250806T162200
DTSTAMP:20260422T120120
CREATED:20250901T020357Z
LAST-MODIFIED:20250901T020357Z
UID:10003839-1754484300-1754497320@clubdetirsaint-tite.ca
SUMMARY:100549 _ OFFICIEL
DESCRIPTION:
URL:https://clubdetirsaint-tite.ca/event/100549-_-officiel-59/
CATEGORIES:PRÉSENCES
END:VEVENT
BEGIN:VEVENT
DTSTART;TZID=America/Toronto:20250806T130000
DTEND;TZID=America/Toronto:20250806T160000
DTSTAMP:20260422T120120
CREATED:20250724T163938Z
LAST-MODIFIED:20250724T163938Z
UID:10003541-1754485200-1754496000@clubdetirsaint-tite.ca
SUMMARY:OFFICIEL
DESCRIPTION:tir libre \nand-jas
URL:https://clubdetirsaint-tite.ca/event/officiel-10/
LOCATION:Club de Tir Saint-Tite\, 35 QC-153\, Saint-Tite\, Quebec\, G0X 3H0\, Canada
END:VEVENT
BEGIN:VEVENT
DTSTART;TZID=America/Toronto:20250806T131500
DTEND;TZID=America/Toronto:20250806T162100
DTSTAMP:20260422T120120
CREATED:20250901T020357Z
LAST-MODIFIED:20250901T020357Z
UID:10003838-1754486100-1754497260@clubdetirsaint-tite.ca
SUMMARY:100137 _ TIREUR
DESCRIPTION:
URL:https://clubdetirsaint-tite.ca/event/100137-_-tireur-17/
CATEGORIES:PRÉSENCES
END:VEVENT
BEGIN:VEVENT
DTSTART;TZID=America/Toronto:20250806T131600
DTEND;TZID=America/Toronto:20250806T141100
DTSTAMP:20260422T120120
CREATED:20250901T015958Z
LAST-MODIFIED:20250901T015958Z
UID:10003831-1754486160-1754489460@clubdetirsaint-tite.ca
SUMMARY:102095 _ TIREUR
DESCRIPTION:
URL:https://clubdetirsaint-tite.ca/event/102095-_-tireur-4/
CATEGORIES:PRÉSENCES
END:VEVENT
BEGIN:VEVENT
DTSTART;TZID=America/Toronto:20250806T131800
DTEND;TZID=America/Toronto:20250806T131900
DTSTAMP:20260422T120120
CREATED:20250901T015957Z
LAST-MODIFIED:20250901T015957Z
UID:10003829-1754486280-1754486340@clubdetirsaint-tite.ca
SUMMARY:100930 _ OFFICIEL
DESCRIPTION:
URL:https://clubdetirsaint-tite.ca/event/100930-_-officiel/
CATEGORIES:PRÉSENCES
END:VEVENT
BEGIN:VEVENT
DTSTART;TZID=America/Toronto:20250806T131800
DTEND;TZID=America/Toronto:20250806T141300
DTSTAMP:20260422T120120
CREATED:20250901T020157Z
LAST-MODIFIED:20250901T020157Z
UID:10003833-1754486280-1754489580@clubdetirsaint-tite.ca
SUMMARY:100814 _ TIREUR
DESCRIPTION:
URL:https://clubdetirsaint-tite.ca/event/100814-_-tireur-3/
CATEGORIES:PRÉSENCES
END:VEVENT
BEGIN:VEVENT
DTSTART;TZID=America/Toronto:20250806T131900
DTEND;TZID=America/Toronto:20250806T141100
DTSTAMP:20260422T120120
CREATED:20250901T020156Z
LAST-MODIFIED:20250901T020156Z
UID:10003832-1754486340-1754489460@clubdetirsaint-tite.ca
SUMMARY:100930 _ TIREUR
DESCRIPTION:
URL:https://clubdetirsaint-tite.ca/event/100930-_-tireur/
CATEGORIES:PRÉSENCES
END:VEVENT
BEGIN:VEVENT
DTSTART;TZID=America/Toronto:20250806T133500
DTEND;TZID=America/Toronto:20250806T133600
DTSTAMP:20260422T120120
CREATED:20250901T015957Z
LAST-MODIFIED:20250901T015957Z
UID:10003830-1754487300-1754487360@clubdetirsaint-tite.ca
SUMMARY:100448 _ OFFICIEL
DESCRIPTION:
URL:https://clubdetirsaint-tite.ca/event/100448-_-officiel-7/
CATEGORIES:PRÉSENCES
END:VEVENT
BEGIN:VEVENT
DTSTART;TZID=America/Toronto:20250806T133800
DTEND;TZID=America/Toronto:20250806T150100
DTSTAMP:20260422T120120
CREATED:20250901T020157Z
LAST-MODIFIED:20250901T020157Z
UID:10003836-1754487480-1754492460@clubdetirsaint-tite.ca
SUMMARY:100448 _ TIREUR
DESCRIPTION:
URL:https://clubdetirsaint-tite.ca/event/100448-_-tireur-4/
CATEGORIES:PRÉSENCES
END:VEVENT
BEGIN:VEVENT
DTSTART;TZID=America/Toronto:20250806T133900
DTEND;TZID=America/Toronto:20250806T153000
DTSTAMP:20260422T120120
CREATED:20250901T020356Z
LAST-MODIFIED:20250901T020356Z
UID:10003837-1754487540-1754494200@clubdetirsaint-tite.ca
SUMMARY:101860 _ TIREUR
DESCRIPTION:
URL:https://clubdetirsaint-tite.ca/event/101860-_-tireur-4/
CATEGORIES:PRÉSENCES
END:VEVENT
BEGIN:VEVENT
DTSTART;TZID=America/Toronto:20250806T134800
DTEND;TZID=America/Toronto:20250806T142900
DTSTAMP:20260422T120120
CREATED:20250901T020157Z
LAST-MODIFIED:20250901T020157Z
UID:10003834-1754488080-1754490540@clubdetirsaint-tite.ca
SUMMARY:101709 _ TIREUR
DESCRIPTION:
URL:https://clubdetirsaint-tite.ca/event/101709-_-tireur-2/
CATEGORIES:PRÉSENCES
END:VEVENT
BEGIN:VEVENT
DTSTART;TZID=America/Toronto:20250806T140300
DTEND;TZID=America/Toronto:20250806T143900
DTSTAMP:20260422T120120
CREATED:20250901T020157Z
LAST-MODIFIED:20250901T020157Z
UID:10003835-1754488980-1754491140@clubdetirsaint-tite.ca
SUMMARY:102140 _ TIREUR
DESCRIPTION:
URL:https://clubdetirsaint-tite.ca/event/102140-_-tireur-3/
CATEGORIES:PRÉSENCES
END:VEVENT
BEGIN:VEVENT
DTSTART;TZID=America/Toronto:20250806T180000
DTEND;TZID=America/Toronto:20250806T190000
DTSTAMP:20260422T120120
CREATED:20250717T131059Z
LAST-MODIFIED:20250717T131059Z
UID:10003536-1754503200-1754506800@clubdetirsaint-tite.ca
SUMMARY:Session accueil
DESCRIPTION:Session accueil
URL:https://clubdetirsaint-tite.ca/event/session-accueil-12/
LOCATION:Club de Tir Saint-Tite\, 35 QC-153\, Saint-Tite\, Quebec\, G0X 3H0\, Canada
END:VEVENT
BEGIN:VEVENT
DTSTART;TZID=America/Toronto:20250807T172700
DTEND;TZID=America/Toronto:20250807T205800
DTSTAMP:20260422T120120
CREATED:20250901T020358Z
LAST-MODIFIED:20250901T020358Z
UID:10003841-1754587620-1754600280@clubdetirsaint-tite.ca
SUMMARY:102608 _ OFFICIEL
DESCRIPTION:
URL:https://clubdetirsaint-tite.ca/event/102608-_-officiel-27/
CATEGORIES:PRÉSENCES
END:VEVENT
BEGIN:VEVENT
DTSTART;TZID=America/Toronto:20250807T183700
DTEND;TZID=America/Toronto:20250807T205600
DTSTAMP:20260422T120120
CREATED:20250901T020357Z
LAST-MODIFIED:20250901T020357Z
UID:10003840-1754591820-1754600160@clubdetirsaint-tite.ca
SUMMARY:100818 _ TIREUR
DESCRIPTION:
URL:https://clubdetirsaint-tite.ca/event/100818-_-tireur-14/
CATEGORIES:PRÉSENCES
END:VEVENT
BEGIN:VEVENT
DTSTART;TZID=America/Toronto:20250808T150200
DTEND;TZID=America/Toronto:20250808T151000
DTSTAMP:20260422T120120
CREATED:20250901T020704Z
LAST-MODIFIED:20250901T020704Z
UID:10003842-1754665320-1754665800@clubdetirsaint-tite.ca
SUMMARY:100436 _ OFFICIEL
DESCRIPTION:
URL:https://clubdetirsaint-tite.ca/event/100436-_-officiel-10/
CATEGORIES:PRÉSENCES
END:VEVENT
BEGIN:VEVENT
DTSTART;TZID=America/Toronto:20250811T124800
DTEND;TZID=America/Toronto:20250811T155900
DTSTAMP:20260422T120120
CREATED:20250901T020719Z
LAST-MODIFIED:20250901T020719Z
UID:10003847-1754916480-1754927940@clubdetirsaint-tite.ca
SUMMARY:100548 _ OFFICIEL
DESCRIPTION:
URL:https://clubdetirsaint-tite.ca/event/100548-_-officiel-50/
CATEGORIES:PRÉSENCES
END:VEVENT
BEGIN:VEVENT
DTSTART;TZID=America/Toronto:20250811T130000
DTEND;TZID=America/Toronto:20250811T160000
DTSTAMP:20260422T120120
CREATED:20250724T164041Z
LAST-MODIFIED:20250724T164041Z
UID:10003543-1754917200-1754928000@clubdetirsaint-tite.ca
SUMMARY:OFFICIEL
DESCRIPTION:tir libre \nand-jas
URL:https://clubdetirsaint-tite.ca/event/officiel-96/
LOCATION:Club de Tir Saint-Tite\, 35 QC-153\, Saint-Tite\, Quebec\, G0X 3H0\, Canada
END:VEVENT
BEGIN:VEVENT
DTSTART;TZID=America/Toronto:20250811T131700
DTEND;TZID=America/Toronto:20250811T155900
DTSTAMP:20260422T120120
CREATED:20250901T020705Z
LAST-MODIFIED:20250901T020705Z
UID:10003846-1754918220-1754927940@clubdetirsaint-tite.ca
SUMMARY:100549 _ TIREUR
DESCRIPTION:
URL:https://clubdetirsaint-tite.ca/event/100549-_-tireur-15/
CATEGORIES:PRÉSENCES
END:VEVENT
END:VCALENDAR