BEGIN:VCALENDAR
VERSION:2.0
PRODID:-//Club de Tir Saint-Tite - ECPv6.15.20//NONSGML v1.0//EN
CALSCALE:GREGORIAN
METHOD:PUBLISH
X-WR-CALNAME:Club de Tir Saint-Tite
X-ORIGINAL-URL:https://clubdetirsaint-tite.ca
X-WR-CALDESC:Évènements pour Club de Tir Saint-Tite
REFRESH-INTERVAL;VALUE=DURATION:PT1H
X-Robots-Tag:noindex
X-PUBLISHED-TTL:PT1H
BEGIN:VTIMEZONE
TZID:America/Toronto
BEGIN:DAYLIGHT
TZOFFSETFROM:-0500
TZOFFSETTO:-0400
TZNAME:EDT
DTSTART:20240310T070000
END:DAYLIGHT
BEGIN:STANDARD
TZOFFSETFROM:-0400
TZOFFSETTO:-0500
TZNAME:EST
DTSTART:20241103T060000
END:STANDARD
BEGIN:DAYLIGHT
TZOFFSETFROM:-0500
TZOFFSETTO:-0400
TZNAME:EDT
DTSTART:20250309T070000
END:DAYLIGHT
BEGIN:STANDARD
TZOFFSETFROM:-0400
TZOFFSETTO:-0500
TZNAME:EST
DTSTART:20251102T060000
END:STANDARD
BEGIN:DAYLIGHT
TZOFFSETFROM:-0500
TZOFFSETTO:-0400
TZNAME:EDT
DTSTART:20260308T070000
END:DAYLIGHT
BEGIN:STANDARD
TZOFFSETFROM:-0400
TZOFFSETTO:-0500
TZNAME:EST
DTSTART:20261101T060000
END:STANDARD
END:VTIMEZONE
BEGIN:VEVENT
DTSTART;TZID=America/Toronto:20250909T181900
DTEND;TZID=America/Toronto:20250909T204100
DTSTAMP:20260423T021242
CREATED:20250922T005017Z
LAST-MODIFIED:20250922T005017Z
UID:10004001-1757441940-1757450460@clubdetirsaint-tite.ca
SUMMARY:100818 _ TIREUR
DESCRIPTION:
URL:https://clubdetirsaint-tite.ca/event/100818-_-tireur-17/
CATEGORIES:PRÉSENCES
END:VEVENT
BEGIN:VEVENT
DTSTART;TZID=America/Toronto:20250909T181800
DTEND;TZID=America/Toronto:20250909T204100
DTSTAMP:20260423T021242
CREATED:20250922T005017Z
LAST-MODIFIED:20250922T005017Z
UID:10004002-1757441880-1757450460@clubdetirsaint-tite.ca
SUMMARY:102608 _ OFFICIEL
DESCRIPTION:
URL:https://clubdetirsaint-tite.ca/event/102608-_-officiel-30/
CATEGORIES:PRÉSENCES
END:VEVENT
BEGIN:VEVENT
DTSTART;TZID=America/Toronto:20250909T114800
DTEND;TZID=America/Toronto:20250909T123400
DTSTAMP:20260423T021242
CREATED:20250922T004817Z
LAST-MODIFIED:20250922T004817Z
UID:10003998-1757418480-1757421240@clubdetirsaint-tite.ca
SUMMARY:100617 _ OFFICIEL
DESCRIPTION:
URL:https://clubdetirsaint-tite.ca/event/100617-_-officiel-7/
CATEGORIES:PRÉSENCES
END:VEVENT
BEGIN:VEVENT
DTSTART;TZID=America/Toronto:20250909T105200
DTEND;TZID=America/Toronto:20250909T114800
DTSTAMP:20260423T021242
CREATED:20250922T004817Z
LAST-MODIFIED:20250922T004817Z
UID:10003997-1757415120-1757418480@clubdetirsaint-tite.ca
SUMMARY:100617 _ TIREUR
DESCRIPTION:
URL:https://clubdetirsaint-tite.ca/event/100617-_-tireur-6/
CATEGORIES:PRÉSENCES
END:VEVENT
BEGIN:VEVENT
DTSTART;TZID=America/Toronto:20250909T104100
DTEND;TZID=America/Toronto:20250909T123400
DTSTAMP:20260423T021242
CREATED:20250922T004818Z
LAST-MODIFIED:20250922T004818Z
UID:10003999-1757414460-1757421240@clubdetirsaint-tite.ca
SUMMARY:101448 _ TIREUR
DESCRIPTION:
URL:https://clubdetirsaint-tite.ca/event/101448-_-tireur-7/
CATEGORIES:PRÉSENCES
END:VEVENT
BEGIN:VEVENT
DTSTART;TZID=America/Toronto:20250909T103900
DTEND;TZID=America/Toronto:20250909T123400
DTSTAMP:20260423T021242
CREATED:20250922T004818Z
LAST-MODIFIED:20250922T004818Z
UID:10004000-1757414340-1757421240@clubdetirsaint-tite.ca
SUMMARY:101449 _ OFFICIEL
DESCRIPTION:
URL:https://clubdetirsaint-tite.ca/event/101449-_-officiel-10/
CATEGORIES:PRÉSENCES
END:VEVENT
BEGIN:VEVENT
DTSTART;TZID=America/Toronto:20250908T140100
DTEND;TZID=America/Toronto:20250908T145900
DTSTAMP:20260423T021242
CREATED:20250922T004803Z
LAST-MODIFIED:20250922T004803Z
UID:10003994-1757340060-1757343540@clubdetirsaint-tite.ca
SUMMARY:100118 _ TIREUR
DESCRIPTION:
URL:https://clubdetirsaint-tite.ca/event/100118-_-tireur-56/
CATEGORIES:PRÉSENCES
END:VEVENT
BEGIN:VEVENT
DTSTART;TZID=America/Toronto:20250908T134900
DTEND;TZID=America/Toronto:20250908T142900
DTSTAMP:20260423T021242
CREATED:20250922T004802Z
LAST-MODIFIED:20250922T004802Z
UID:10003993-1757339340-1757341740@clubdetirsaint-tite.ca
SUMMARY:102184 _ TIREUR
DESCRIPTION:
URL:https://clubdetirsaint-tite.ca/event/102184-_-tireur-2/
CATEGORIES:PRÉSENCES
END:VEVENT
BEGIN:VEVENT
DTSTART;TZID=America/Toronto:20250908T131600
DTEND;TZID=America/Toronto:20250908T142000
DTSTAMP:20260423T021242
CREATED:20250922T004802Z
LAST-MODIFIED:20250922T004802Z
UID:10003992-1757337360-1757341200@clubdetirsaint-tite.ca
SUMMARY:100189 _ TIREUR
DESCRIPTION:
URL:https://clubdetirsaint-tite.ca/event/100189-_-tireur-2/
CATEGORIES:PRÉSENCES
END:VEVENT
BEGIN:VEVENT
DTSTART;TZID=America/Toronto:20250908T131300
DTEND;TZID=America/Toronto:20250908T153800
DTSTAMP:20260423T021242
CREATED:20250922T004803Z
LAST-MODIFIED:20250922T004803Z
UID:10003995-1757337180-1757345880@clubdetirsaint-tite.ca
SUMMARY:101187 _ TIREUR
DESCRIPTION:
URL:https://clubdetirsaint-tite.ca/event/101187-_-tireur-2/
CATEGORIES:PRÉSENCES
END:VEVENT
BEGIN:VEVENT
DTSTART;TZID=America/Toronto:20250908T130000
DTEND;TZID=America/Toronto:20250908T160000
DTSTAMP:20260423T021242
CREATED:20250810T012300Z
LAST-MODIFIED:20250810T012300Z
UID:10003749-1757336400-1757347200@clubdetirsaint-tite.ca
SUMMARY:OFFICIEL
DESCRIPTION:tir libre \nand-jas
URL:https://clubdetirsaint-tite.ca/event/officiel-11/
LOCATION:Club de Tir Saint-Tite\, 35 QC-153\, Saint-Tite\, Quebec\, G0X 3H0\, Canada
END:VEVENT
BEGIN:VEVENT
DTSTART;TZID=America/Toronto:20250908T125900
DTEND;TZID=America/Toronto:20250908T135900
DTSTAMP:20260423T021242
CREATED:20250922T004802Z
LAST-MODIFIED:20250922T004802Z
UID:10003991-1757336340-1757339940@clubdetirsaint-tite.ca
SUMMARY:102818 _ TIREUR
DESCRIPTION:
URL:https://clubdetirsaint-tite.ca/event/102818-_-tireur-4/
CATEGORIES:PRÉSENCES
END:VEVENT
BEGIN:VEVENT
DTSTART;TZID=America/Toronto:20250908T125500
DTEND;TZID=America/Toronto:20250908T160000
DTSTAMP:20260423T021242
CREATED:20250922T004817Z
LAST-MODIFIED:20250922T004817Z
UID:10003996-1757336100-1757347200@clubdetirsaint-tite.ca
SUMMARY:100548 _ OFFICIEL
DESCRIPTION:
URL:https://clubdetirsaint-tite.ca/event/100548-_-officiel-53/
CATEGORIES:PRÉSENCES
END:VEVENT
BEGIN:VEVENT
DTSTART;TZID=America/Toronto:20250906T100000
DTEND;TZID=America/Toronto:20250906T110000
DTSTAMP:20260423T021242
CREATED:20250825T165119Z
LAST-MODIFIED:20250825T165119Z
UID:10003770-1757152800-1757156400@clubdetirsaint-tite.ca
SUMMARY:Session accueil
DESCRIPTION:Session accueil
URL:https://clubdetirsaint-tite.ca/event/session-accueil-18/
LOCATION:Club de Tir Saint-Tite\, 35 QC-153\, Saint-Tite\, Quebec\, G0X 3H0\, Canada
END:VEVENT
BEGIN:VEVENT
DTSTART;TZID=America/Toronto:20250905T131400
DTEND;TZID=America/Toronto:20250905T141100
DTSTAMP:20260423T021242
CREATED:20250922T004707Z
LAST-MODIFIED:20250922T004707Z
UID:10003988-1757078040-1757081460@clubdetirsaint-tite.ca
SUMMARY:102878 _ TIREUR
DESCRIPTION:
URL:https://clubdetirsaint-tite.ca/event/102878-_-tireur-2/
CATEGORIES:PRÉSENCES
END:VEVENT
BEGIN:VEVENT
DTSTART;TZID=America/Toronto:20250905T122200
DTEND;TZID=America/Toronto:20250905T141200
DTSTAMP:20260423T021242
CREATED:20250922T004707Z
LAST-MODIFIED:20250922T004707Z
UID:10003990-1757074920-1757081520@clubdetirsaint-tite.ca
SUMMARY:101426 _ TIREUR
DESCRIPTION:
URL:https://clubdetirsaint-tite.ca/event/101426-_-tireur-3/
CATEGORIES:PRÉSENCES
END:VEVENT
BEGIN:VEVENT
DTSTART;TZID=America/Toronto:20250905T122100
DTEND;TZID=America/Toronto:20250905T141100
DTSTAMP:20260423T021242
CREATED:20250922T004707Z
LAST-MODIFIED:20250922T004707Z
UID:10003989-1757074860-1757081460@clubdetirsaint-tite.ca
SUMMARY:100054 _ OFFICIEL
DESCRIPTION:
URL:https://clubdetirsaint-tite.ca/event/100054-_-officiel-4/
CATEGORIES:PRÉSENCES
END:VEVENT
BEGIN:VEVENT
DTSTART;TZID=America/Toronto:20250905T120000
DTEND;TZID=America/Toronto:20250905T133000
DTSTAMP:20260423T021242
CREATED:20250902T234201Z
LAST-MODIFIED:20250902T234201Z
UID:10003934-1757073600-1757079000@clubdetirsaint-tite.ca
SUMMARY:Officiel 100054
DESCRIPTION:Officiel 12:00 à 13:30
URL:https://clubdetirsaint-tite.ca/event/officiel-100054-2/
LOCATION:Club de Tir Saint-Tite\, 35 QC-153\, Saint-Tite\, Quebec\, G0X 3H0\, Canada
END:VEVENT
BEGIN:VEVENT
DTSTART;TZID=America/Toronto:20250905T103000
DTEND;TZID=America/Toronto:20250905T120000
DTSTAMP:20260423T021242
CREATED:20250902T234050Z
LAST-MODIFIED:20250902T234050Z
UID:10003933-1757068200-1757073600@clubdetirsaint-tite.ca
SUMMARY:Officiel 101426
DESCRIPTION:Officiel de tir de 10:30 à 12:00
URL:https://clubdetirsaint-tite.ca/event/officiel-101426-2/
LOCATION:Club de Tir Saint-Tite\, 35 QC-153\, Saint-Tite\, Quebec\, G0X 3H0\, Canada
END:VEVENT
BEGIN:VEVENT
DTSTART;TZID=America/Toronto:20250905T102200
DTEND;TZID=America/Toronto:20250905T122000
DTSTAMP:20260423T021242
CREATED:20250922T004707Z
LAST-MODIFIED:20250922T004707Z
UID:10003986-1757067720-1757074800@clubdetirsaint-tite.ca
SUMMARY:100054 _ TIREUR
DESCRIPTION:
URL:https://clubdetirsaint-tite.ca/event/100054-_-tireur-5/
CATEGORIES:PRÉSENCES
END:VEVENT
BEGIN:VEVENT
DTSTART;TZID=America/Toronto:20250905T102000
DTEND;TZID=America/Toronto:20250905T122100
DTSTAMP:20260423T021242
CREATED:20250922T004707Z
LAST-MODIFIED:20250922T004707Z
UID:10003987-1757067600-1757074860@clubdetirsaint-tite.ca
SUMMARY:101426 _ OFFICIEL
DESCRIPTION:
URL:https://clubdetirsaint-tite.ca/event/101426-_-officiel-4/
CATEGORIES:PRÉSENCES
END:VEVENT
BEGIN:VEVENT
DTSTART;TZID=America/Toronto:20250904T182300
DTEND;TZID=America/Toronto:20250904T195800
DTSTAMP:20260423T021242
CREATED:20250922T004507Z
LAST-MODIFIED:20250922T004507Z
UID:10003984-1757010180-1757015880@clubdetirsaint-tite.ca
SUMMARY:100818 _ TIREUR
DESCRIPTION:
URL:https://clubdetirsaint-tite.ca/event/100818-_-tireur-16/
CATEGORIES:PRÉSENCES
END:VEVENT
BEGIN:VEVENT
DTSTART;TZID=America/Toronto:20250904T182200
DTEND;TZID=America/Toronto:20250904T201700
DTSTAMP:20260423T021242
CREATED:20250922T004507Z
LAST-MODIFIED:20250922T004507Z
UID:10003985-1757010120-1757017020@clubdetirsaint-tite.ca
SUMMARY:102608 _ OFFICIEL
DESCRIPTION:
URL:https://clubdetirsaint-tite.ca/event/102608-_-officiel-29/
CATEGORIES:PRÉSENCES
END:VEVENT
BEGIN:VEVENT
DTSTART;TZID=America/Toronto:20250904T120000
DTEND;TZID=America/Toronto:20250904T133000
DTSTAMP:20260423T021242
CREATED:20250902T143416Z
LAST-MODIFIED:20250902T143416Z
UID:10003932-1756987200-1756992600@clubdetirsaint-tite.ca
SUMMARY:OFFICIEL 101334
DESCRIPTION:OFFICIEL
URL:https://clubdetirsaint-tite.ca/event/officiel-101334/
LOCATION:Club de Tir Saint-Tite\, 35 QC-153\, Saint-Tite\, Quebec\, G0X 3H0\, Canada
END:VEVENT
BEGIN:VEVENT
DTSTART;TZID=America/Toronto:20250904T115600
DTEND;TZID=America/Toronto:20250904T133800
DTSTAMP:20260423T021242
CREATED:20250922T004507Z
LAST-MODIFIED:20250922T004507Z
UID:10003983-1756986960-1756993080@clubdetirsaint-tite.ca
SUMMARY:101334 _ OFFICIEL
DESCRIPTION:
URL:https://clubdetirsaint-tite.ca/event/101334-_-officiel-3/
CATEGORIES:PRÉSENCES
END:VEVENT
BEGIN:VEVENT
DTSTART;TZID=America/Toronto:20250903T142600
DTEND;TZID=America/Toronto:20250903T151800
DTSTAMP:20260423T021242
CREATED:20250922T004507Z
LAST-MODIFIED:20250922T004507Z
UID:10003981-1756909560-1756912680@clubdetirsaint-tite.ca
SUMMARY:100129 _ TIREUR
DESCRIPTION:
URL:https://clubdetirsaint-tite.ca/event/100129-_-tireur-2/
CATEGORIES:PRÉSENCES
END:VEVENT
BEGIN:VEVENT
DTSTART;TZID=America/Toronto:20250903T140300
DTEND;TZID=America/Toronto:20250903T145200
DTSTAMP:20260423T021242
CREATED:20250922T004308Z
LAST-MODIFIED:20250922T004308Z
UID:10003980-1756908180-1756911120@clubdetirsaint-tite.ca
SUMMARY:100854 _ TIREUR
DESCRIPTION:
URL:https://clubdetirsaint-tite.ca/event/100854-_-tireur-4/
CATEGORIES:PRÉSENCES
END:VEVENT
BEGIN:VEVENT
DTSTART;TZID=America/Toronto:20250903T133300
DTEND;TZID=America/Toronto:20250903T141000
DTSTAMP:20260423T021242
CREATED:20250922T004307Z
LAST-MODIFIED:20250922T004307Z
UID:10003979-1756906380-1756908600@clubdetirsaint-tite.ca
SUMMARY:102818 _ TIREUR
DESCRIPTION:
URL:https://clubdetirsaint-tite.ca/event/102818-_-tireur-3/
CATEGORIES:PRÉSENCES
END:VEVENT
BEGIN:VEVENT
DTSTART;TZID=America/Toronto:20250903T133200
DTEND;TZID=America/Toronto:20250903T160600
DTSTAMP:20260423T021242
CREATED:20250922T004507Z
LAST-MODIFIED:20250922T004507Z
UID:10003982-1756906320-1756915560@clubdetirsaint-tite.ca
SUMMARY:100549 _ OFFICIEL
DESCRIPTION:
URL:https://clubdetirsaint-tite.ca/event/100549-_-officiel-65/
CATEGORIES:PRÉSENCES
END:VEVENT
BEGIN:VEVENT
DTSTART;TZID=America/Toronto:20250903T130000
DTEND;TZID=America/Toronto:20250903T160000
DTSTAMP:20260423T021242
CREATED:20250810T012231Z
LAST-MODIFIED:20250810T012231Z
UID:10003748-1756904400-1756915200@clubdetirsaint-tite.ca
SUMMARY:OFFICIEL
DESCRIPTION:tir libre \nand-jas
URL:https://clubdetirsaint-tite.ca/event/officiel-3/
LOCATION:Club de Tir Saint-Tite\, 35 QC-153\, Saint-Tite\, Quebec\, G0X 3H0\, Canada
END:VEVENT
END:VCALENDAR