BEGIN:VCALENDAR
VERSION:2.0
PRODID:-//Club de Tir Saint-Tite - ECPv6.15.20//NONSGML v1.0//EN
CALSCALE:GREGORIAN
METHOD:PUBLISH
X-ORIGINAL-URL:https://clubdetirsaint-tite.ca
X-WR-CALDESC:Évènements pour Club de Tir Saint-Tite
REFRESH-INTERVAL;VALUE=DURATION:PT1H
X-Robots-Tag:noindex
X-PUBLISHED-TTL:PT1H
BEGIN:VTIMEZONE
TZID:America/Toronto
BEGIN:DAYLIGHT
TZOFFSETFROM:-0500
TZOFFSETTO:-0400
TZNAME:EDT
DTSTART:20240310T070000
END:DAYLIGHT
BEGIN:STANDARD
TZOFFSETFROM:-0400
TZOFFSETTO:-0500
TZNAME:EST
DTSTART:20241103T060000
END:STANDARD
BEGIN:DAYLIGHT
TZOFFSETFROM:-0500
TZOFFSETTO:-0400
TZNAME:EDT
DTSTART:20250309T070000
END:DAYLIGHT
BEGIN:STANDARD
TZOFFSETFROM:-0400
TZOFFSETTO:-0500
TZNAME:EST
DTSTART:20251102T060000
END:STANDARD
BEGIN:DAYLIGHT
TZOFFSETFROM:-0500
TZOFFSETTO:-0400
TZNAME:EDT
DTSTART:20260308T070000
END:DAYLIGHT
BEGIN:STANDARD
TZOFFSETFROM:-0400
TZOFFSETTO:-0500
TZNAME:EST
DTSTART:20261101T060000
END:STANDARD
END:VTIMEZONE
BEGIN:VEVENT
DTSTART;TZID=America/Toronto:20250815T132200
DTEND;TZID=America/Toronto:20250815T140400
DTSTAMP:20260422T200031
CREATED:20250901T023315Z
LAST-MODIFIED:20250901T023315Z
UID:10003876-1755264120-1755266640@clubdetirsaint-tite.ca
SUMMARY:100030 _ TIREUR
DESCRIPTION:
URL:https://clubdetirsaint-tite.ca/event/100030-_-tireur/
CATEGORIES:PRÉSENCES
END:VEVENT
BEGIN:VEVENT
DTSTART;TZID=America/Toronto:20250815T141700
DTEND;TZID=America/Toronto:20250815T144200
DTSTAMP:20260422T200031
CREATED:20250901T023330Z
LAST-MODIFIED:20250901T023330Z
UID:10003877-1755267420-1755268920@clubdetirsaint-tite.ca
SUMMARY:101747 _ TIREUR
DESCRIPTION:
URL:https://clubdetirsaint-tite.ca/event/101747-_-tireur-2/
CATEGORIES:PRÉSENCES
END:VEVENT
BEGIN:VEVENT
DTSTART;VALUE=DATE:20250816
DTEND;VALUE=DATE:20250817
DTSTAMP:20260422T200031
CREATED:20250127T104221Z
LAST-MODIFIED:20250127T104221Z
UID:10002702-1755302400-1755388799@clubdetirsaint-tite.ca
SUMMARY:Compétition PPC
DESCRIPTION:compétition PPC au 50v \n25 V reste disponible
URL:https://clubdetirsaint-tite.ca/event/competition-ppc-6/
LOCATION:Club de Tir Saint-Tite\, 35 QC-153\, Saint-Tite\, Quebec\, G0X 3H0\, Canada
END:VEVENT
BEGIN:VEVENT
DTSTART;TZID=America/Toronto:20250817T100000
DTEND;TZID=America/Toronto:20250817T110000
DTSTAMP:20260422T200031
CREATED:20250803T102914Z
LAST-MODIFIED:20250803T102914Z
UID:10003744-1755424800-1755428400@clubdetirsaint-tite.ca
SUMMARY:Session accueil
DESCRIPTION:Session accueil
URL:https://clubdetirsaint-tite.ca/event/session-accueil-16/
LOCATION:Club de Tir Saint-Tite\, 35 QC-153\, Saint-Tite\, Quebec\, G0X 3H0\, Canada
END:VEVENT
BEGIN:VEVENT
DTSTART;TZID=America/Toronto:20250818T080000
DTEND;TZID=America/Toronto:20250818T170000
DTSTAMP:20260422T200031
CREATED:20250818T135739Z
LAST-MODIFIED:20250818T135739Z
UID:10003765-1755504000-1755536400@clubdetirsaint-tite.ca
SUMMARY:24 et 50 verges fermé le 23 aoûtPour travaux au 25 v
DESCRIPTION:23 août \ntravaux de toiture \n25 et 50 V fermé
URL:https://clubdetirsaint-tite.ca/event/24-et-50-verges-ferme-le-23-aoutpour-travaux-au-25-v/
LOCATION:Club de Tir Saint-Tite\, 35 QC-153\, Saint-Tite\, Quebec\, G0X 3H0\, Canada
END:VEVENT
BEGIN:VEVENT
DTSTART;TZID=America/Toronto:20250818T130000
DTEND;TZID=America/Toronto:20250818T160000
DTSTAMP:20260422T200031
CREATED:20250724T164140Z
LAST-MODIFIED:20250724T164140Z
UID:10003545-1755522000-1755532800@clubdetirsaint-tite.ca
SUMMARY:OFFICIEL
DESCRIPTION:tir libre \nand-jas
URL:https://clubdetirsaint-tite.ca/event/officiel-98/
LOCATION:Club de Tir Saint-Tite\, 35 QC-153\, Saint-Tite\, Quebec\, G0X 3H0\, Canada
END:VEVENT
BEGIN:VEVENT
DTSTART;TZID=America/Toronto:20250818T130000
DTEND;TZID=America/Toronto:20250818T160000
DTSTAMP:20260422T200031
CREATED:20250818T155331Z
LAST-MODIFIED:20250818T155331Z
UID:10003766-1755522000-1755532800@clubdetirsaint-tite.ca
SUMMARY:25 et 50 v ouvert ce pmOfficiel sur place
DESCRIPTION:Pas pistolet ouvert ce pm \nofficiEl sur place comme prévu
URL:https://clubdetirsaint-tite.ca/event/25-et-50-v-ouvert-ce-pmofficiel-sur-place/
LOCATION:Club de Tir Saint-Tite\, 35 QC-153\, Saint-Tite\, Quebec\, G0X 3H0\, Canada
END:VEVENT
BEGIN:VEVENT
DTSTART;TZID=America/Toronto:20250819T092500
DTEND;TZID=America/Toronto:20250819T092500
DTSTAMP:20260422T200031
CREATED:20250901T023330Z
LAST-MODIFIED:20250901T023330Z
UID:10003879-1755595500-1755595500@clubdetirsaint-tite.ca
SUMMARY:100008 _ OFFICIEL
DESCRIPTION:
URL:https://clubdetirsaint-tite.ca/event/100008-_-officiel-61/
CATEGORIES:PRÉSENCES
END:VEVENT
BEGIN:VEVENT
DTSTART;TZID=America/Toronto:20250819T095000
DTEND;TZID=America/Toronto:20250819T121100
DTSTAMP:20260422T200031
CREATED:20250901T023529Z
LAST-MODIFIED:20250901T023529Z
UID:10003882-1755597000-1755605460@clubdetirsaint-tite.ca
SUMMARY:101781 _ OFFICIEL
DESCRIPTION:
URL:https://clubdetirsaint-tite.ca/event/101781-_-officiel-9/
CATEGORIES:PRÉSENCES
END:VEVENT
BEGIN:VEVENT
DTSTART;TZID=America/Toronto:20250819T100000
DTEND;TZID=America/Toronto:20250819T120000
DTSTAMP:20260422T200031
CREATED:20250816T222916Z
LAST-MODIFIED:20250816T222916Z
UID:10003763-1755597600-1755604800@clubdetirsaint-tite.ca
SUMMARY:officiel tir restreint 101781
DESCRIPTION:OFFICIEL Tir restreint \njf 101781
URL:https://clubdetirsaint-tite.ca/event/officiel-tir-restreint-101781-3/
LOCATION:Club de Tir Saint-Tite\, 35 QC-153\, Saint-Tite\, Quebec\, G0X 3H0\, Canada
END:VEVENT
BEGIN:VEVENT
DTSTART;TZID=America/Toronto:20250819T102000
DTEND;TZID=America/Toronto:20250819T112700
DTSTAMP:20260422T200031
CREATED:20250901T023331Z
LAST-MODIFIED:20250901T023331Z
UID:10003880-1755598800-1755602820@clubdetirsaint-tite.ca
SUMMARY:100142 _ TIREUR
DESCRIPTION:
URL:https://clubdetirsaint-tite.ca/event/100142-_-tireur-5/
CATEGORIES:PRÉSENCES
END:VEVENT
BEGIN:VEVENT
DTSTART;TZID=America/Toronto:20250819T103500
DTEND;TZID=America/Toronto:20250819T112700
DTSTAMP:20260422T200031
CREATED:20250901T023331Z
LAST-MODIFIED:20250901T023331Z
UID:10003881-1755599700-1755602820@clubdetirsaint-tite.ca
SUMMARY:100030 _ TIREUR
DESCRIPTION:
URL:https://clubdetirsaint-tite.ca/event/100030-_-tireur-2/
CATEGORIES:PRÉSENCES
END:VEVENT
BEGIN:VEVENT
DTSTART;TZID=America/Toronto:20250820T090000
DTEND;TZID=America/Toronto:20250820T103000
DTSTAMP:20260422T200031
CREATED:20250817T164048Z
LAST-MODIFIED:20250817T164048Z
UID:10003764-1755680400-1755685800@clubdetirsaint-tite.ca
SUMMARY:OFFICIEL 102150
DESCRIPTION:OFFICIEL
URL:https://clubdetirsaint-tite.ca/event/officiel-102150-2/
LOCATION:Club de Tir Saint-Tite\, 35 QC-153\, Saint-Tite\, Quebec\, G0X 3H0\, Canada
END:VEVENT
BEGIN:VEVENT
DTSTART;TZID=America/Toronto:20250820T090300
DTEND;TZID=America/Toronto:20250820T105200
DTSTAMP:20260422T200031
CREATED:20250901T023530Z
LAST-MODIFIED:20250901T023530Z
UID:10003885-1755680580-1755687120@clubdetirsaint-tite.ca
SUMMARY:102150 _ OFFICIEL
DESCRIPTION:
URL:https://clubdetirsaint-tite.ca/event/102150-_-officiel-5/
CATEGORIES:PRÉSENCES
END:VEVENT
BEGIN:VEVENT
DTSTART;TZID=America/Toronto:20250820T091100
DTEND;TZID=America/Toronto:20250820T105200
DTSTAMP:20260422T200031
CREATED:20250901T023530Z
LAST-MODIFIED:20250901T023530Z
UID:10003884-1755681060-1755687120@clubdetirsaint-tite.ca
SUMMARY:100480 _ TIREUR
DESCRIPTION:
URL:https://clubdetirsaint-tite.ca/event/100480-_-tireur-4/
CATEGORIES:PRÉSENCES
END:VEVENT
BEGIN:VEVENT
DTSTART;TZID=America/Toronto:20250820T101200
DTEND;TZID=America/Toronto:20250820T103900
DTSTAMP:20260422T200031
CREATED:20250901T023529Z
LAST-MODIFIED:20250901T023529Z
UID:10003883-1755684720-1755686340@clubdetirsaint-tite.ca
SUMMARY:100977 _ TIREUR
DESCRIPTION:
URL:https://clubdetirsaint-tite.ca/event/100977-_-tireur-3/
CATEGORIES:PRÉSENCES
END:VEVENT
BEGIN:VEVENT
DTSTART;TZID=America/Toronto:20250820T105200
DTEND;TZID=America/Toronto:20250820T105300
DTSTAMP:20260422T200031
CREATED:20250901T023530Z
LAST-MODIFIED:20250901T023530Z
UID:10003886-1755687120-1755687180@clubdetirsaint-tite.ca
SUMMARY:100480 _ OFFICIEL
DESCRIPTION:
URL:https://clubdetirsaint-tite.ca/event/100480-_-officiel/
CATEGORIES:PRÉSENCES
END:VEVENT
BEGIN:VEVENT
DTSTART;TZID=America/Toronto:20250820T130000
DTEND;TZID=America/Toronto:20250820T160000
DTSTAMP:20260422T200031
CREATED:20250724T164207Z
LAST-MODIFIED:20250724T164207Z
UID:10003546-1755694800-1755705600@clubdetirsaint-tite.ca
SUMMARY:OFFICIEL
DESCRIPTION:tir libre \nand-jas
URL:https://clubdetirsaint-tite.ca/event/officiel-99/
LOCATION:Club de Tir Saint-Tite\, 35 QC-153\, Saint-Tite\, Quebec\, G0X 3H0\, Canada
END:VEVENT
BEGIN:VEVENT
DTSTART;TZID=America/Toronto:20250820T130100
DTEND;TZID=America/Toronto:20250820T162500
DTSTAMP:20260422T200031
CREATED:20250901T023749Z
LAST-MODIFIED:20250901T023749Z
UID:10003892-1755694860-1755707100@clubdetirsaint-tite.ca
SUMMARY:100548 _ OFFICIEL
DESCRIPTION:
URL:https://clubdetirsaint-tite.ca/event/100548-_-officiel-51/
CATEGORIES:PRÉSENCES
END:VEVENT
BEGIN:VEVENT
DTSTART;TZID=America/Toronto:20250820T130800
DTEND;TZID=America/Toronto:20250820T155000
DTSTAMP:20260422T200031
CREATED:20250901T023731Z
LAST-MODIFIED:20250901T023731Z
UID:10003891-1755695280-1755705000@clubdetirsaint-tite.ca
SUMMARY:100137 _ TIREUR
DESCRIPTION:
URL:https://clubdetirsaint-tite.ca/event/100137-_-tireur-19/
CATEGORIES:PRÉSENCES
END:VEVENT
BEGIN:VEVENT
DTSTART;TZID=America/Toronto:20250820T133900
DTEND;TZID=America/Toronto:20250820T150100
DTSTAMP:20260422T200031
CREATED:20250901T023730Z
LAST-MODIFIED:20250901T023730Z
UID:10003887-1755697140-1755702060@clubdetirsaint-tite.ca
SUMMARY:102642 _ TIREUR
DESCRIPTION:
URL:https://clubdetirsaint-tite.ca/event/102642-_-tireur/
CATEGORIES:PRÉSENCES
END:VEVENT
BEGIN:VEVENT
DTSTART;TZID=America/Toronto:20250820T134000
DTEND;TZID=America/Toronto:20250820T150100
DTSTAMP:20260422T200031
CREATED:20250901T023730Z
LAST-MODIFIED:20250901T023730Z
UID:10003888-1755697200-1755702060@clubdetirsaint-tite.ca
SUMMARY:102150 _ TIREUR
DESCRIPTION:
URL:https://clubdetirsaint-tite.ca/event/102150-_-tireur-9/
CATEGORIES:PRÉSENCES
END:VEVENT
BEGIN:VEVENT
DTSTART;TZID=America/Toronto:20250820T135100
DTEND;TZID=America/Toronto:20250820T151000
DTSTAMP:20260422T200031
CREATED:20250901T023730Z
LAST-MODIFIED:20250901T023730Z
UID:10003889-1755697860-1755702600@clubdetirsaint-tite.ca
SUMMARY:100118 _ TIREUR
DESCRIPTION:
URL:https://clubdetirsaint-tite.ca/event/100118-_-tireur-53/
CATEGORIES:PRÉSENCES
END:VEVENT
BEGIN:VEVENT
DTSTART;TZID=America/Toronto:20250820T142000
DTEND;TZID=America/Toronto:20250820T151600
DTSTAMP:20260422T200031
CREATED:20250901T023731Z
LAST-MODIFIED:20250901T023731Z
UID:10003890-1755699600-1755702960@clubdetirsaint-tite.ca
SUMMARY:100706 _ TIREUR
DESCRIPTION:
URL:https://clubdetirsaint-tite.ca/event/100706-_-tireur-14/
CATEGORIES:PRÉSENCES
END:VEVENT
BEGIN:VEVENT
DTSTART;TZID=America/Toronto:20250820T180000
DTEND;TZID=America/Toronto:20250820T190000
DTSTAMP:20260422T200031
CREATED:20250717T131156Z
LAST-MODIFIED:20250717T131156Z
UID:10003537-1755712800-1755716400@clubdetirsaint-tite.ca
SUMMARY:Session accueil
DESCRIPTION:Session accueil
URL:https://clubdetirsaint-tite.ca/event/session-accueil-13/
LOCATION:Club de Tir Saint-Tite\, 35 QC-153\, Saint-Tite\, Quebec\, G0X 3H0\, Canada
END:VEVENT
BEGIN:VEVENT
DTSTART;TZID=America/Toronto:20250821T091000
DTEND;TZID=America/Toronto:20250821T091000
DTSTAMP:20260422T200031
CREATED:20250901T023749Z
LAST-MODIFIED:20250901T023749Z
UID:10003893-1755767400-1755767400@clubdetirsaint-tite.ca
SUMMARY:103231 _ OFFICIEL
DESCRIPTION:
URL:https://clubdetirsaint-tite.ca/event/103231-_-officiel/
CATEGORIES:PRÉSENCES
END:VEVENT
BEGIN:VEVENT
DTSTART;TZID=America/Toronto:20250821T091000
DTEND;TZID=America/Toronto:20250821T091000
DTSTAMP:20260422T200031
CREATED:20250901T023749Z
LAST-MODIFIED:20250901T023749Z
UID:10003894-1755767400-1755767400@clubdetirsaint-tite.ca
SUMMARY:103231 _ OFFICIEL
DESCRIPTION:
URL:https://clubdetirsaint-tite.ca/event/103231-_-officiel-2/
CATEGORIES:PRÉSENCES
END:VEVENT
BEGIN:VEVENT
DTSTART;TZID=America/Toronto:20250821T091000
DTEND;TZID=America/Toronto:20250821T091100
DTSTAMP:20260422T200031
CREATED:20250901T023750Z
LAST-MODIFIED:20250901T023750Z
UID:10003895-1755767400-1755767460@clubdetirsaint-tite.ca
SUMMARY:103231 _ OFFICIEL
DESCRIPTION:
URL:https://clubdetirsaint-tite.ca/event/103231-_-officiel-3/
CATEGORIES:PRÉSENCES
END:VEVENT
BEGIN:VEVENT
DTSTART;TZID=America/Toronto:20250821T182600
DTEND;TZID=America/Toronto:20250821T203600
DTSTAMP:20260422T200031
CREATED:20250901T023805Z
LAST-MODIFIED:20250901T023805Z
UID:10003901-1755800760-1755808560@clubdetirsaint-tite.ca
SUMMARY:102693 _ OFFICIEL
DESCRIPTION:
URL:https://clubdetirsaint-tite.ca/event/102693-_-officiel-3/
CATEGORIES:PRÉSENCES
END:VEVENT
BEGIN:VEVENT
DTSTART;TZID=America/Toronto:20250821T182700
DTEND;TZID=America/Toronto:20250821T202900
DTSTAMP:20260422T200031
CREATED:20250901T023750Z
LAST-MODIFIED:20250901T023750Z
UID:10003896-1755800820-1755808140@clubdetirsaint-tite.ca
SUMMARY:102872 _ TIREUR
DESCRIPTION:
URL:https://clubdetirsaint-tite.ca/event/102872-_-tireur-7/
CATEGORIES:PRÉSENCES
END:VEVENT
END:VCALENDAR