BEGIN:VCALENDAR
VERSION:2.0
PRODID:-//Club de Tir Saint-Tite - ECPv6.15.20//NONSGML v1.0//EN
CALSCALE:GREGORIAN
METHOD:PUBLISH
X-ORIGINAL-URL:https://clubdetirsaint-tite.ca
X-WR-CALDESC:Évènements pour Club de Tir Saint-Tite
REFRESH-INTERVAL;VALUE=DURATION:PT1H
X-Robots-Tag:noindex
X-PUBLISHED-TTL:PT1H
BEGIN:VTIMEZONE
TZID:America/Toronto
BEGIN:DAYLIGHT
TZOFFSETFROM:-0500
TZOFFSETTO:-0400
TZNAME:EDT
DTSTART:20240310T070000
END:DAYLIGHT
BEGIN:STANDARD
TZOFFSETFROM:-0400
TZOFFSETTO:-0500
TZNAME:EST
DTSTART:20241103T060000
END:STANDARD
BEGIN:DAYLIGHT
TZOFFSETFROM:-0500
TZOFFSETTO:-0400
TZNAME:EDT
DTSTART:20250309T070000
END:DAYLIGHT
BEGIN:STANDARD
TZOFFSETFROM:-0400
TZOFFSETTO:-0500
TZNAME:EST
DTSTART:20251102T060000
END:STANDARD
BEGIN:DAYLIGHT
TZOFFSETFROM:-0500
TZOFFSETTO:-0400
TZNAME:EDT
DTSTART:20260308T070000
END:DAYLIGHT
BEGIN:STANDARD
TZOFFSETFROM:-0400
TZOFFSETTO:-0500
TZNAME:EST
DTSTART:20261101T060000
END:STANDARD
END:VTIMEZONE
BEGIN:VEVENT
DTSTART;TZID=America/Toronto:20250824T113400
DTEND;TZID=America/Toronto:20250824T115100
DTSTAMP:20260423T015436
CREATED:20250901T023924Z
LAST-MODIFIED:20250901T023924Z
UID:10003913-1756035240-1756036260@clubdetirsaint-tite.ca
SUMMARY:100777 _ TIREUR
DESCRIPTION:
URL:https://clubdetirsaint-tite.ca/event/100777-_-tireur-3/
LOCATION:Quebec
CATEGORIES:PRÉSENCES
END:VEVENT
BEGIN:VEVENT
DTSTART;TZID=America/Toronto:20250824T125600
DTEND;TZID=America/Toronto:20250824T150900
DTSTAMP:20260423T015436
CREATED:20250901T023925Z
LAST-MODIFIED:20250901T023925Z
UID:10003915-1756040160-1756048140@clubdetirsaint-tite.ca
SUMMARY:100777 _ OFFICIEL
DESCRIPTION:
URL:https://clubdetirsaint-tite.ca/event/100777-_-officiel-4/
LOCATION:Quebec
CATEGORIES:PRÉSENCES
END:VEVENT
BEGIN:VEVENT
DTSTART;TZID=America/Toronto:20250824T130000
DTEND;TZID=America/Toronto:20250824T150000
DTSTAMP:20260423T015436
CREATED:20250824T030307Z
LAST-MODIFIED:20250824T030307Z
UID:10003769-1756040400-1756047600@clubdetirsaint-tite.ca
SUMMARY:OFFICIEL #100777
DESCRIPTION:officiel présent au 50 mètres\n13h à 15h
URL:https://clubdetirsaint-tite.ca/event/officiel-100777-2/
LOCATION:Club de Tir Saint-Tite\, 35 QC-153\, Saint-Tite\, Quebec\, G0X 3H0\, Canada
END:VEVENT
BEGIN:VEVENT
DTSTART;TZID=America/Toronto:20250824T130600
DTEND;TZID=America/Toronto:20250824T130600
DTSTAMP:20260423T015436
CREATED:20250901T023924Z
LAST-MODIFIED:20250901T023924Z
UID:10003914-1756040760-1756040760@clubdetirsaint-tite.ca
SUMMARY:102048 _ OFFICIEL
DESCRIPTION:
URL:https://clubdetirsaint-tite.ca/event/102048-_-officiel-12/
LOCATION:Quebec
CATEGORIES:PRÉSENCES
END:VEVENT
BEGIN:VEVENT
DTSTART;TZID=America/Toronto:20250825T124500
DTEND;TZID=America/Toronto:20250825T160900
DTSTAMP:20260423T015436
CREATED:20250901T023955Z
LAST-MODIFIED:20250901T023955Z
UID:10003925-1756125900-1756138140@clubdetirsaint-tite.ca
SUMMARY:100549 _ OFFICIEL
DESCRIPTION:
URL:https://clubdetirsaint-tite.ca/event/100549-_-officiel-61/
LOCATION:Quebec
CATEGORIES:PRÉSENCES
END:VEVENT
BEGIN:VEVENT
DTSTART;TZID=America/Toronto:20250825T125100
DTEND;TZID=America/Toronto:20250825T140000
DTSTAMP:20260423T015436
CREATED:20250901T023939Z
LAST-MODIFIED:20250901T023939Z
UID:10003919-1756126260-1756130400@clubdetirsaint-tite.ca
SUMMARY:101713 _ TIREUR
DESCRIPTION:
URL:https://clubdetirsaint-tite.ca/event/101713-_-tireur-27/
LOCATION:Quebec
CATEGORIES:PRÉSENCES
END:VEVENT
BEGIN:VEVENT
DTSTART;TZID=America/Toronto:20250825T125200
DTEND;TZID=America/Toronto:20250825T134800
DTSTAMP:20260423T015436
CREATED:20250901T023939Z
LAST-MODIFIED:20250901T023939Z
UID:10003917-1756126320-1756129680@clubdetirsaint-tite.ca
SUMMARY:100072 _ TIREUR
DESCRIPTION:
URL:https://clubdetirsaint-tite.ca/event/100072-_-tireur-57/
LOCATION:Quebec
CATEGORIES:PRÉSENCES
END:VEVENT
BEGIN:VEVENT
DTSTART;TZID=America/Toronto:20250825T125400
DTEND;TZID=America/Toronto:20250825T134800
DTSTAMP:20260423T015436
CREATED:20250901T023939Z
LAST-MODIFIED:20250901T023939Z
UID:10003918-1756126440-1756129680@clubdetirsaint-tite.ca
SUMMARY:100377 _ TIREUR
DESCRIPTION:
URL:https://clubdetirsaint-tite.ca/event/100377-_-tireur-2/
LOCATION:Quebec
CATEGORIES:PRÉSENCES
END:VEVENT
BEGIN:VEVENT
DTSTART;TZID=America/Toronto:20250825T130000
DTEND;TZID=America/Toronto:20250825T160000
DTSTAMP:20260423T015436
CREATED:20250724T164238Z
LAST-MODIFIED:20250724T164238Z
UID:10003547-1756126800-1756137600@clubdetirsaint-tite.ca
SUMMARY:OFFICIEL
DESCRIPTION:tir libre \nand-jas
URL:https://clubdetirsaint-tite.ca/event/officiel-100/
LOCATION:Club de Tir Saint-Tite\, 35 QC-153\, Saint-Tite\, Quebec\, G0X 3H0\, Canada
END:VEVENT
BEGIN:VEVENT
DTSTART;TZID=America/Toronto:20250825T130100
DTEND;TZID=America/Toronto:20250825T133700
DTSTAMP:20260423T015436
CREATED:20250901T023925Z
LAST-MODIFIED:20250901T023925Z
UID:10003916-1756126860-1756129020@clubdetirsaint-tite.ca
SUMMARY:101365 _ TIREUR
DESCRIPTION:
URL:https://clubdetirsaint-tite.ca/event/101365-_-tireur-9/
LOCATION:Quebec
CATEGORIES:PRÉSENCES
END:VEVENT
BEGIN:VEVENT
DTSTART;TZID=America/Toronto:20250825T131000
DTEND;TZID=America/Toronto:20250825T160900
DTSTAMP:20260423T015436
CREATED:20250901T023954Z
LAST-MODIFIED:20250901T023954Z
UID:10003924-1756127400-1756138140@clubdetirsaint-tite.ca
SUMMARY:100118 _ TIREUR
DESCRIPTION:
URL:https://clubdetirsaint-tite.ca/event/100118-_-tireur-54/
LOCATION:Quebec
CATEGORIES:PRÉSENCES
END:VEVENT
BEGIN:VEVENT
DTSTART;TZID=America/Toronto:20250825T134800
DTEND;TZID=America/Toronto:20250825T143200
DTSTAMP:20260423T015436
CREATED:20250901T023940Z
LAST-MODIFIED:20250901T023940Z
UID:10003920-1756129680-1756132320@clubdetirsaint-tite.ca
SUMMARY:100377 _ TIREUR
DESCRIPTION:
URL:https://clubdetirsaint-tite.ca/event/100377-_-tireur-3/
LOCATION:Quebec
CATEGORIES:PRÉSENCES
END:VEVENT
BEGIN:VEVENT
DTSTART;TZID=America/Toronto:20250825T144100
DTEND;TZID=America/Toronto:20250825T153200
DTSTAMP:20260423T015436
CREATED:20250901T023940Z
LAST-MODIFIED:20250901T023940Z
UID:10003921-1756132860-1756135920@clubdetirsaint-tite.ca
SUMMARY:101598 _ TIREUR
DESCRIPTION:
URL:https://clubdetirsaint-tite.ca/event/101598-_-tireur-5/
LOCATION:Quebec
CATEGORIES:PRÉSENCES
END:VEVENT
BEGIN:VEVENT
DTSTART;TZID=America/Toronto:20250825T145800
DTEND;TZID=America/Toronto:20250825T154600
DTSTAMP:20260423T015436
CREATED:20250901T023954Z
LAST-MODIFIED:20250901T023954Z
UID:10003922-1756133880-1756136760@clubdetirsaint-tite.ca
SUMMARY:100630 _ TIREUR
DESCRIPTION:
URL:https://clubdetirsaint-tite.ca/event/100630-_-tireur-7/
LOCATION:Quebec
CATEGORIES:PRÉSENCES
END:VEVENT
BEGIN:VEVENT
DTSTART;TZID=America/Toronto:20250825T152700
DTEND;TZID=America/Toronto:20250825T154700
DTSTAMP:20260423T015436
CREATED:20250901T023954Z
LAST-MODIFIED:20250901T023954Z
UID:10003923-1756135620-1756136820@clubdetirsaint-tite.ca
SUMMARY:100294 _ TIREUR
DESCRIPTION:
URL:https://clubdetirsaint-tite.ca/event/100294-_-tireur-2/
LOCATION:Quebec
CATEGORIES:PRÉSENCES
END:VEVENT
BEGIN:VEVENT
DTSTART;TZID=America/Toronto:20250827T123100
DTEND;TZID=America/Toronto:20250827T123300
DTSTAMP:20260423T015436
CREATED:20250901T023955Z
LAST-MODIFIED:20250901T023955Z
UID:10003926-1756297860-1756297980@clubdetirsaint-tite.ca
SUMMARY:100137 _ OFFICIEL
DESCRIPTION:
URL:https://clubdetirsaint-tite.ca/event/100137-_-officiel-10/
LOCATION:Quebec
CATEGORIES:PRÉSENCES
END:VEVENT
BEGIN:VEVENT
DTSTART;TZID=America/Toronto:20250827T123500
DTEND;TZID=America/Toronto:20250827T161800
DTSTAMP:20260423T015436
CREATED:20250901T024009Z
LAST-MODIFIED:20250901T024009Z
UID:10003930-1756298100-1756311480@clubdetirsaint-tite.ca
SUMMARY:100549 _ OFFICIEL
DESCRIPTION:
URL:https://clubdetirsaint-tite.ca/event/100549-_-officiel-62/
LOCATION:Quebec
CATEGORIES:PRÉSENCES
END:VEVENT
BEGIN:VEVENT
DTSTART;TZID=America/Toronto:20250827T123700
DTEND;TZID=America/Toronto:20250827T161800
DTSTAMP:20260423T015436
CREATED:20250901T024009Z
LAST-MODIFIED:20250901T024009Z
UID:10003929-1756298220-1756311480@clubdetirsaint-tite.ca
SUMMARY:100137 _ TIREUR
DESCRIPTION:
URL:https://clubdetirsaint-tite.ca/event/100137-_-tireur-20/
LOCATION:Quebec
CATEGORIES:PRÉSENCES
END:VEVENT
BEGIN:VEVENT
DTSTART;TZID=America/Toronto:20250827T130000
DTEND;TZID=America/Toronto:20250827T160000
DTSTAMP:20260423T015436
CREATED:20250724T164313Z
LAST-MODIFIED:20250724T164313Z
UID:10003548-1756299600-1756310400@clubdetirsaint-tite.ca
SUMMARY:OFFICIEL
DESCRIPTION:tir libre \nand-jas
URL:https://clubdetirsaint-tite.ca/event/officiel-101/
LOCATION:Club de Tir Saint-Tite\, 35 QC-153\, Saint-Tite\, Quebec\, G0X 3H0\, Canada
END:VEVENT
BEGIN:VEVENT
DTSTART;TZID=America/Toronto:20250827T132100
DTEND;TZID=America/Toronto:20250827T150600
DTSTAMP:20260423T015436
CREATED:20250901T024009Z
LAST-MODIFIED:20250901T024009Z
UID:10003927-1756300860-1756307160@clubdetirsaint-tite.ca
SUMMARY:100500 _ TIREUR
DESCRIPTION:
URL:https://clubdetirsaint-tite.ca/event/100500-_-tireur-3/
LOCATION:Quebec
CATEGORIES:PRÉSENCES
END:VEVENT
BEGIN:VEVENT
DTSTART;TZID=America/Toronto:20250827T152500
DTEND;TZID=America/Toronto:20250827T160700
DTSTAMP:20260423T015436
CREATED:20250901T024009Z
LAST-MODIFIED:20250901T024009Z
UID:10003928-1756308300-1756310820@clubdetirsaint-tite.ca
SUMMARY:102807 _ TIREUR
DESCRIPTION:
URL:https://clubdetirsaint-tite.ca/event/102807-_-tireur-3/
LOCATION:Quebec
CATEGORIES:PRÉSENCES
END:VEVENT
BEGIN:VEVENT
DTSTART;TZID=America/Toronto:20250829T110000
DTEND;TZID=America/Toronto:20250829T123000
DTSTAMP:20260423T015436
CREATED:20250828T174305Z
LAST-MODIFIED:20250828T174305Z
UID:10003775-1756465200-1756470600@clubdetirsaint-tite.ca
SUMMARY:Officiel 101132
DESCRIPTION:Officiel
URL:https://clubdetirsaint-tite.ca/event/officiel-101132/
LOCATION:Club de Tir Saint-Tite\, 35 QC-153\, Saint-Tite\, Quebec\, G0X 3H0\, Canada
END:VEVENT
BEGIN:VEVENT
DTSTART;TZID=America/Toronto:20250829T110200
DTEND;TZID=America/Toronto:20250829T125000
DTSTAMP:20260423T015436
CREATED:20250922T003846Z
LAST-MODIFIED:20250922T003846Z
UID:10003942-1756465320-1756471800@clubdetirsaint-tite.ca
SUMMARY:101132 _ OFFICIEL
DESCRIPTION:
URL:https://clubdetirsaint-tite.ca/event/101132-_-officiel-4/
LOCATION:Quebec
CATEGORIES:PRÉSENCES
END:VEVENT
BEGIN:VEVENT
DTSTART;TZID=America/Toronto:20250829T110400
DTEND;TZID=America/Toronto:20250829T125000
DTSTAMP:20260423T015436
CREATED:20250922T003846Z
LAST-MODIFIED:20250922T003846Z
UID:10003941-1756465440-1756471800@clubdetirsaint-tite.ca
SUMMARY:101189 _ TIREUR
DESCRIPTION:
URL:https://clubdetirsaint-tite.ca/event/101189-_-tireur-5/
LOCATION:Quebec
CATEGORIES:PRÉSENCES
END:VEVENT
BEGIN:VEVENT
DTSTART;TZID=America/Toronto:20250829T123000
DTEND;TZID=America/Toronto:20250829T140000
DTSTAMP:20260423T015436
CREATED:20250828T174435Z
LAST-MODIFIED:20250828T174435Z
UID:10003776-1756470600-1756476000@clubdetirsaint-tite.ca
SUMMARY:Officiel 101189
DESCRIPTION:Officiel
URL:https://clubdetirsaint-tite.ca/event/officiel-101189/
LOCATION:Club de Tir Saint-Tite\, 35 QC-153\, Saint-Tite\, Quebec\, G0X 3H0\, Canada
END:VEVENT
BEGIN:VEVENT
DTSTART;TZID=America/Toronto:20250829T125100
DTEND;TZID=America/Toronto:20250829T164700
DTSTAMP:20260423T015436
CREATED:20250922T003847Z
LAST-MODIFIED:20250922T003847Z
UID:10003944-1756471860-1756486020@clubdetirsaint-tite.ca
SUMMARY:101189 _ OFFICIEL
DESCRIPTION:
URL:https://clubdetirsaint-tite.ca/event/101189-_-officiel-6/
LOCATION:Quebec
CATEGORIES:PRÉSENCES
END:VEVENT
BEGIN:VEVENT
DTSTART;TZID=America/Toronto:20250829T125200
DTEND;TZID=America/Toronto:20250829T134500
DTSTAMP:20260423T015436
CREATED:20250922T003847Z
LAST-MODIFIED:20250922T003847Z
UID:10003943-1756471920-1756475100@clubdetirsaint-tite.ca
SUMMARY:101188 _ TIREUR
DESCRIPTION:
URL:https://clubdetirsaint-tite.ca/event/101188-_-tireur-2/
LOCATION:Quebec
CATEGORIES:PRÉSENCES
END:VEVENT
BEGIN:VEVENT
DTSTART;TZID=America/Toronto:20250829T125300
DTEND;TZID=America/Toronto:20250829T164800
DTSTAMP:20260423T015436
CREATED:20250922T003847Z
LAST-MODIFIED:20250922T003847Z
UID:10003945-1756471980-1756486080@clubdetirsaint-tite.ca
SUMMARY:101132 _ TIREUR
DESCRIPTION:
URL:https://clubdetirsaint-tite.ca/event/101132-_-tireur-5/
LOCATION:Quebec
CATEGORIES:PRÉSENCES
END:VEVENT
BEGIN:VEVENT
DTSTART;VALUE=DATE:20250830
DTEND;VALUE=DATE:20250831
DTSTAMP:20260423T015436
CREATED:20250415T002505Z
LAST-MODIFIED:20250415T002505Z
UID:10003033-1756512000-1756598399@clubdetirsaint-tite.ca
SUMMARY:JOURNÉE PORTE OUVERTE
DESCRIPTION:Journée porte ouverte toute la journée. \nTous les pas de tir serons utilisé donc le club seras fermé pour les membres. \nMerci\, Eric Launier Vise-Président.
URL:https://clubdetirsaint-tite.ca/event/journee-porte-ouverte-4/
LOCATION:Club de Tir Saint-Tite\, 35 QC-153\, Saint-Tite\, Quebec\, G0X 3H0\, Canada
END:VEVENT
BEGIN:VEVENT
DTSTART;TZID=America/Toronto:20250830T085700
DTEND;TZID=America/Toronto:20250830T165100
DTSTAMP:20260423T015436
CREATED:20250922T003903Z
LAST-MODIFIED:20250922T003903Z
UID:10003952-1756544220-1756572660@clubdetirsaint-tite.ca
SUMMARY:102121 _ OFFICIEL
DESCRIPTION:
URL:https://clubdetirsaint-tite.ca/event/102121-_-officiel-7/
LOCATION:Quebec
CATEGORIES:PRÉSENCES
END:VEVENT
END:VCALENDAR