BEGIN:VCALENDAR
VERSION:2.0
PRODID:-//Club de Tir Saint-Tite - ECPv6.15.20//NONSGML v1.0//EN
CALSCALE:GREGORIAN
METHOD:PUBLISH
X-ORIGINAL-URL:https://clubdetirsaint-tite.ca
X-WR-CALDESC:Évènements pour Club de Tir Saint-Tite
REFRESH-INTERVAL;VALUE=DURATION:PT1H
X-Robots-Tag:noindex
X-PUBLISHED-TTL:PT1H
BEGIN:VTIMEZONE
TZID:America/Toronto
BEGIN:DAYLIGHT
TZOFFSETFROM:-0500
TZOFFSETTO:-0400
TZNAME:EDT
DTSTART:20240310T070000
END:DAYLIGHT
BEGIN:STANDARD
TZOFFSETFROM:-0400
TZOFFSETTO:-0500
TZNAME:EST
DTSTART:20241103T060000
END:STANDARD
BEGIN:DAYLIGHT
TZOFFSETFROM:-0500
TZOFFSETTO:-0400
TZNAME:EDT
DTSTART:20250309T070000
END:DAYLIGHT
BEGIN:STANDARD
TZOFFSETFROM:-0400
TZOFFSETTO:-0500
TZNAME:EST
DTSTART:20251102T060000
END:STANDARD
BEGIN:DAYLIGHT
TZOFFSETFROM:-0500
TZOFFSETTO:-0400
TZNAME:EDT
DTSTART:20260308T070000
END:DAYLIGHT
BEGIN:STANDARD
TZOFFSETFROM:-0400
TZOFFSETTO:-0500
TZNAME:EST
DTSTART:20261101T060000
END:STANDARD
END:VTIMEZONE
BEGIN:VEVENT
DTSTART;TZID=America/Toronto:20250503T110100
DTEND;TZID=America/Toronto:20250503T122300
DTSTAMP:20260419T102128
CREATED:20250511T023726Z
LAST-MODIFIED:20250511T023726Z
UID:10003222-1746270060-1746274980@clubdetirsaint-tite.ca
SUMMARY:102001 _ TIREUR
DESCRIPTION:
URL:https://clubdetirsaint-tite.ca/event/102001-_-tireur-4/
LOCATION:Quebec
CATEGORIES:PRÉSENCES
END:VEVENT
BEGIN:VEVENT
DTSTART;TZID=America/Toronto:20250503T110800
DTEND;TZID=America/Toronto:20250503T113000
DTSTAMP:20260419T102128
CREATED:20250511T023657Z
LAST-MODIFIED:20250511T023657Z
UID:10003213-1746270480-1746271800@clubdetirsaint-tite.ca
SUMMARY:101605 _ TIREUR
DESCRIPTION:
URL:https://clubdetirsaint-tite.ca/event/101605-_-tireur/
LOCATION:Quebec
CATEGORIES:PRÉSENCES
END:VEVENT
BEGIN:VEVENT
DTSTART;TZID=America/Toronto:20250503T110800
DTEND;TZID=America/Toronto:20250503T120100
DTSTAMP:20260419T102128
CREATED:20250511T023726Z
LAST-MODIFIED:20250511T023726Z
UID:10003220-1746270480-1746273660@clubdetirsaint-tite.ca
SUMMARY:101642 _ TIREUR
DESCRIPTION:
URL:https://clubdetirsaint-tite.ca/event/101642-_-tireur/
LOCATION:Quebec
CATEGORIES:PRÉSENCES
END:VEVENT
BEGIN:VEVENT
DTSTART;TZID=America/Toronto:20250503T110900
DTEND;TZID=America/Toronto:20250503T113600
DTSTAMP:20260419T102128
CREATED:20250511T023711Z
LAST-MODIFIED:20250511T023711Z
UID:10003216-1746270540-1746272160@clubdetirsaint-tite.ca
SUMMARY:101885 _ TIREUR
DESCRIPTION:
URL:https://clubdetirsaint-tite.ca/event/101885-_-tireur-2/
LOCATION:Quebec
CATEGORIES:PRÉSENCES
END:VEVENT
BEGIN:VEVENT
DTSTART;TZID=America/Toronto:20250503T110900
DTEND;TZID=America/Toronto:20250503T132500
DTSTAMP:20260419T102128
CREATED:20250511T023756Z
LAST-MODIFIED:20250511T023756Z
UID:10003229-1746270540-1746278700@clubdetirsaint-tite.ca
SUMMARY:101715 _ OFFICIEL
DESCRIPTION:
URL:https://clubdetirsaint-tite.ca/event/101715-_-officiel-2/
LOCATION:Quebec
CATEGORIES:PRÉSENCES
END:VEVENT
BEGIN:VEVENT
DTSTART;TZID=America/Toronto:20250503T111000
DTEND;TZID=America/Toronto:20250503T120100
DTSTAMP:20260419T102128
CREATED:20250511T023726Z
LAST-MODIFIED:20250511T023726Z
UID:10003221-1746270600-1746273660@clubdetirsaint-tite.ca
SUMMARY:101643 _ TIREUR
DESCRIPTION:
URL:https://clubdetirsaint-tite.ca/event/101643-_-tireur/
LOCATION:Quebec
CATEGORIES:PRÉSENCES
END:VEVENT
BEGIN:VEVENT
DTSTART;TZID=America/Toronto:20250503T111100
DTEND;TZID=America/Toronto:20250503T130300
DTSTAMP:20260419T102128
CREATED:20250511T023742Z
LAST-MODIFIED:20250511T023742Z
UID:10003228-1746270660-1746277380@clubdetirsaint-tite.ca
SUMMARY:100826 _ TIREUR
DESCRIPTION:
URL:https://clubdetirsaint-tite.ca/event/100826-_-tireur/
LOCATION:Quebec
CATEGORIES:PRÉSENCES
END:VEVENT
BEGIN:VEVENT
DTSTART;TZID=America/Toronto:20250503T111200
DTEND;TZID=America/Toronto:20250503T112900
DTSTAMP:20260419T102128
CREATED:20250511T023657Z
LAST-MODIFIED:20250511T023657Z
UID:10003212-1746270720-1746271740@clubdetirsaint-tite.ca
SUMMARY:101112 _ TIREUR
DESCRIPTION:
URL:https://clubdetirsaint-tite.ca/event/101112-_-tireur/
LOCATION:Quebec
CATEGORIES:PRÉSENCES
END:VEVENT
BEGIN:VEVENT
DTSTART;TZID=America/Toronto:20250503T113600
DTEND;TZID=America/Toronto:20250503T123000
DTSTAMP:20260419T102128
CREATED:20250511T023741Z
LAST-MODIFIED:20250511T023741Z
UID:10003225-1746272160-1746275400@clubdetirsaint-tite.ca
SUMMARY:101885 _ OFFICIEL
DESCRIPTION:
URL:https://clubdetirsaint-tite.ca/event/101885-_-officiel-2/
LOCATION:Quebec
CATEGORIES:PRÉSENCES
END:VEVENT
BEGIN:VEVENT
DTSTART;TZID=America/Toronto:20250503T113600
DTEND;TZID=America/Toronto:20250503T132500
DTSTAMP:20260419T102128
CREATED:20250511T023756Z
LAST-MODIFIED:20250511T023756Z
UID:10003230-1746272160-1746278700@clubdetirsaint-tite.ca
SUMMARY:100974 _ TIREUR
DESCRIPTION:
URL:https://clubdetirsaint-tite.ca/event/100974-_-tireur/
LOCATION:Quebec
CATEGORIES:PRÉSENCES
END:VEVENT
BEGIN:VEVENT
DTSTART;TZID=America/Toronto:20250503T113900
DTEND;TZID=America/Toronto:20250503T122900
DTSTAMP:20260419T102128
CREATED:20250511T023741Z
LAST-MODIFIED:20250511T023741Z
UID:10003224-1746272340-1746275340@clubdetirsaint-tite.ca
SUMMARY:100520 _ TIREUR
DESCRIPTION:
URL:https://clubdetirsaint-tite.ca/event/100520-_-tireur/
LOCATION:Quebec
CATEGORIES:PRÉSENCES
END:VEVENT
BEGIN:VEVENT
DTSTART;TZID=America/Toronto:20250503T114000
DTEND;TZID=America/Toronto:20250503T122900
DTSTAMP:20260419T102128
CREATED:20250511T023727Z
LAST-MODIFIED:20250511T023727Z
UID:10003223-1746272400-1746275340@clubdetirsaint-tite.ca
SUMMARY:100519 _ TIREUR
DESCRIPTION:
URL:https://clubdetirsaint-tite.ca/event/100519-_-tireur/
LOCATION:Quebec
CATEGORIES:PRÉSENCES
END:VEVENT
BEGIN:VEVENT
DTSTART;TZID=America/Toronto:20250503T114100
DTEND;TZID=America/Toronto:20250503T132600
DTSTAMP:20260419T102128
CREATED:20250511T023756Z
LAST-MODIFIED:20250511T023756Z
UID:10003231-1746272460-1746278760@clubdetirsaint-tite.ca
SUMMARY:101713 _ OFFICIEL
DESCRIPTION:
URL:https://clubdetirsaint-tite.ca/event/101713-_-officiel-44/
LOCATION:Quebec
CATEGORIES:PRÉSENCES
END:VEVENT
BEGIN:VEVENT
DTSTART;TZID=America/Toronto:20250503T120000
DTEND;TZID=America/Toronto:20250503T124400
DTSTAMP:20260419T102128
CREATED:20250511T023741Z
LAST-MODIFIED:20250511T023741Z
UID:10003227-1746273600-1746276240@clubdetirsaint-tite.ca
SUMMARY:101031 _ TIREUR
DESCRIPTION:
URL:https://clubdetirsaint-tite.ca/event/101031-_-tireur-15/
LOCATION:Quebec
CATEGORIES:PRÉSENCES
END:VEVENT
BEGIN:VEVENT
DTSTART;TZID=America/Toronto:20250503T130500
DTEND;TZID=America/Toronto:20250503T132600
DTSTAMP:20260419T102128
CREATED:20250511T023756Z
LAST-MODIFIED:20250511T023756Z
UID:10003232-1746277500-1746278760@clubdetirsaint-tite.ca
SUMMARY:102530 _ TIREUR
DESCRIPTION:
URL:https://clubdetirsaint-tite.ca/event/102530-_-tireur/
LOCATION:Quebec
CATEGORIES:PRÉSENCES
END:VEVENT
BEGIN:VEVENT
DTSTART;TZID=America/Toronto:20250504T090400
DTEND;TZID=America/Toronto:20250504T090400
DTSTAMP:20260419T102128
CREATED:20250519T213239Z
LAST-MODIFIED:20250519T213239Z
UID:10003245-1746349440-1746349440@clubdetirsaint-tite.ca
SUMMARY:100008 _ OFFICIEL
DESCRIPTION:
URL:https://clubdetirsaint-tite.ca/event/100008-_-officiel-46/
LOCATION:Quebec
CATEGORIES:PRÉSENCES
END:VEVENT
BEGIN:VEVENT
DTSTART;TZID=America/Toronto:20250504T183000
DTEND;TZID=America/Toronto:20250504T200000
DTSTAMP:20260419T102128
CREATED:20250504T153457Z
LAST-MODIFIED:20250504T153457Z
UID:10003161-1746383400-1746388800@clubdetirsaint-tite.ca
SUMMARY:OFFICIEL #0979R1
DESCRIPTION:OFFICIEL
URL:https://clubdetirsaint-tite.ca/event/officiel-0979r1/
LOCATION:Club de Tir Saint-Tite\, 35 QC-153\, Saint-Tite\, Quebec\, G0X 3H0\, Canada
END:VEVENT
BEGIN:VEVENT
DTSTART;TZID=America/Toronto:20250505T124300
DTEND;TZID=America/Toronto:20250505T163000
DTSTAMP:20260419T102128
CREATED:20250519T213242Z
LAST-MODIFIED:20250519T213242Z
UID:10003253-1746448980-1746462600@clubdetirsaint-tite.ca
SUMMARY:100549 _ OFFICIEL
DESCRIPTION:
URL:https://clubdetirsaint-tite.ca/event/100549-_-officiel-39/
LOCATION:Quebec
CATEGORIES:PRÉSENCES
END:VEVENT
BEGIN:VEVENT
DTSTART;TZID=America/Toronto:20250505T130000
DTEND;TZID=America/Toronto:20250505T160000
DTSTAMP:20260419T102128
CREATED:20250401T220053Z
LAST-MODIFIED:20250401T220053Z
UID:10002929-1746450000-1746460800@clubdetirsaint-tite.ca
SUMMARY:OFFICIEL
DESCRIPTION:tir libre \nand-jas
URL:https://clubdetirsaint-tite.ca/event/officiel-63/
LOCATION:Club de Tir Saint-Tite\, 35 QC-153\, Saint-Tite\, Quebec\, G0X 3H0\, Canada
END:VEVENT
BEGIN:VEVENT
DTSTART;TZID=America/Toronto:20250505T132100
DTEND;TZID=America/Toronto:20250505T134300
DTSTAMP:20260419T102128
CREATED:20250519T213239Z
LAST-MODIFIED:20250519T213239Z
UID:10003246-1746451260-1746452580@clubdetirsaint-tite.ca
SUMMARY:101752 _ TIREUR
DESCRIPTION:
URL:https://clubdetirsaint-tite.ca/event/101752-_-tireur/
LOCATION:Quebec
CATEGORIES:PRÉSENCES
END:VEVENT
BEGIN:VEVENT
DTSTART;TZID=America/Toronto:20250505T134500
DTEND;TZID=America/Toronto:20250505T150300
DTSTAMP:20260419T102128
CREATED:20250519T213240Z
LAST-MODIFIED:20250519T213240Z
UID:10003249-1746452700-1746457380@clubdetirsaint-tite.ca
SUMMARY:101449 _ TIREUR
DESCRIPTION:
URL:https://clubdetirsaint-tite.ca/event/101449-_-tireur-4/
LOCATION:Quebec
CATEGORIES:PRÉSENCES
END:VEVENT
BEGIN:VEVENT
DTSTART;TZID=America/Toronto:20250505T135300
DTEND;TZID=America/Toronto:20250505T150300
DTSTAMP:20260419T102128
CREATED:20250519T213240Z
LAST-MODIFIED:20250519T213240Z
UID:10003248-1746453180-1746457380@clubdetirsaint-tite.ca
SUMMARY:100617 _ TIREUR
DESCRIPTION:
URL:https://clubdetirsaint-tite.ca/event/100617-_-tireur-4/
LOCATION:Quebec
CATEGORIES:PRÉSENCES
END:VEVENT
BEGIN:VEVENT
DTSTART;TZID=America/Toronto:20250505T135400
DTEND;TZID=America/Toronto:20250505T142300
DTSTAMP:20260419T102128
CREATED:20250519T213240Z
LAST-MODIFIED:20250519T213240Z
UID:10003247-1746453240-1746454980@clubdetirsaint-tite.ca
SUMMARY:100118 _ OFFICIEL
DESCRIPTION:
URL:https://clubdetirsaint-tite.ca/event/100118-_-officiel-7/
LOCATION:Quebec
CATEGORIES:PRÉSENCES
END:VEVENT
BEGIN:VEVENT
DTSTART;TZID=America/Toronto:20250505T142700
DTEND;TZID=America/Toronto:20250505T152400
DTSTAMP:20260419T102128
CREATED:20250519T213241Z
LAST-MODIFIED:20250519T213241Z
UID:10003250-1746455220-1746458640@clubdetirsaint-tite.ca
SUMMARY:101154 _ TIREUR
DESCRIPTION:
URL:https://clubdetirsaint-tite.ca/event/101154-_-tireur-5/
LOCATION:Quebec
CATEGORIES:PRÉSENCES
END:VEVENT
BEGIN:VEVENT
DTSTART;TZID=America/Toronto:20250505T150600
DTEND;TZID=America/Toronto:20250505T162800
DTSTAMP:20260419T102128
CREATED:20250519T213241Z
LAST-MODIFIED:20250519T213241Z
UID:10003251-1746457560-1746462480@clubdetirsaint-tite.ca
SUMMARY:101817 _ TIREUR
DESCRIPTION:
URL:https://clubdetirsaint-tite.ca/event/101817-_-tireur/
LOCATION:Quebec
CATEGORIES:PRÉSENCES
END:VEVENT
BEGIN:VEVENT
DTSTART;TZID=America/Toronto:20250505T151600
DTEND;TZID=America/Toronto:20250505T162900
DTSTAMP:20260419T102128
CREATED:20250519T213241Z
LAST-MODIFIED:20250519T213241Z
UID:10003252-1746458160-1746462540@clubdetirsaint-tite.ca
SUMMARY:101818 _ TIREUR
DESCRIPTION:
URL:https://clubdetirsaint-tite.ca/event/101818-_-tireur/
LOCATION:Quebec
CATEGORIES:PRÉSENCES
END:VEVENT
BEGIN:VEVENT
DTSTART;TZID=America/Toronto:20250505T165600
DTEND;TZID=America/Toronto:20250505T183200
DTSTAMP:20260419T102128
CREATED:20250519T213242Z
LAST-MODIFIED:20250519T213242Z
UID:10003254-1746464160-1746469920@clubdetirsaint-tite.ca
SUMMARY:101138 _ OFFICIEL
DESCRIPTION:
URL:https://clubdetirsaint-tite.ca/event/101138-_-officiel/
LOCATION:Quebec
CATEGORIES:PRÉSENCES
END:VEVENT
BEGIN:VEVENT
DTSTART;TZID=America/Toronto:20250505T170000
DTEND;TZID=America/Toronto:20250505T183000
DTSTAMP:20260419T102128
CREATED:20250504T153051Z
LAST-MODIFIED:20250504T153051Z
UID:10003160-1746464400-1746469800@clubdetirsaint-tite.ca
SUMMARY:OFFICIEL #101138
DESCRIPTION:OFFICIEL
URL:https://clubdetirsaint-tite.ca/event/officiel-101138/
LOCATION:Club de Tir Saint-Tite\, 35 QC-153\, Saint-Tite\, Quebec\, G0X 3H0\, Canada
END:VEVENT
BEGIN:VEVENT
DTSTART;TZID=America/Toronto:20250505T180000
DTEND;TZID=America/Toronto:20250505T200000
DTSTAMP:20260419T102128
CREATED:20250504T231518Z
LAST-MODIFIED:20250504T231518Z
UID:10003165-1746468000-1746475200@clubdetirsaint-tite.ca
SUMMARY:OFFICIEL 100011
DESCRIPTION: 
URL:https://clubdetirsaint-tite.ca/event/officiel-100011/
LOCATION:Club de Tir Saint-Tite\, 35 QC-153\, Saint-Tite\, Quebec\, G0X 3H0\, Canada
END:VEVENT
BEGIN:VEVENT
DTSTART;TZID=America/Toronto:20250505T183000
DTEND;TZID=America/Toronto:20250505T200000
DTSTAMP:20260419T102128
CREATED:20250504T163349Z
LAST-MODIFIED:20250504T163349Z
UID:10003163-1746469800-1746475200@clubdetirsaint-tite.ca
SUMMARY:OFFICIEL #0979R1
DESCRIPTION:OFFICIEL
URL:https://clubdetirsaint-tite.ca/event/officiel-0979r1-2/
LOCATION:Club de Tir Saint-Tite\, 35 QC-153\, Saint-Tite\, Quebec\, G0X 3H0\, Canada
END:VEVENT
END:VCALENDAR