BEGIN:VCALENDAR
VERSION:2.0
PRODID:-//Club de Tir Saint-Tite - ECPv6.15.20//NONSGML v1.0//EN
CALSCALE:GREGORIAN
METHOD:PUBLISH
X-ORIGINAL-URL:https://clubdetirsaint-tite.ca
X-WR-CALDESC:Évènements pour Club de Tir Saint-Tite
REFRESH-INTERVAL;VALUE=DURATION:PT1H
X-Robots-Tag:noindex
X-PUBLISHED-TTL:PT1H
BEGIN:VTIMEZONE
TZID:America/Toronto
BEGIN:DAYLIGHT
TZOFFSETFROM:-0500
TZOFFSETTO:-0400
TZNAME:EDT
DTSTART:20240310T070000
END:DAYLIGHT
BEGIN:STANDARD
TZOFFSETFROM:-0400
TZOFFSETTO:-0500
TZNAME:EST
DTSTART:20241103T060000
END:STANDARD
BEGIN:DAYLIGHT
TZOFFSETFROM:-0500
TZOFFSETTO:-0400
TZNAME:EDT
DTSTART:20250309T070000
END:DAYLIGHT
BEGIN:STANDARD
TZOFFSETFROM:-0400
TZOFFSETTO:-0500
TZNAME:EST
DTSTART:20251102T060000
END:STANDARD
BEGIN:DAYLIGHT
TZOFFSETFROM:-0500
TZOFFSETTO:-0400
TZNAME:EDT
DTSTART:20260308T070000
END:DAYLIGHT
BEGIN:STANDARD
TZOFFSETFROM:-0400
TZOFFSETTO:-0500
TZNAME:EST
DTSTART:20261101T060000
END:STANDARD
END:VTIMEZONE
BEGIN:VEVENT
DTSTART;TZID=America/Toronto:20250520T133000
DTEND;TZID=America/Toronto:20250520T150000
DTSTAMP:20260422T173356
CREATED:20250512T174205Z
LAST-MODIFIED:20250512T174205Z
UID:10003236-1747747800-1747753200@clubdetirsaint-tite.ca
SUMMARY:OFFICIEL 101449
DESCRIPTION:OFFICIEL
URL:https://clubdetirsaint-tite.ca/event/officiel-101449-2/
LOCATION:Club de Tir Saint-Tite\, 35 QC-153\, Saint-Tite\, Quebec\, G0X 3H0\, Canada
END:VEVENT
BEGIN:VEVENT
DTSTART;TZID=America/Toronto:20250520T130000
DTEND;TZID=America/Toronto:20250520T150000
DTSTAMP:20260422T173356
CREATED:20250518T131602Z
LAST-MODIFIED:20250520T010404Z
UID:10003244-1747746000-1747753200@clubdetirsaint-tite.ca
SUMMARY:Officiel 100617
DESCRIPTION:Officiel #100617
URL:https://clubdetirsaint-tite.ca/event/officiel-100617-2/
LOCATION:Club de Tir Saint-Tite\, 35 QC-153\, Saint-Tite\, Quebec\, G0X 3H0\, Canada
END:VEVENT
BEGIN:VEVENT
DTSTART;TZID=America/Toronto:20250520T103000
DTEND;TZID=America/Toronto:20250520T120000
DTSTAMP:20260422T173356
CREATED:20250518T124406Z
LAST-MODIFIED:20250518T124406Z
UID:10003243-1747737000-1747742400@clubdetirsaint-tite.ca
SUMMARY:OFFICIEL 101041
DESCRIPTION:OFFICIEL
URL:https://clubdetirsaint-tite.ca/event/officiel-101041/
LOCATION:Club de Tir Saint-Tite\, 35 QC-153\, Saint-Tite\, Quebec\, G0X 3H0\, Canada
END:VEVENT
BEGIN:VEVENT
DTSTART;TZID=America/Toronto:20250520T090000
DTEND;TZID=America/Toronto:20250520T103000
DTSTAMP:20260422T173356
CREATED:20250518T124230Z
LAST-MODIFIED:20250518T124230Z
UID:10003242-1747731600-1747737000@clubdetirsaint-tite.ca
SUMMARY:OFFICIEL 101040
DESCRIPTION:OFFICIEL
URL:https://clubdetirsaint-tite.ca/event/officiel-101040/
LOCATION:Club de Tir Saint-Tite\, 35 QC-153\, Saint-Tite\, Quebec\, G0X 3H0\, Canada
END:VEVENT
BEGIN:VEVENT
DTSTART;TZID=America/Toronto:20250519T143000
DTEND;TZID=America/Toronto:20250519T160000
DTSTAMP:20260422T173356
CREATED:20250401T220311Z
LAST-MODIFIED:20250413T163853Z
UID:10002933-1747665000-1747670400@clubdetirsaint-tite.ca
SUMMARY:OFFICIEL
DESCRIPTION:tir libre \nand-jas
URL:https://clubdetirsaint-tite.ca/event/officiel-70/
LOCATION:Club de Tir Saint-Tite\, 35 QC-153\, Saint-Tite\, Quebec\, G0X 3H0\, Canada
END:VEVENT
BEGIN:VEVENT
DTSTART;TZID=America/Toronto:20250519T130000
DTEND;TZID=America/Toronto:20250519T143000
DTSTAMP:20260422T173356
CREATED:20250318T205533Z
LAST-MODIFIED:20250318T205533Z
UID:10002762-1747659600-1747665000@clubdetirsaint-tite.ca
SUMMARY:Officiel 102351
DESCRIPTION:Officier 102351
URL:https://clubdetirsaint-tite.ca/event/officiel-102351-2/
LOCATION:Club de Tir Saint-Tite\, 35 QC-153\, Saint-Tite\, Quebec\, G0X 3H0\, Canada
END:VEVENT
BEGIN:VEVENT
DTSTART;TZID=America/Toronto:20250519T093000
DTEND;TZID=America/Toronto:20250519T110000
DTSTAMP:20260422T173356
CREATED:20250512T132730Z
LAST-MODIFIED:20250512T132730Z
UID:10003235-1747647000-1747652400@clubdetirsaint-tite.ca
SUMMARY:OFFICIEL 100392
DESCRIPTION:OFFICIEL
URL:https://clubdetirsaint-tite.ca/event/officiel-100392-2/
LOCATION:Club de Tir Saint-Tite\, 35 QC-153\, Saint-Tite\, Quebec\, G0X 3H0\, Canada
END:VEVENT
BEGIN:VEVENT
DTSTART;TZID=America/Toronto:20250518T100000
DTEND;TZID=America/Toronto:20250518T110000
DTSTAMP:20260422T173356
CREATED:20250503T122245Z
LAST-MODIFIED:20250503T122245Z
UID:10003156-1747562400-1747566000@clubdetirsaint-tite.ca
SUMMARY:Session accueil
DESCRIPTION:Session accueil
URL:https://clubdetirsaint-tite.ca/event/session-accueil-4/
LOCATION:Club de Tir Saint-Tite\, 35 QC-153\, Saint-Tite\, Quebec\, G0X 3H0\, Canada
END:VEVENT
BEGIN:VEVENT
DTSTART;TZID=America/Toronto:20250517T100000
DTEND;TZID=America/Toronto:20250517T110000
DTSTAMP:20260422T173356
CREATED:20250502T113520Z
LAST-MODIFIED:20250502T113520Z
UID:10003117-1747476000-1747479600@clubdetirsaint-tite.ca
SUMMARY:Aucune accueil aujourd’hui
DESCRIPTION:Aucun accueil aujourd’hui
URL:https://clubdetirsaint-tite.ca/event/aucune-accueil-aujourdhui/
LOCATION:Club de Tir Saint-Tite\, 35 QC-153\, Saint-Tite\, Quebec\, G0X 3H0\, Canada
END:VEVENT
BEGIN:VEVENT
DTSTART;VALUE=DATE:20250517
DTEND;VALUE=DATE:20250518
DTSTAMP:20260422T173356
CREATED:20250127T103953Z
LAST-MODIFIED:20250127T103953Z
UID:10002700-1747440000-1747526399@clubdetirsaint-tite.ca
SUMMARY:Compétition pPC
DESCRIPTION:compétition PPC au 50 v \n25 V reste disponible
URL:https://clubdetirsaint-tite.ca/event/competition-ppc-4/
LOCATION:Club de Tir Saint-Tite\, 35 QC-153\, Saint-Tite\, Quebec\, G0X 3H0\, Canada
END:VEVENT
BEGIN:VEVENT
DTSTART;VALUE=DATE:20250517
DTEND;VALUE=DATE:20250518
DTSTAMP:20260422T173356
CREATED:20241204T171022Z
LAST-MODIFIED:20241204T171022Z
UID:10002632-1747440000-1747526399@clubdetirsaint-tite.ca
SUMMARY:Match PPC
DESCRIPTION:PPC au 50 verges\, fermé au tir libre \nle 25 verges demeure libre
URL:https://clubdetirsaint-tite.ca/event/match-ppc/
LOCATION:Club de Tir Saint-Tite\, 35 QC-153\, Saint-Tite\, Quebec\, G0X 3H0\, Canada
END:VEVENT
BEGIN:VEVENT
DTSTART;TZID=America/Toronto:20250516T090000
DTEND;TZID=America/Toronto:20250516T110000
DTSTAMP:20260422T173356
CREATED:20250515T121712Z
LAST-MODIFIED:20250515T121712Z
UID:10003240-1747386000-1747393200@clubdetirsaint-tite.ca
SUMMARY:OFFICIEL100436
DESCRIPTION:OFFICIEL
URL:https://clubdetirsaint-tite.ca/event/officiel100436-2/
LOCATION:Club de Tir Saint-Tite\, 35 QC-153\, Saint-Tite\, Quebec\, G0X 3H0\, Canada
END:VEVENT
BEGIN:VEVENT
DTSTART;TZID=America/Toronto:20250515T080000
DTEND;TZID=America/Toronto:20250515T170000
DTSTAMP:20260422T173356
CREATED:20250512T104453Z
LAST-MODIFIED:20250512T104453Z
UID:10003233-1747296000-1747328400@clubdetirsaint-tite.ca
SUMMARY:50 verges fermé pour travaux
DESCRIPTION:50 verges fermé pour travaux
URL:https://clubdetirsaint-tite.ca/event/50-verges-ferme-pour-travaux/
LOCATION:Club de Tir Saint-Tite\, 35 QC-153\, Saint-Tite\, Quebec\, G0X 3H0\, Canada
END:VEVENT
BEGIN:VEVENT
DTSTART;TZID=America/Toronto:20250514T180000
DTEND;TZID=America/Toronto:20250514T190000
DTSTAMP:20260422T173356
CREATED:20250503T122403Z
LAST-MODIFIED:20250503T122403Z
UID:10003158-1747245600-1747249200@clubdetirsaint-tite.ca
SUMMARY:Session accueil
DESCRIPTION:Session accueil
URL:https://clubdetirsaint-tite.ca/event/session-accueil-6/
LOCATION:Club de Tir Saint-Tite\, 35 QC-153\, Saint-Tite\, Quebec\, G0X 3H0\, Canada
END:VEVENT
BEGIN:VEVENT
DTSTART;TZID=America/Toronto:20250514T130000
DTEND;TZID=America/Toronto:20250514T160000
DTSTAMP:20260422T173356
CREATED:20250401T220232Z
LAST-MODIFIED:20250401T220232Z
UID:10002932-1747227600-1747238400@clubdetirsaint-tite.ca
SUMMARY:OFFICIEL
DESCRIPTION:tir libre \nand-jas
URL:https://clubdetirsaint-tite.ca/event/officiel-69/
LOCATION:Club de Tir Saint-Tite\, 35 QC-153\, Saint-Tite\, Quebec\, G0X 3H0\, Canada
END:VEVENT
BEGIN:VEVENT
DTSTART;TZID=America/Toronto:20250514T080000
DTEND;TZID=America/Toronto:20250514T110000
DTSTAMP:20260422T173356
CREATED:20250512T114021Z
LAST-MODIFIED:20250512T114021Z
UID:10003234-1747209600-1747220400@clubdetirsaint-tite.ca
SUMMARY:officiel 102147
DESCRIPTION:officiel 102147
URL:https://clubdetirsaint-tite.ca/event/officiel-102147/
LOCATION:Club de Tir Saint-Tite\, 35 QC-153\, Saint-Tite\, Quebec\, G0X 3H0\, Canada
END:VEVENT
BEGIN:VEVENT
DTSTART;TZID=America/Toronto:20250513T180000
DTEND;TZID=America/Toronto:20250513T210000
DTSTAMP:20260422T173356
CREATED:20250513T101722Z
LAST-MODIFIED:20250513T101722Z
UID:10003237-1747159200-1747170000@clubdetirsaint-tite.ca
SUMMARY:Pratique IPSC
DESCRIPTION:Bonjour \nLa pratique hebdomadaire IPSC du jeudi soir \nPrérequis Black Badge et expériences de compétition
URL:https://clubdetirsaint-tite.ca/event/pratique-ipsc/2025-05-13/
LOCATION:Club de Tir Saint-Tite\, 35 QC-153\, Saint-Tite\, Quebec\, G0X 3H0\, Canada
END:VEVENT
BEGIN:VEVENT
DTSTART;TZID=America/Toronto:20250512T130000
DTEND;TZID=America/Toronto:20250512T160000
DTSTAMP:20260422T173356
CREATED:20250401T220158Z
LAST-MODIFIED:20250401T220158Z
UID:10002931-1747054800-1747065600@clubdetirsaint-tite.ca
SUMMARY:OFFICIEL
DESCRIPTION:tir libre \nand-jas
URL:https://clubdetirsaint-tite.ca/event/officiel-68/
LOCATION:Club de Tir Saint-Tite\, 35 QC-153\, Saint-Tite\, Quebec\, G0X 3H0\, Canada
END:VEVENT
BEGIN:VEVENT
DTSTART;TZID=America/Toronto:20250512T083000
DTEND;TZID=America/Toronto:20250512T100000
DTSTAMP:20260422T173356
CREATED:20250508T143248Z
LAST-MODIFIED:20250508T143248Z
UID:10003167-1747038600-1747044000@clubdetirsaint-tite.ca
SUMMARY:OFFICIEL 100392
DESCRIPTION:OFFICIEL
URL:https://clubdetirsaint-tite.ca/event/officiel-100392/
LOCATION:Club de Tir Saint-Tite\, 35 QC-153\, Saint-Tite\, Quebec\, G0X 3H0\, Canada
END:VEVENT
BEGIN:VEVENT
DTSTART;TZID=America/Toronto:20250511T101500
DTEND;TZID=America/Toronto:20250511T114500
DTSTAMP:20260422T173356
CREATED:20250508T184700Z
LAST-MODIFIED:20250508T184700Z
UID:10003168-1746958500-1746963900@clubdetirsaint-tite.ca
SUMMARY:Officiel 102530
DESCRIPTION:Officiel 102530
URL:https://clubdetirsaint-tite.ca/event/officiel-102530/
LOCATION:Club de Tir Saint-Tite\, 35 QC-153\, Saint-Tite\, Quebec\, G0X 3H0\, Canada
END:VEVENT
BEGIN:VEVENT
DTSTART;TZID=America/Toronto:20250510T100000
DTEND;TZID=America/Toronto:20250510T110000
DTSTAMP:20260422T173356
CREATED:20250502T112357Z
LAST-MODIFIED:20250502T112357Z
UID:10003116-1746871200-1746874800@clubdetirsaint-tite.ca
SUMMARY:Session accueil
DESCRIPTION:session accueil
URL:https://clubdetirsaint-tite.ca/event/session-accueil-3/
LOCATION:Club de Tir Saint-Tite\, 35 QC-153\, Saint-Tite\, Quebec\, G0X 3H0\, Canada
END:VEVENT
BEGIN:VEVENT
DTSTART;TZID=America/Toronto:20250509T120000
DTEND;TZID=America/Toronto:20250509T170000
DTSTAMP:20260422T173356
CREATED:20250426T194911Z
LAST-MODIFIED:20250426T194911Z
UID:10003073-1746792000-1746810000@clubdetirsaint-tite.ca
SUMMARY:50 verges fermé travaux
DESCRIPTION:50 verges fermé pour travaux
URL:https://clubdetirsaint-tite.ca/event/50-verges-ferme-travaux-2/
LOCATION:Club de Tir Saint-Tite\, 35 QC-153\, Saint-Tite\, Quebec\, G0X 3H0\, Canada
END:VEVENT
BEGIN:VEVENT
DTSTART;TZID=America/Toronto:20250509T080000
DTEND;TZID=America/Toronto:20250509T093000
DTSTAMP:20260422T173356
CREATED:20250430T211545Z
LAST-MODIFIED:20250430T211545Z
UID:10003076-1746777600-1746783000@clubdetirsaint-tite.ca
SUMMARY:OFFICIEL 101600
DESCRIPTION:OFFICIEL 101600
URL:https://clubdetirsaint-tite.ca/event/officiel-101600/
LOCATION:Club de Tir Saint-Tite\, 35 QC-153\, Saint-Tite\, Quebec\, G0X 3H0\, Canada
END:VEVENT
BEGIN:VEVENT
DTSTART;TZID=America/Toronto:20250508T100000
DTEND;TZID=America/Toronto:20250508T170000
DTSTAMP:20260422T173356
CREATED:20250426T195033Z
LAST-MODIFIED:20250426T195033Z
UID:10003074-1746698400-1746723600@clubdetirsaint-tite.ca
SUMMARY:50 verges fermé travaux
DESCRIPTION:50 verges fermé pour travaux
URL:https://clubdetirsaint-tite.ca/event/50-verges-ferme-travaux-3/
LOCATION:Club de Tir Saint-Tite\, 35 QC-153\, Saint-Tite\, Quebec\, G0X 3H0\, Canada
END:VEVENT
BEGIN:VEVENT
DTSTART;TZID=America/Toronto:20250507T180000
DTEND;TZID=America/Toronto:20250507T190000
DTSTAMP:20260422T173356
CREATED:20250503T122327Z
LAST-MODIFIED:20250503T122327Z
UID:10003157-1746640800-1746644400@clubdetirsaint-tite.ca
SUMMARY:Session accueil
DESCRIPTION:Session accueil
URL:https://clubdetirsaint-tite.ca/event/session-accueil-5/
LOCATION:Club de Tir Saint-Tite\, 35 QC-153\, Saint-Tite\, Quebec\, G0X 3H0\, Canada
END:VEVENT
BEGIN:VEVENT
DTSTART;TZID=America/Toronto:20250507T130000
DTEND;TZID=America/Toronto:20250507T160000
DTSTAMP:20260422T173356
CREATED:20250401T220131Z
LAST-MODIFIED:20250401T220131Z
UID:10002930-1746622800-1746633600@clubdetirsaint-tite.ca
SUMMARY:OFFICIEL
DESCRIPTION:tir libre \nand-jas
URL:https://clubdetirsaint-tite.ca/event/officiel-67/
LOCATION:Club de Tir Saint-Tite\, 35 QC-153\, Saint-Tite\, Quebec\, G0X 3H0\, Canada
END:VEVENT
BEGIN:VEVENT
DTSTART;TZID=America/Toronto:20250507T100000
DTEND;TZID=America/Toronto:20250507T120000
DTSTAMP:20260422T173356
CREATED:20250504T163327Z
LAST-MODIFIED:20250504T163327Z
UID:10003162-1746612000-1746619200@clubdetirsaint-tite.ca
SUMMARY:OFFICIEL 100109
DESCRIPTION:OFFICIEL DE TIR
URL:https://clubdetirsaint-tite.ca/event/officiel-100109/
LOCATION:Club de Tir Saint-Tite\, 35 QC-153\, Saint-Tite\, Quebec\, G0X 3H0\, Canada
END:VEVENT
BEGIN:VEVENT
DTSTART;TZID=America/Toronto:20250506T080000
DTEND;TZID=America/Toronto:20250506T093000
DTSTAMP:20260422T173356
CREATED:20250505T155952Z
LAST-MODIFIED:20250505T155952Z
UID:10003166-1746518400-1746523800@clubdetirsaint-tite.ca
SUMMARY:OFFICIEL 100101
DESCRIPTION:OFFICIEL
URL:https://clubdetirsaint-tite.ca/event/officiel-100101/
LOCATION:Club de Tir Saint-Tite\, 35 QC-153\, Saint-Tite\, Quebec\, G0X 3H0\, Canada
END:VEVENT
BEGIN:VEVENT
DTSTART;TZID=America/Toronto:20250505T183000
DTEND;TZID=America/Toronto:20250505T200000
DTSTAMP:20260422T173356
CREATED:20250504T163349Z
LAST-MODIFIED:20250504T163349Z
UID:10003163-1746469800-1746475200@clubdetirsaint-tite.ca
SUMMARY:OFFICIEL #0979R1
DESCRIPTION:OFFICIEL
URL:https://clubdetirsaint-tite.ca/event/officiel-0979r1-2/
LOCATION:Club de Tir Saint-Tite\, 35 QC-153\, Saint-Tite\, Quebec\, G0X 3H0\, Canada
END:VEVENT
BEGIN:VEVENT
DTSTART;TZID=America/Toronto:20250505T180000
DTEND;TZID=America/Toronto:20250505T200000
DTSTAMP:20260422T173356
CREATED:20250504T231518Z
LAST-MODIFIED:20250504T231518Z
UID:10003165-1746468000-1746475200@clubdetirsaint-tite.ca
SUMMARY:OFFICIEL 100011
DESCRIPTION: 
URL:https://clubdetirsaint-tite.ca/event/officiel-100011/
LOCATION:Club de Tir Saint-Tite\, 35 QC-153\, Saint-Tite\, Quebec\, G0X 3H0\, Canada
END:VEVENT
END:VCALENDAR